{"text_format":"1","workbook":"xlsx","n_sheets":8,"sheets":["償却資産入力","計算用シート","申告書（提出用）","申告書（控用）","増加資産・全資産用（提出用）","増加資産・全資産用（控用）","減少資産用（提出用）","減少資産用（控用）"],"not_rendered":{"charts":0,"images":1,"macros":1,"external_links":0,"defined_names":3,"comments":0,"pivot_tables":0},"unopened":[],"bounds":{"document_bytes":16777216,"sheet_cells":100000,"rows_first":2000,"rows_last":500,"rows_between":2000,"halvings":0,"cell_chars":16384,"cell_head_chars":4096},"cells_cut":0,"cells_raw":0,"read":"whole","date_system":"1900"}

{"sheet":"償却資産入力","index":0,"n_rows":38,"n_cols":103,"rows_kept":38,"cut":false,"hidden":false,"merged":[]}
[null,null,"賦課期日","2024-01-01",{"$f":"D1","v":"2024-01-01"},{"$f":"MATCH(E1,N4:BI4,0)","v":46},"取得最小年月"]
[null,null,null,"↑クリアしたら必ず入力",null,null,{"$f":"MIN(G5:G34)","v":"1978-01-01"}]
[null,null,null,"（例）令和6年度申告の場合：2024/1/1"]
[null,"行番号","資産の種類","資産コード","資産の名称等","数量","取得年月","年号","前年","取得価額","耐用年数","減価率","減価率/2",{"$f":"DATE(YEAR(G2)+1,1,1)","v":"1979-01-01"},{"$f":"EDATE(N4,12)","v":"1980-01-01"},{"$f":"EDATE(O4,12)","v":"1981-01-01"},"1982-01-01","1983-01-01","1984-01-01","1985-01-01","1986-01-01","1987-01-01","1988-01-01","1989-01-01","1990-01-01","1991-01-01","1992-01-01","1993-01-01","1994-01-01","1995-01-01","1996-01-01","1997-01-01","1998-01-01",{"$f":"EDATE(AG4,12)","v":"1999-01-01"},{"$f":"EDATE(AH4,12)","v":"2000-01-01"},{"$f":"EDATE(AI4,12)","v":"2001-01-01"},{"$f":"EDATE(AJ4,12)","v":"2002-01-01"},{"$f":"EDATE(AK4,12)","v":"2003-01-01"},{"$f":"EDATE(AL4,12)","v":"2004-01-01"},{"$f":"EDATE(AM4,12)","v":"2005-01-01"},{"$f":"EDATE(AN4,12)","v":"2006-01-01"},{"$f":"EDATE(AO4,12)","v":"2007-01-01"},{"$f":"EDATE(AP4,12)","v":"2008-01-01"},{"$f":"EDATE(AQ4,12)","v":"2009-01-01"},{"$f":"EDATE(AR4,12)","v":"2010-01-01"},{"$f":"EDATE(AS4,12)","v":"2011-01-01"},{"$f":"EDATE(AT4,12)","v":"2012-01-01"},{"$f":"EDATE(AU4,12)","v":"2013-01-01"},{"$f":"EDATE(AV4,12)","v":"2014-01-01"},{"$f":"EDATE(AW4,12)","v":"2015-01-01"},{"$f":"EDATE(AX4,12)","v":"2016-01-01"},{"$f":"EDATE(AY4,12)","v":"2017-01-01"},{"$f":"EDATE(AZ4,12)","v":"2018-01-01"},{"$f":"EDATE(BA4,12)","v":"2019-01-01"},{"$f":"EDATE(BB4,12)","v":"2020-01-01"},{"$f":"EDATE(BC4,12)","v":"2021-01-01"},{"$f":"EDATE(BD4,12)","v":"2022-01-01"},{"$f":"EDATE(BE4,12)","v":"2023-01-01"},{"$f":"EDATE(BF4,12)","v":"2024-01-01"},{"$f":"EDATE(BG4,12)","v":"2025-01-01"},{"$f":"EDATE(BH4,12)","v":"2026-01-01"},{"$f":"EDATE(BI4,12)","v":"2027-01-01"},{"$f":"EDATE(BJ4,12)","v":"2028-01-01"},{"$f":"EDATE(BK4,12)","v":"2029-01-01"},{"$f":"EDATE(BL4,12)","v":"2030-01-01"},{"$f":"EDATE(BM4,12)","v":"2031-01-01"},{"$f":"EDATE(BN4,12)","v":"2032-01-01"},{"$f":"EDATE(BO4,12)","v":"2033-01-01"},{"$f":"EDATE(BP4,12)","v":"2034-01-01"},{"$f":"EDATE(BQ4,12)","v":"2035-01-01"},{"$f":"EDATE(BR4,12)","v":"2036-01-01"},{"$f":"EDATE(BS4,12)","v":"2037-01-01"},{"$f":"EDATE(BT4,12)","v":"2038-01-01"},{"$f":"EDATE(BU4,12)","v":"2039-01-01"},{"$f":"EDATE(BV4,12)","v":"2040-01-01"},{"$f":"EDATE(BW4,12)","v":"2041-01-01"},{"$f":"EDATE(BX4,12)","v":"2042-01-01"},{"$f":"EDATE(BY4,12)","v":"2043-01-01"},{"$f":"EDATE(BZ4,12)","v":"2044-01-01"},{"$f":"EDATE(CA4,12)","v":"2045-01-01"},{"$f":"EDATE(CB4,12)","v":"2046-01-01"},{"$f":"EDATE(CC4,12)","v":"2047-01-01"},{"$f":"EDATE(CD4,12)","v":"2048-01-01"},{"$f":"EDATE(CE4,12)","v":"2049-01-01"},{"$f":"EDATE(CF4,12)","v":"2050-01-01"},{"$f":"EDATE(CG4,12)","v":"2051-01-01"},{"$f":"EDATE(CH4,12)","v":"2052-01-01"},{"$f":"EDATE(CI4,12)","v":"2053-01-01"},{"$f":"EDATE(CJ4,12)","v":"2054-01-01"},{"$f":"EDATE(CK4,12)","v":"2055-01-01"},{"$f":"EDATE(CL4,12)","v":"2056-01-01"},{"$f":"EDATE(CM4,12)","v":"2057-01-01"},{"$f":"EDATE(CN4,12)","v":"2058-01-01"},{"$f":"EDATE(CO4,12)","v":"2059-01-01"},{"$f":"EDATE(CP4,12)","v":"2060-01-01"},{"$f":"EDATE(CQ4,12)","v":"2061-01-01"},{"$f":"EDATE(CR4,12)","v":"2062-01-01"},{"$f":"EDATE(CS4,12)","v":"2063-01-01"},{"$f":"EDATE(CT4,12)","v":"2064-01-01"},{"$f":"EDATE(CU4,12)","v":"2065-01-01"},{"$f":"EDATE(CV4,12)","v":"2066-01-01"},{"$f":"EDATE(CW4,12)","v":"2067-01-01"},{"$f":"EDATE(CX4,12)","v":"2068-01-01"}]
[null,1,6,null,"格納庫",1,"1978-01-01",{"$f":"IF(G5=\"\",\"\",Nengo(G5))","v":3},{"$f":"IF(G5>DATE(YEAR($D$1)-1,1,1),1,0)","v":0},3100000,10,{"$f":"ROUND(1-(1/10)^(1/K5),3)","v":0.20599999999999999},{"$f":"ROUND(L5/2,3)","v":0.10299999999999999},{"$f":"IF(J5=\"\",\"\",IF(N$4<$G5,\"\",ROUNDDOWN($J5*(1-$M5),0)))","v":2780700},{"$f":"IF($J5=\"\",\"\",IF(N5=\"\",IF(O$4<$G5,\"\",ROUNDDOWN($J5*(1-$M5),0)),IF(ROUNDDOWN(N5*(1-$L5),0)<$J5*5%,$J5*5%,ROUNDDOWN(N5*(1-$L5),0))))","v":2207875},{"$f":"IF($J5=\"\",\"\",IF(O5=\"\",IF(P$4<$G5,\"\",ROUNDDOWN($J5*(1-$M5),0)),IF(ROUNDDOWN(O5*(1-$L5),0)<$J5*5%,$J5*5%,ROUNDDOWN(O5*(1-$L5),0))))","v":1753052},1391923,1105186,877517,696748,553217,439254,348767,276920,219874,174579,155000,155000,155000,155000,155000,155000,155000,{"$f":"IF($J5=\"\",\"\",IF(AG5=\"\",IF(AH$4<$G5,\"\",ROUNDDOWN($J5*(1-$M5),0)),IF(ROUNDDOWN(AG5*(1-$L5),0)<$J5*5%,$J5*5%,ROUNDDOWN(AG5*(1-$L5),0))))","v":155000},{"$f":"IF($J5=\"\",\"\",IF(AH5=\"\",IF(AI$4<$G5,\"\",ROUNDDOWN($J5*(1-$M5),0)),IF(ROUNDDOWN(AH5*(1-$L5),0)<$J5*5%,$J5*5%,ROUNDDOWN(AH5*(1-$L5),0))))","v":155000},{"$f":"IF($J5=\"\",\"\",IF(AI5=\"\",IF(AJ$4<$G5,\"\",ROUNDDOWN($J5*(1-$M5),0)),IF(ROUNDDOWN(AI5*(1-$L5),0)<$J5*5%,$J5*5%,ROUNDDOWN(AI5*(1-$L5),0))))","v":155000},{"$f":"IF($J5=\"\",\"\",IF(AJ5=\"\",IF(AK$4<$G5,\"\",ROUNDDOWN($J5*(1-$M5),0)),IF(ROUNDDOWN(AJ5*(1-$L5),0)<$J5*5%,$J5*5%,ROUNDDOWN(AJ5*(1-$L5),0))))","v":155000},{"$f":"IF($J5=\"\",\"\",IF(AK5=\"\",IF(AL$4<$G5,\"\",ROUNDDOWN($J5*(1-$M5),0)),IF(ROUNDDOWN(AK5*(1-$L5),0)<$J5*5%,$J5*5%,ROUNDDOWN(AK5*(1-$L5),0))))","v":155000},{"$f":"IF($J5=\"\",\"\",IF(AL5=\"\",IF(AM$4<$G5,\"\",ROUNDDOWN($J5*(1-$M5),0)),IF(ROUNDDOWN(AL5*(1-$L5),0)<$J5*5%,$J5*5%,ROUNDDOWN(AL5*(1-$L5),0))))","v":155000},{"$f":"IF($J5=\"\",\"\",IF(AM5=\"\",IF(AN$4<$G5,\"\",ROUNDDOWN($J5*(1-$M5),0)),IF(ROUNDDOWN(AM5*(1-$L5),0)<$J5*5%,$J5*5%,ROUNDDOWN(AM5*(1-$L5),0))))","v":155000},{"$f":"IF($J5=\"\",\"\",IF(AN5=\"\",IF(AO$4<$G5,\"\",ROUNDDOWN($J5*(1-$M5),0)),IF(ROUNDDOWN(AN5*(1-$L5),0)<$J5*5%,$J5*5%,ROUNDDOWN(AN5*(1-$L5),0))))","v":155000},{"$f":"IF($J5=\"\",\"\",IF(AO5=\"\",IF(AP$4<$G5,\"\",ROUNDDOWN($J5*(1-$M5),0)),IF(ROUNDDOWN(AO5*(1-$L5),0)<$J5*5%,$J5*5%,ROUNDDOWN(AO5*(1-$L5),0))))","v":155000},{"$f":"IF($J5=\"\",\"\",IF(AP5=\"\",IF(AQ$4<$G5,\"\",ROUNDDOWN($J5*(1-$M5),0)),IF(ROUNDDOWN(AP5*(1-$L5),0)<$J5*5%,$J5*5%,ROUNDDOWN(AP5*(1-$L5),0))))","v":155000},{"$f":"IF($J5=\"\",\"\",IF(AQ5=\"\",IF(AR$4<$G5,\"\",ROUNDDOWN($J5*(1-$M5),0)),IF(ROUNDDOWN(AQ5*(1-$L5),0)<$J5*5%,$J5*5%,ROUNDDOWN(AQ5*(1-$L5),0))))","v":155000},{"$f":"IF($J5=\"\",\"\",IF(AR5=\"\",IF(AS$4<$G5,\"\",ROUNDDOWN($J5*(1-$M5),0)),IF(ROUNDDOWN(AR5*(1-$L5),0)<$J5*5%,$J5*5%,ROUNDDOWN(AR5*(1-$L5),0))))","v":155000},{"$f":"IF($J5=\"\",\"\",IF(AS5=\"\",IF(AT$4<$G5,\"\",ROUNDDOWN($J5*(1-$M5),0)),IF(ROUNDDOWN(AS5*(1-$L5),0)<$J5*5%,$J5*5%,ROUNDDOWN(AS5*(1-$L5),0))))","v":155000},{"$f":"IF($J5=\"\",\"\",IF(AT5=\"\",IF(AU$4<$G5,\"\",ROUNDDOWN($J5*(1-$M5),0)),IF(ROUNDDOWN(AT5*(1-$L5),0)<$J5*5%,$J5*5%,ROUNDDOWN(AT5*(1-$L5),0))))","v":155000},{"$f":"IF($J5=\"\",\"\",IF(AU5=\"\",IF(AV$4<$G5,\"\",ROUNDDOWN($J5*(1-$M5),0)),IF(ROUNDDOWN(AU5*(1-$L5),0)<$J5*5%,$J5*5%,ROUNDDOWN(AU5*(1-$L5),0))))","v":155000},{"$f":"IF($J5=\"\",\"\",IF(AV5=\"\",IF(AW$4<$G5,\"\",ROUNDDOWN($J5*(1-$M5),0)),IF(ROUNDDOWN(AV5*(1-$L5),0)<$J5*5%,$J5*5%,ROUNDDOWN(AV5*(1-$L5),0))))","v":155000},{"$f":"IF($J5=\"\",\"\",IF(AW5=\"\",IF(AX$4<$G5,\"\",ROUNDDOWN($J5*(1-$M5),0)),IF(ROUNDDOWN(AW5*(1-$L5),0)<$J5*5%,$J5*5%,ROUNDDOWN(AW5*(1-$L5),0))))","v":155000},{"$f":"IF($J5=\"\",\"\",IF(AX5=\"\",IF(AY$4<$G5,\"\",ROUNDDOWN($J5*(1-$M5),0)),IF(ROUNDDOWN(AX5*(1-$L5),0)<$J5*5%,$J5*5%,ROUNDDOWN(AX5*(1-$L5),0))))","v":155000},{"$f":"IF($J5=\"\",\"\",IF(AY5=\"\",IF(AZ$4<$G5,\"\",ROUNDDOWN($J5*(1-$M5),0)),IF(ROUNDDOWN(AY5*(1-$L5),0)<$J5*5%,$J5*5%,ROUNDDOWN(AY5*(1-$L5),0))))","v":155000},{"$f":"IF($J5=\"\",\"\",IF(AZ5=\"\",IF(BA$4<$G5,\"\",ROUNDDOWN($J5*(1-$M5),0)),IF(ROUNDDOWN(AZ5*(1-$L5),0)<$J5*5%,$J5*5%,ROUNDDOWN(AZ5*(1-$L5),0))))","v":155000},{"$f":"IF($J5=\"\",\"\",IF(BA5=\"\",IF(BB$4<$G5,\"\",ROUNDDOWN($J5*(1-$M5),0)),IF(ROUNDDOWN(BA5*(1-$L5),0)<$J5*5%,$J5*5%,ROUNDDOWN(BA5*(1-$L5),0))))","v":155000},{"$f":"IF($J5=\"\",\"\",IF(BB5=\"\",IF(BC$4<$G5,\"\",ROUNDDOWN($J5*(1-$M5),0)),IF(ROUNDDOWN(BB5*(1-$L5),0)<$J5*5%,$J5*5%,ROUNDDOWN(BB5*(1-$L5),0))))","v":155000},{"$f":"IF($J5=\"\",\"\",IF(BC5=\"\",IF(BD$4<$G5,\"\",ROUNDDOWN($J5*(1-$M5),0)),IF(ROUNDDOWN(BC5*(1-$L5),0)<$J5*5%,$J5*5%,ROUNDDOWN(BC5*(1-$L5),0))))","v":155000},{"$f":"IF($J5=\"\",\"\",IF(BD5=\"\",IF(BE$4<$G5,\"\",ROUNDDOWN($J5*(1-$M5),0)),IF(ROUNDDOWN(BD5*(1-$L5),0)<$J5*5%,$J5*5%,ROUNDDOWN(BD5*(1-$L5),0))))","v":155000},{"$f":"IF($J5=\"\",\"\",IF(BE5=\"\",IF(BF$4<$G5,\"\",ROUNDDOWN($J5*(1-$M5),0)),IF(ROUNDDOWN(BE5*(1-$L5),0)<$J5*5%,$J5*5%,ROUNDDOWN(BE5*(1-$L5),0))))","v":155000},{"$f":"IF($J5=\"\",\"\",IF(BF5=\"\",IF(BG$4<$G5,\"\",ROUNDDOWN($J5*(1-$M5),0)),IF(ROUNDDOWN(BF5*(1-$L5),0)<$J5*5%,$J5*5%,ROUNDDOWN(BF5*(1-$L5),0))))","v":155000},{"$f":"IF($J5=\"\",\"\",IF(BG5=\"\",IF(BH$4<$G5,\"\",ROUNDDOWN($J5*(1-$M5),0)),IF(ROUNDDOWN(BG5*(1-$L5),0)<$J5*5%,$J5*5%,ROUNDDOWN(BG5*(1-$L5),0))))","v":155000},{"$f":"IF($J5=\"\",\"\",IF(BH5=\"\",IF(BI$4<$G5,\"\",ROUNDDOWN($J5*(1-$M5),0)),IF(ROUNDDOWN(BH5*(1-$L5),0)<$J5*5%,$J5*5%,ROUNDDOWN(BH5*(1-$L5),0))))","v":155000},{"$f":"IF($J5=\"\",\"\",IF(BI5=\"\",IF(BJ$4<$G5,\"\",ROUNDDOWN($J5*(1-$M5),0)),IF(ROUNDDOWN(BI5*(1-$L5),0)<$J5*5%,$J5*5%,ROUNDDOWN(BI5*(1-$L5),0))))","v":155000},{"$f":"IF($J5=\"\",\"\",IF(BJ5=\"\",IF(BK$4<$G5,\"\",ROUNDDOWN($J5*(1-$M5),0)),IF(ROUNDDOWN(BJ5*(1-$L5),0)<$J5*5%,$J5*5%,ROUNDDOWN(BJ5*(1-$L5),0))))","v":155000},{"$f":"IF($J5=\"\",\"\",IF(BK5=\"\",IF(BL$4<$G5,\"\",ROUNDDOWN($J5*(1-$M5),0)),IF(ROUNDDOWN(BK5*(1-$L5),0)<$J5*5%,$J5*5%,ROUNDDOWN(BK5*(1-$L5),0))))","v":155000},{"$f":"IF($J5=\"\",\"\",IF(BL5=\"\",IF(BM$4<$G5,\"\",ROUNDDOWN($J5*(1-$M5),0)),IF(ROUNDDOWN(BL5*(1-$L5),0)<$J5*5%,$J5*5%,ROUNDDOWN(BL5*(1-$L5),0))))","v":155000},{"$f":"IF($J5=\"\",\"\",IF(BM5=\"\",IF(BN$4<$G5,\"\",ROUNDDOWN($J5*(1-$M5),0)),IF(ROUNDDOWN(BM5*(1-$L5),0)<$J5*5%,$J5*5%,ROUNDDOWN(BM5*(1-$L5),0))))","v":155000},{"$f":"IF($J5=\"\",\"\",IF(BN5=\"\",IF(BO$4<$G5,\"\",ROUNDDOWN($J5*(1-$M5),0)),IF(ROUNDDOWN(BN5*(1-$L5),0)<$J5*5%,$J5*5%,ROUNDDOWN(BN5*(1-$L5),0))))","v":155000},{"$f":"IF($J5=\"\",\"\",IF(BO5=\"\",IF(BP$4<$G5,\"\",ROUNDDOWN($J5*(1-$M5),0)),IF(ROUNDDOWN(BO5*(1-$L5),0)<$J5*5%,$J5*5%,ROUNDDOWN(BO5*(1-$L5),0))))","v":155000},{"$f":"IF($J5=\"\",\"\",IF(BP5=\"\",IF(BQ$4<$G5,\"\",ROUNDDOWN($J5*(1-$M5),0)),IF(ROUNDDOWN(BP5*(1-$L5),0)<$J5*5%,$J5*5%,ROUNDDOWN(BP5*(1-$L5),0))))","v":155000},{"$f":"IF($J5=\"\",\"\",IF(BQ5=\"\",IF(BR$4<$G5,\"\",ROUNDDOWN($J5*(1-$M5),0)),IF(ROUNDDOWN(BQ5*(1-$L5),0)<$J5*5%,$J5*5%,ROUNDDOWN(BQ5*(1-$L5),0))))","v":155000},{"$f":"IF($J5=\"\",\"\",IF(BR5=\"\",IF(BS$4<$G5,\"\",ROUNDDOWN($J5*(1-$M5),0)),IF(ROUNDDOWN(BR5*(1-$L5),0)<$J5*5%,$J5*5%,ROUNDDOWN(BR5*(1-$L5),0))))","v":155000},{"$f":"IF($J5=\"\",\"\",IF(BS5=\"\",IF(BT$4<$G5,\"\",ROUNDDOWN($J5*(1-$M5),0)),IF(ROUNDDOWN(BS5*(1-$L5),0)<$J5*5%,$J5*5%,ROUNDDOWN(BS5*(1-$L5),0))))","v":155000},{"$f":"IF($J5=\"\",\"\",IF(BT5=\"\",IF(BU$4<$G5,\"\",ROUNDDOWN($J5*(1-$M5),0)),IF(ROUNDDOWN(BT5*(1-$L5),0)<$J5*5%,$J5*5%,ROUNDDOWN(BT5*(1-$L5),0))))","v":155000},{"$f":"IF($J5=\"\",\"\",IF(BU5=\"\",IF(BV$4<$G5,\"\",ROUNDDOWN($J5*(1-$M5),0)),IF(ROUNDDOWN(BU5*(1-$L5),0)<$J5*5%,$J5*5%,ROUNDDOWN(BU5*(1-$L5),0))))","v":155000},{"$f":"IF($J5=\"\",\"\",IF(BV5=\"\",IF(BW$4<$G5,\"\",ROUNDDOWN($J5*(1-$M5),0)),IF(ROUNDDOWN(BV5*(1-$L5),0)<$J5*5%,$J5*5%,ROUNDDOWN(BV5*(1-$L5),0))))","v":155000},{"$f":"IF($J5=\"\",\"\",IF(BW5=\"\",IF(BX$4<$G5,\"\",ROUNDDOWN($J5*(1-$M5),0)),IF(ROUNDDOWN(BW5*(1-$L5),0)<$J5*5%,$J5*5%,ROUNDDOWN(BW5*(1-$L5),0))))","v":155000},{"$f":"IF($J5=\"\",\"\",IF(BX5=\"\",IF(BY$4<$G5,\"\",ROUNDDOWN($J5*(1-$M5),0)),IF(ROUNDDOWN(BX5*(1-$L5),0)<$J5*5%,$J5*5%,ROUNDDOWN(BX5*(1-$L5),0))))","v":155000},{"$f":"IF($J5=\"\",\"\",IF(BY5=\"\",IF(BZ$4<$G5,\"\",ROUNDDOWN($J5*(1-$M5),0)),IF(ROUNDDOWN(BY5*(1-$L5),0)<$J5*5%,$J5*5%,ROUNDDOWN(BY5*(1-$L5),0))))","v":155000},{"$f":"IF($J5=\"\",\"\",IF(BZ5=\"\",IF(CA$4<$G5,\"\",ROUNDDOWN($J5*(1-$M5),0)),IF(ROUNDDOWN(BZ5*(1-$L5),0)<$J5*5%,$J5*5%,ROUNDDOWN(BZ5*(1-$L5),0))))","v":155000},{"$f":"IF($J5=\"\",\"\",IF(CA5=\"\",IF(CB$4<$G5,\"\",ROUNDDOWN($J5*(1-$M5),0)),IF(ROUNDDOWN(CA5*(1-$L5),0)<$J5*5%,$J5*5%,ROUNDDOWN(CA5*(1-$L5),0))))","v":155000},{"$f":"IF($J5=\"\",\"\",IF(CB5=\"\",IF(CC$4<$G5,\"\",ROUNDDOWN($J5*(1-$M5),0)),IF(ROUNDDOWN(CB5*(1-$L5),0)<$J5*5%,$J5*5%,ROUNDDOWN(CB5*(1-$L5),0))))","v":155000},{"$f":"IF($J5=\"\",\"\",IF(CC5=\"\",IF(CD$4<$G5,\"\",ROUNDDOWN($J5*(1-$M5),0)),IF(ROUNDDOWN(CC5*(1-$L5),0)<$J5*5%,$J5*5%,ROUNDDOWN(CC5*(1-$L5),0))))","v":155000},{"$f":"IF($J5=\"\",\"\",IF(CD5=\"\",IF(CE$4<$G5,\"\",ROUNDDOWN($J5*(1-$M5),0)),IF(ROUNDDOWN(CD5*(1-$L5),0)<$J5*5%,$J5*5%,ROUNDDOWN(CD5*(1-$L5),0))))","v":155000},{"$f":"IF($J5=\"\",\"\",IF(CE5=\"\",IF(CF$4<$G5,\"\",ROUNDDOWN($J5*(1-$M5),0)),IF(ROUNDDOWN(CE5*(1-$L5),0)<$J5*5%,$J5*5%,ROUNDDOWN(CE5*(1-$L5),0))))","v":155000},{"$f":"IF($J5=\"\",\"\",IF(CF5=\"\",IF(CG$4<$G5,\"\",ROUNDDOWN($J5*(1-$M5),0)),IF(ROUNDDOWN(CF5*(1-$L5),0)<$J5*5%,$J5*5%,ROUNDDOWN(CF5*(1-$L5),0))))","v":155000},{"$f":"IF($J5=\"\",\"\",IF(CG5=\"\",IF(CH$4<$G5,\"\",ROUNDDOWN($J5*(1-$M5),0)),IF(ROUNDDOWN(CG5*(1-$L5),0)<$J5*5%,$J5*5%,ROUNDDOWN(CG5*(1-$L5),0))))","v":155000},{"$f":"IF($J5=\"\",\"\",IF(CH5=\"\",IF(CI$4<$G5,\"\",ROUNDDOWN($J5*(1-$M5),0)),IF(ROUNDDOWN(CH5*(1-$L5),0)<$J5*5%,$J5*5%,ROUNDDOWN(CH5*(1-$L5),0))))","v":155000},{"$f":"IF($J5=\"\",\"\",IF(CI5=\"\",IF(CJ$4<$G5,\"\",ROUNDDOWN($J5*(1-$M5),0)),IF(ROUNDDOWN(CI5*(1-$L5),0)<$J5*5%,$J5*5%,ROUNDDOWN(CI5*(1-$L5),0))))","v":155000},{"$f":"IF($J5=\"\",\"\",IF(CJ5=\"\",IF(CK$4<$G5,\"\",ROUNDDOWN($J5*(1-$M5),0)),IF(ROUNDDOWN(CJ5*(1-$L5),0)<$J5*5%,$J5*5%,ROUNDDOWN(CJ5*(1-$L5),0))))","v":155000},{"$f":"IF($J5=\"\",\"\",IF(CK5=\"\",IF(CL$4<$G5,\"\",ROUNDDOWN($J5*(1-$M5),0)),IF(ROUNDDOWN(CK5*(1-$L5),0)<$J5*5%,$J5*5%,ROUNDDOWN(CK5*(1-$L5),0))))","v":155000},{"$f":"IF($J5=\"\",\"\",IF(CL5=\"\",IF(CM$4<$G5,\"\",ROUNDDOWN($J5*(1-$M5),0)),IF(ROUNDDOWN(CL5*(1-$L5),0)<$J5*5%,$J5*5%,ROUNDDOWN(CL5*(1-$L5),0))))","v":155000},{"$f":"IF($J5=\"\",\"\",IF(CM5=\"\",IF(CN$4<$G5,\"\",ROUNDDOWN($J5*(1-$M5),0)),IF(ROUNDDOWN(CM5*(1-$L5),0)<$J5*5%,$J5*5%,ROUNDDOWN(CM5*(1-$L5),0))))","v":155000},{"$f":"IF($J5=\"\",\"\",IF(CN5=\"\",IF(CO$4<$G5,\"\",ROUNDDOWN($J5*(1-$M5),0)),IF(ROUNDDOWN(CN5*(1-$L5),0)<$J5*5%,$J5*5%,ROUNDDOWN(CN5*(1-$L5),0))))","v":155000},{"$f":"IF($J5=\"\",\"\",IF(CO5=\"\",IF(CP$4<$G5,\"\",ROUNDDOWN($J5*(1-$M5),0)),IF(ROUNDDOWN(CO5*(1-$L5),0)<$J5*5%,$J5*5%,ROUNDDOWN(CO5*(1-$L5),0))))","v":155000},{"$f":"IF($J5=\"\",\"\",IF(CP5=\"\",IF(CQ$4<$G5,\"\",ROUNDDOWN($J5*(1-$M5),0)),IF(ROUNDDOWN(CP5*(1-$L5),0)<$J5*5%,$J5*5%,ROUNDDOWN(CP5*(1-$L5),0))))","v":155000},{"$f":"IF($J5=\"\",\"\",IF(CQ5=\"\",IF(CR$4<$G5,\"\",ROUNDDOWN($J5*(1-$M5),0)),IF(ROUNDDOWN(CQ5*(1-$L5),0)<$J5*5%,$J5*5%,ROUNDDOWN(CQ5*(1-$L5),0))))","v":155000},{"$f":"IF($J5=\"\",\"\",IF(CR5=\"\",IF(CS$4<$G5,\"\",ROUNDDOWN($J5*(1-$M5),0)),IF(ROUNDDOWN(CR5*(1-$L5),0)<$J5*5%,$J5*5%,ROUNDDOWN(CR5*(1-$L5),0))))","v":155000},{"$f":"IF($J5=\"\",\"\",IF(CS5=\"\",IF(CT$4<$G5,\"\",ROUNDDOWN($J5*(1-$M5),0)),IF(ROUNDDOWN(CS5*(1-$L5),0)<$J5*5%,$J5*5%,ROUNDDOWN(CS5*(1-$L5),0))))","v":155000},{"$f":"IF($J5=\"\",\"\",IF(CT5=\"\",IF(CU$4<$G5,\"\",ROUNDDOWN($J5*(1-$M5),0)),IF(ROUNDDOWN(CT5*(1-$L5),0)<$J5*5%,$J5*5%,ROUNDDOWN(CT5*(1-$L5),0))))","v":155000},{"$f":"IF($J5=\"\",\"\",IF(CU5=\"\",IF(CV$4<$G5,\"\",ROUNDDOWN($J5*(1-$M5),0)),IF(ROUNDDOWN(CU5*(1-$L5),0)<$J5*5%,$J5*5%,ROUNDDOWN(CU5*(1-$L5),0))))","v":155000},{"$f":"IF($J5=\"\",\"\",IF(CV5=\"\",IF(CW$4<$G5,\"\",ROUNDDOWN($J5*(1-$M5),0)),IF(ROUNDDOWN(CV5*(1-$L5),0)<$J5*5%,$J5*5%,ROUNDDOWN(CV5*(1-$L5),0))))","v":155000},{"$f":"IF($J5=\"\",\"\",IF(CW5=\"\",IF(CX$4<$G5,\"\",ROUNDDOWN($J5*(1-$M5),0)),IF(ROUNDDOWN(CW5*(1-$L5),0)<$J5*5%,$J5*5%,ROUNDDOWN(CW5*(1-$L5),0))))","v":155000},{"$f":"IF($J5=\"\",\"\",IF(CX5=\"\",IF(CY$4<$G5,\"\",ROUNDDOWN($J5*(1-$M5),0)),IF(ROUNDDOWN(CX5*(1-$L5),0)<$J5*5%,$J5*5%,ROUNDDOWN(CX5*(1-$L5),0))))","v":155000}]
[null,2,2,null,"成形ロータリ",1,"2020-02-01",{"$f":"IF(G6=\"\",\"\",Nengo(G6))","v":5},{"$f":"IF(G6>DATE(YEAR($D$1)-1,1,1),1,0)","v":0},610000,7,0.28000000000000003,0.14000000000000001,{"$f":"IF(J6=\"\",\"\",IF(N$4<$G6,\"\",ROUNDDOWN($J6*(1-$M6),0)))","v":""},{"$f":"IF($J6=\"\",\"\",IF(N6=\"\",IF(O$4<$G6,\"\",ROUNDDOWN($J6*(1-$M6),0)),IF(ROUNDDOWN(N6*(1-$L6),0)<$J6*5%,$J6*5%,ROUNDDOWN(N6*(1-$L6),0))))","v":""},"","","","","","","","","","","","","","","","","","","","","","","","","","","","","","","","","","","","","","","","",524600,377712,271952,195805,140979,101504,73082,52619,37885,30500,30500,30500,30500,30500,30500,30500,30500,30500,30500,30500,30500,30500,30500,30500,30500,30500,30500,30500,30500,30500,30500,30500,30500,30500,30500,30500,30500,30500,30500,30500,30500,30500,30500,30500,30500,30500,30500,30500]
[null,3,2,null,"管理機",1,"2020-02-01",{"$f":"IF(G7=\"\",\"\",Nengo(G7))","v":5},0,280000,7,0.28000000000000003,0.14000000000000001,"","","","","","","","","","","","","","","","","","","","","","","","","","","","","","","","","","","","","","","","","","",240800,173376,124830,89877,64711,46591,33545,24152,17389,14000,14000,14000,14000,14000,14000,14000,14000,14000,14000,14000,14000,14000,14000,14000,14000,14000,14000,14000,14000,14000,14000,14000,14000,14000,14000,14000,14000,14000,14000,14000,14000,14000,14000,14000,14000,14000,14000,14000]
[null,4,2,null,"動噴",1,"2020-02-01",{"$f":"IF(G8=\"\",\"\",Nengo(G8))","v":5},0,765000,7,{"$f":"IF(K8=\"\",0,ROUND(1-(1/10)^(1/K8),3))","v":0.28000000000000003},0.14000000000000001,"","","","","","","","","","","","","","","","","","","","","","","","","","","","","","","","","","","","","","","","","","",657900,473688,341055,245559,176802,127297,91653,65990,47512,38250,38250,38250,38250,38250,38250,38250,38250,38250,38250,38250,38250,38250,38250,38250,38250,38250,38250,38250,38250,38250,38250,38250,38250,38250,38250,38250,38250,38250,38250,38250,38250,38250,38250,38250,38250,38250,38250,38250]
[null,5,2,null,"運搬車",1,"2022-02-01",{"$f":"IF(G9=\"\",\"\",Nengo(G9))","v":5},0,630000,7,{"$f":"IF(K9=\"\",0,ROUND(1-(1/10)^(1/K9),3))","v":0.28000000000000003},0.14000000000000001,"","","","","","","","","","","","","","","","","","","","","","","","","","","","","","","","","","","","","","","","","","","","",541800,390096,280869,202225,145602,104833,75479,54344,39127,31500,31500,31500,31500,31500,31500,31500,31500,31500,31500,31500,31500,31500,31500,31500,31500,31500,31500,31500,31500,31500,31500,31500,31500,31500,31500,31500,31500,31500,31500,31500,31500,31500,31500,31500,31500,31500]
[null,6,null,null,null,null,null,{"$f":"IF(G10=\"\",\"\",Nengo(G10))","v":""},0,null,null,0,0,"","","","","","","","","","","","","","","","","","","","","","","","","","","","","","","","","","","","","","","","","","","","","","","","","","","","","","","","","","","","","","","","","","","","","","","","","","","","","","","","","","","","","","","","","",""]
[null,7,null,null,null,null,null,{"$f":"IF(G11=\"\",\"\",Nengo(G11))","v":""},0,null,null,{"$f":"IF(K11=\"\",0,ROUND(1-(1/10)^(1/K11),3))","v":0},{"$f":"ROUND(L11/2,3)","v":0},{"$f":"IF(J11=\"\",\"\",IF(N$4<$G11,\"\",ROUNDDOWN($J11*(1-$M11),0)))","v":""},{"$f":"IF($J11=\"\",\"\",IF(N11=\"\",IF(O$4<$G11,\"\",ROUNDDOWN($J11*(1-$M11),0)),IF(ROUNDDOWN(N11*(1-$L11),0)<$J11*5%,$J11*5%,ROUNDDOWN(N11*(1-$L11),0))))","v":""},{"$f":"IF($J11=\"\",\"\",IF(O11=\"\",IF(P$4<$G11,\"\",ROUNDDOWN($J11*(1-$M11),0)),IF(ROUNDDOWN(O11*(1-$L11),0)<$J11*5%,$J11*5%,ROUNDDOWN(O11*(1-$L11),0))))","v":""},{"$f":"IF($J11=\"\",\"\",IF(P11=\"\",IF(Q$4<$G11,\"\",ROUNDDOWN($J11*(1-$M11),0)),IF(ROUNDDOWN(P11*(1-$L11),0)<$J11*5%,$J11*5%,ROUNDDOWN(P11*(1-$L11),0))))","v":""},{"$f":"IF($J11=\"\",\"\",IF(Q11=\"\",IF(R$4<$G11,\"\",ROUNDDOWN($J11*(1-$M11),0)),IF(ROUNDDOWN(Q11*(1-$L11),0)<$J11*5%,$J11*5%,ROUNDDOWN(Q11*(1-$L11),0))))","v":""},{"$f":"IF($J11=\"\",\"\",IF(R11=\"\",IF(S$4<$G11,\"\",ROUNDDOWN($J11*(1-$M11),0)),IF(ROUNDDOWN(R11*(1-$L11),0)<$J11*5%,$J11*5%,ROUNDDOWN(R11*(1-$L11),0))))","v":""},{"$f":"IF($J11=\"\",\"\",IF(S11=\"\",IF(T$4<$G11,\"\",ROUNDDOWN($J11*(1-$M11),0)),IF(ROUNDDOWN(S11*(1-$L11),0)<$J11*5%,$J11*5%,ROUNDDOWN(S11*(1-$L11),0))))","v":""},{"$f":"IF($J11=\"\",\"\",IF(T11=\"\",IF(U$4<$G11,\"\",ROUNDDOWN($J11*(1-$M11),0)),IF(ROUNDDOWN(T11*(1-$L11),0)<$J11*5%,$J11*5%,ROUNDDOWN(T11*(1-$L11),0))))","v":""},{"$f":"IF($J11=\"\",\"\",IF(U11=\"\",IF(V$4<$G11,\"\",ROUNDDOWN($J11*(1-$M11),0)),IF(ROUNDDOWN(U11*(1-$L11),0)<$J11*5%,$J11*5%,ROUNDDOWN(U11*(1-$L11),0))))","v":""},{"$f":"IF($J11=\"\",\"\",IF(V11=\"\",IF(W$4<$G11,\"\",ROUNDDOWN($J11*(1-$M11),0)),IF(ROUNDDOWN(V11*(1-$L11),0)<$J11*5%,$J11*5%,ROUNDDOWN(V11*(1-$L11),0))))","v":""},{"$f":"IF($J11=\"\",\"\",IF(W11=\"\",IF(X$4<$G11,\"\",ROUNDDOWN($J11*(1-$M11),0)),IF(ROUNDDOWN(W11*(1-$L11),0)<$J11*5%,$J11*5%,ROUNDDOWN(W11*(1-$L11),0))))","v":""},{"$f":"IF($J11=\"\",\"\",IF(X11=\"\",IF(Y$4<$G11,\"\",ROUNDDOWN($J11*(1-$M11),0)),IF(ROUNDDOWN(X11*(1-$L11),0)<$J11*5%,$J11*5%,ROUNDDOWN(X11*(1-$L11),0))))","v":""},{"$f":"IF($J11=\"\",\"\",IF(Y11=\"\",IF(Z$4<$G11,\"\",ROUNDDOWN($J11*(1-$M11),0)),IF(ROUNDDOWN(Y11*(1-$L11),0)<$J11*5%,$J11*5%,ROUNDDOWN(Y11*(1-$L11),0))))","v":""},{"$f":"IF($J11=\"\",\"\",IF(Z11=\"\",IF(AA$4<$G11,\"\",ROUNDDOWN($J11*(1-$M11),0)),IF(ROUNDDOWN(Z11*(1-$L11),0)<$J11*5%,$J11*5%,ROUNDDOWN(Z11*(1-$L11),0))))","v":""},{"$f":"IF($J11=\"\",\"\",IF(AA11=\"\",IF(AB$4<$G11,\"\",ROUNDDOWN($J11*(1-$M11),0)),IF(ROUNDDOWN(AA11*(1-$L11),0)<$J11*5%,$J11*5%,ROUNDDOWN(AA11*(1-$L11),0))))","v":""},{"$f":"IF($J11=\"\",\"\",IF(AB11=\"\",IF(AC$4<$G11,\"\",ROUNDDOWN($J11*(1-$M11),0)),IF(ROUNDDOWN(AB11*(1-$L11),0)<$J11*5%,$J11*5%,ROUNDDOWN(AB11*(1-$L11),0))))","v":""},{"$f":"IF($J11=\"\",\"\",IF(AC11=\"\",IF(AD$4<$G11,\"\",ROUNDDOWN($J11*(1-$M11),0)),IF(ROUNDDOWN(AC11*(1-$L11),0)<$J11*5%,$J11*5%,ROUNDDOWN(AC11*(1-$L11),0))))","v":""},{"$f":"IF($J11=\"\",\"\",IF(AD11=\"\",IF(AE$4<$G11,\"\",ROUNDDOWN($J11*(1-$M11),0)),IF(ROUNDDOWN(AD11*(1-$L11),0)<$J11*5%,$J11*5%,ROUNDDOWN(AD11*(1-$L11),0))))","v":""},{"$f":"IF($J11=\"\",\"\",IF(AE11=\"\",IF(AF$4<$G11,\"\",ROUNDDOWN($J11*(1-$M11),0)),IF(ROUNDDOWN(AE11*(1-$L11),0)<$J11*5%,$J11*5%,ROUNDDOWN(AE11*(1-$L11),0))))","v":""},{"$f":"IF($J11=\"\",\"\",IF(AF11=\"\",IF(AG$4<$G11,\"\",ROUNDDOWN($J11*(1-$M11),0)),IF(ROUNDDOWN(AF11*(1-$L11),0)<$J11*5%,$J11*5%,ROUNDDOWN(AF11*(1-$L11),0))))","v":""},{"$f":"IF($J11=\"\",\"\",IF(AG11=\"\",IF(AH$4<$G11,\"\",ROUNDDOWN($J11*(1-$M11),0)),IF(ROUNDDOWN(AG11*(1-$L11),0)<$J11*5%,$J11*5%,ROUNDDOWN(AG11*(1-$L11),0))))","v":""},{"$f":"IF($J11=\"\",\"\",IF(AH11=\"\",IF(AI$4<$G11,\"\",ROUNDDOWN($J11*(1-$M11),0)),IF(ROUNDDOWN(AH11*(1-$L11),0)<$J11*5%,$J11*5%,ROUNDDOWN(AH11*(1-$L11),0))))","v":""},{"$f":"IF($J11=\"\",\"\",IF(AI11=\"\",IF(AJ$4<$G11,\"\",ROUNDDOWN($J11*(1-$M11),0)),IF(ROUNDDOWN(AI11*(1-$L11),0)<$J11*5%,$J11*5%,ROUNDDOWN(AI11*(1-$L11),0))))","v":""},{"$f":"IF($J11=\"\",\"\",IF(AJ11=\"\",IF(AK$4<$G11,\"\",ROUNDDOWN($J11*(1-$M11),0)),IF(ROUNDDOWN(AJ11*(1-$L11),0)<$J11*5%,$J11*5%,ROUNDDOWN(AJ11*(1-$L11),0))))","v":""},{"$f":"IF($J11=\"\",\"\",IF(AK11=\"\",IF(AL$4<$G11,\"\",ROUNDDOWN($J11*(1-$M11),0)),IF(ROUNDDOWN(AK11*(1-$L11),0)<$J11*5%,$J11*5%,ROUNDDOWN(AK11*(1-$L11),0))))","v":""},{"$f":"IF($J11=\"\",\"\",IF(AL11=\"\",IF(AM$4<$G11,\"\",ROUNDDOWN($J11*(1-$M11),0)),IF(ROUNDDOWN(AL11*(1-$L11),0)<$J11*5%,$J11*5%,ROUNDDOWN(AL11*(1-$L11),0))))","v":""},{"$f":"IF($J11=\"\",\"\",IF(AM11=\"\",IF(AN$4<$G11,\"\",ROUNDDOWN($J11*(1-$M11),0)),IF(ROUNDDOWN(AM11*(1-$L11),0)<$J11*5%,$J11*5%,ROUNDDOWN(AM11*(1-$L11),0))))","v":""},{"$f":"IF($J11=\"\",\"\",IF(AN11=\"\",IF(AO$4<$G11,\"\",ROUNDDOWN($J11*(1-$M11),0)),IF(ROUNDDOWN(AN11*(1-$L11),0)<$J11*5%,$J11*5%,ROUNDDOWN(AN11*(1-$L11),0))))","v":""},{"$f":"IF($J11=\"\",\"\",IF(AO11=\"\",IF(AP$4<$G11,\"\",ROUNDDOWN($J11*(1-$M11),0)),IF(ROUNDDOWN(AO11*(1-$L11),0)<$J11*5%,$J11*5%,ROUNDDOWN(AO11*(1-$L11),0))))","v":""},{"$f":"IF($J11=\"\",\"\",IF(AP11=\"\",IF(AQ$4<$G11,\"\",ROUNDDOWN($J11*(1-$M11),0)),IF(ROUNDDOWN(AP11*(1-$L11),0)<$J11*5%,$J11*5%,ROUNDDOWN(AP11*(1-$L11),0))))","v":""},{"$f":"IF($J11=\"\",\"\",IF(AQ11=\"\",IF(AR$4<$G11,\"\",ROUNDDOWN($J11*(1-$M11),0)),IF(ROUNDDOWN(AQ11*(1-$L11),0)<$J11*5%,$J11*5%,ROUNDDOWN(AQ11*(1-$L11),0))))","v":""},{"$f":"IF($J11=\"\",\"\",IF(AR11=\"\",IF(AS$4<$G11,\"\",ROUNDDOWN($J11*(1-$M11),0)),IF(ROUNDDOWN(AR11*(1-$L11),0)<$J11*5%,$J11*5%,ROUNDDOWN(AR11*(1-$L11),0))))","v":""},{"$f":"IF($J11=\"\",\"\",IF(AS11=\"\",IF(AT$4<$G11,\"\",ROUNDDOWN($J11*(1-$M11),0)),IF(ROUNDDOWN(AS11*(1-$L11),0)<$J11*5%,$J11*5%,ROUNDDOWN(AS11*(1-$L11),0))))","v":""},{"$f":"IF($J11=\"\",\"\",IF(AT11=\"\",IF(AU$4<$G11,\"\",ROUNDDOWN($J11*(1-$M11),0)),IF(ROUNDDOWN(AT11*(1-$L11),0)<$J11*5%,$J11*5%,ROUNDDOWN(AT11*(1-$L11),0))))","v":""},{"$f":"IF($J11=\"\",\"\",IF(AU11=\"\",IF(AV$4<$G11,\"\",ROUNDDOWN($J11*(1-$M11),0)),IF(ROUNDDOWN(AU11*(1-$L11),0)<$J11*5%,$J11*5%,ROUNDDOWN(AU11*(1-$L11),0))))","v":""},{"$f":"IF($J11=\"\",\"\",IF(AV11=\"\",IF(AW$4<$G11,\"\",ROUNDDOWN($J11*(1-$M11),0)),IF(ROUNDDOWN(AV11*(1-$L11),0)<$J11*5%,$J11*5%,ROUNDDOWN(AV11*(1-$L11),0))))","v":""},{"$f":"IF($J11=\"\",\"\",IF(AW11=\"\",IF(AX$4<$G11,\"\",ROUNDDOWN($J11*(1-$M11),0)),IF(ROUNDDOWN(AW11*(1-$L11),0)<$J11*5%,$J11*5%,ROUNDDOWN(AW11*(1-$L11),0))))","v":""},{"$f":"IF($J11=\"\",\"\",IF(AX11=\"\",IF(AY$4<$G11,\"\",ROUNDDOWN($J11*(1-$M11),0)),IF(ROUNDDOWN(AX11*(1-$L11),0)<$J11*5%,$J11*5%,ROUNDDOWN(AX11*(1-$L11),0))))","v":""},{"$f":"IF($J11=\"\",\"\",IF(AY11=\"\",IF(AZ$4<$G11,\"\",ROUNDDOWN($J11*(1-$M11),0)),IF(ROUNDDOWN(AY11*(1-$L11),0)<$J11*5%,$J11*5%,ROUNDDOWN(AY11*(1-$L11),0))))","v":""},{"$f":"IF($J11=\"\",\"\",IF(AZ11=\"\",IF(BA$4<$G11,\"\",ROUNDDOWN($J11*(1-$M11),0)),IF(ROUNDDOWN(AZ11*(1-$L11),0)<$J11*5%,$J11*5%,ROUNDDOWN(AZ11*(1-$L11),0))))","v":""},{"$f":"IF($J11=\"\",\"\",IF(BA11=\"\",IF(BB$4<$G11,\"\",ROUNDDOWN($J11*(1-$M11),0)),IF(ROUNDDOWN(BA11*(1-$L11),0)<$J11*5%,$J11*5%,ROUNDDOWN(BA11*(1-$L11),0))))","v":""},{"$f":"IF($J11=\"\",\"\",IF(BB11=\"\",IF(BC$4<$G11,\"\",ROUNDDOWN($J11*(1-$M11),0)),IF(ROUNDDOWN(BB11*(1-$L11),0)<$J11*5%,$J11*5%,ROUNDDOWN(BB11*(1-$L11),0))))","v":""},{"$f":"IF($J11=\"\",\"\",IF(BC11=\"\",IF(BD$4<$G11,\"\",ROUNDDOWN($J11*(1-$M11),0)),IF(ROUNDDOWN(BC11*(1-$L11),0)<$J11*5%,$J11*5%,ROUNDDOWN(BC11*(1-$L11),0))))","v":""},{"$f":"IF($J11=\"\",\"\",IF(BD11=\"\",IF(BE$4<$G11,\"\",ROUNDDOWN($J11*(1-$M11),0)),IF(ROUNDDOWN(BD11*(1-$L11),0)<$J11*5%,$J11*5%,ROUNDDOWN(BD11*(1-$L11),0))))","v":""},{"$f":"IF($J11=\"\",\"\",IF(BE11=\"\",IF(BF$4<$G11,\"\",ROUNDDOWN($J11*(1-$M11),0)),IF(ROUNDDOWN(BE11*(1-$L11),0)<$J11*5%,$J11*5%,ROUNDDOWN(BE11*(1-$L11),0))))","v":""},{"$f":"IF($J11=\"\",\"\",IF(BF11=\"\",IF(BG$4<$G11,\"\",ROUNDDOWN($J11*(1-$M11),0)),IF(ROUNDDOWN(BF11*(1-$L11),0)<$J11*5%,$J11*5%,ROUNDDOWN(BF11*(1-$L11),0))))","v":""},{"$f":"IF($J11=\"\",\"\",IF(BG11=\"\",IF(BH$4<$G11,\"\",ROUNDDOWN($J11*(1-$M11),0)),IF(ROUNDDOWN(BG11*(1-$L11),0)<$J11*5%,$J11*5%,ROUNDDOWN(BG11*(1-$L11),0))))","v":""},{"$f":"IF($J11=\"\",\"\",IF(BH11=\"\",IF(BI$4<$G11,\"\",ROUNDDOWN($J11*(1-$M11),0)),IF(ROUNDDOWN(BH11*(1-$L11),0)<$J11*5%,$J11*5%,ROUNDDOWN(BH11*(1-$L11),0))))","v":""},{"$f":"IF($J11=\"\",\"\",IF(BI11=\"\",IF(BJ$4<$G11,\"\",ROUNDDOWN($J11*(1-$M11),0)),IF(ROUNDDOWN(BI11*(1-$L11),0)<$J11*5%,$J11*5%,ROUNDDOWN(BI11*(1-$L11),0))))","v":""},{"$f":"IF($J11=\"\",\"\",IF(BJ11=\"\",IF(BK$4<$G11,\"\",ROUNDDOWN($J11*(1-$M11),0)),IF(ROUNDDOWN(BJ11*(1-$L11),0)<$J11*5%,$J11*5%,ROUNDDOWN(BJ11*(1-$L11),0))))","v":""},{"$f":"IF($J11=\"\",\"\",IF(BK11=\"\",IF(BL$4<$G11,\"\",ROUNDDOWN($J11*(1-$M11),0)),IF(ROUNDDOWN(BK11*(1-$L11),0)<$J11*5%,$J11*5%,ROUNDDOWN(BK11*(1-$L11),0))))","v":""},{"$f":"IF($J11=\"\",\"\",IF(BL11=\"\",IF(BM$4<$G11,\"\",ROUNDDOWN($J11*(1-$M11),0)),IF(ROUNDDOWN(BL11*(1-$L11),0)<$J11*5%,$J11*5%,ROUNDDOWN(BL11*(1-$L11),0))))","v":""},{"$f":"IF($J11=\"\",\"\",IF(BM11=\"\",IF(BN$4<$G11,\"\",ROUNDDOWN($J11*(1-$M11),0)),IF(ROUNDDOWN(BM11*(1-$L11),0)<$J11*5%,$J11*5%,ROUNDDOWN(BM11*(1-$L11),0))))","v":""},{"$f":"IF($J11=\"\",\"\",IF(BN11=\"\",IF(BO$4<$G11,\"\",ROUNDDOWN($J11*(1-$M11),0)),IF(ROUNDDOWN(BN11*(1-$L11),0)<$J11*5%,$J11*5%,ROUNDDOWN(BN11*(1-$L11),0))))","v":""},{"$f":"IF($J11=\"\",\"\",IF(BO11=\"\",IF(BP$4<$G11,\"\",ROUNDDOWN($J11*(1-$M11),0)),IF(ROUNDDOWN(BO11*(1-$L11),0)<$J11*5%,$J11*5%,ROUNDDOWN(BO11*(1-$L11),0))))","v":""},{"$f":"IF($J11=\"\",\"\",IF(BP11=\"\",IF(BQ$4<$G11,\"\",ROUNDDOWN($J11*(1-$M11),0)),IF(ROUNDDOWN(BP11*(1-$L11),0)<$J11*5%,$J11*5%,ROUNDDOWN(BP11*(1-$L11),0))))","v":""},{"$f":"IF($J11=\"\",\"\",IF(BQ11=\"\",IF(BR$4<$G11,\"\",ROUNDDOWN($J11*(1-$M11),0)),IF(ROUNDDOWN(BQ11*(1-$L11),0)<$J11*5%,$J11*5%,ROUNDDOWN(BQ11*(1-$L11),0))))","v":""},{"$f":"IF($J11=\"\",\"\",IF(BR11=\"\",IF(BS$4<$G11,\"\",ROUNDDOWN($J11*(1-$M11),0)),IF(ROUNDDOWN(BR11*(1-$L11),0)<$J11*5%,$J11*5%,ROUNDDOWN(BR11*(1-$L11),0))))","v":""},{"$f":"IF($J11=\"\",\"\",IF(BS11=\"\",IF(BT$4<$G11,\"\",ROUNDDOWN($J11*(1-$M11),0)),IF(ROUNDDOWN(BS11*(1-$L11),0)<$J11*5%,$J11*5%,ROUNDDOWN(BS11*(1-$L11),0))))","v":""},{"$f":"IF($J11=\"\",\"\",IF(BT11=\"\",IF(BU$4<$G11,\"\",ROUNDDOWN($J11*(1-$M11),0)),IF(ROUNDDOWN(BT11*(1-$L11),0)<$J11*5%,$J11*5%,ROUNDDOWN(BT11*(1-$L11),0))))","v":""},{"$f":"IF($J11=\"\",\"\",IF(BU11=\"\",IF(BV$4<$G11,\"\",ROUNDDOWN($J11*(1-$M11),0)),IF(ROUNDDOWN(BU11*(1-$L11),0)<$J11*5%,$J11*5%,ROUNDDOWN(BU11*(1-$L11),0))))","v":""},{"$f":"IF($J11=\"\",\"\",IF(BV11=\"\",IF(BW$4<$G11,\"\",ROUNDDOWN($J11*(1-$M11),0)),IF(ROUNDDOWN(BV11*(1-$L11),0)<$J11*5%,$J11*5%,ROUNDDOWN(BV11*(1-$L11),0))))","v":""},{"$f":"IF($J11=\"\",\"\",IF(BW11=\"\",IF(BX$4<$G11,\"\",ROUNDDOWN($J11*(1-$M11),0)),IF(ROUNDDOWN(BW11*(1-$L11),0)<$J11*5%,$J11*5%,ROUNDDOWN(BW11*(1-$L11),0))))","v":""},{"$f":"IF($J11=\"\",\"\",IF(BX11=\"\",IF(BY$4<$G11,\"\",ROUNDDOWN($J11*(1-$M11),0)),IF(ROUNDDOWN(BX11*(1-$L11),0)<$J11*5%,$J11*5%,ROUNDDOWN(BX11*(1-$L11),0))))","v":""},{"$f":"IF($J11=\"\",\"\",IF(BY11=\"\",IF(BZ$4<$G11,\"\",ROUNDDOWN($J11*(1-$M11),0)),IF(ROUNDDOWN(BY11*(1-$L11),0)<$J11*5%,$J11*5%,ROUNDDOWN(BY11*(1-$L11),0))))","v":""},{"$f":"IF($J11=\"\",\"\",IF(BZ11=\"\",IF(CA$4<$G11,\"\",ROUNDDOWN($J11*(1-$M11),0)),IF(ROUNDDOWN(BZ11*(1-$L11),0)<$J11*5%,$J11*5%,ROUNDDOWN(BZ11*(1-$L11),0))))","v":""},{"$f":"IF($J11=\"\",\"\",IF(CA11=\"\",IF(CB$4<$G11,\"\",ROUNDDOWN($J11*(1-$M11),0)),IF(ROUNDDOWN(CA11*(1-$L11),0)<$J11*5%,$J11*5%,ROUNDDOWN(CA11*(1-$L11),0))))","v":""},{"$f":"IF($J11=\"\",\"\",IF(CB11=\"\",IF(CC$4<$G11,\"\",ROUNDDOWN($J11*(1-$M11),0)),IF(ROUNDDOWN(CB11*(1-$L11),0)<$J11*5%,$J11*5%,ROUNDDOWN(CB11*(1-$L11),0))))","v":""},{"$f":"IF($J11=\"\",\"\",IF(CC11=\"\",IF(CD$4<$G11,\"\",ROUNDDOWN($J11*(1-$M11),0)),IF(ROUNDDOWN(CC11*(1-$L11),0)<$J11*5%,$J11*5%,ROUNDDOWN(CC11*(1-$L11),0))))","v":""},{"$f":"IF($J11=\"\",\"\",IF(CD11=\"\",IF(CE$4<$G11,\"\",ROUNDDOWN($J11*(1-$M11),0)),IF(ROUNDDOWN(CD11*(1-$L11),0)<$J11*5%,$J11*5%,ROUNDDOWN(CD11*(1-$L11),0))))","v":""},{"$f":"IF($J11=\"\",\"\",IF(CE11=\"\",IF(CF$4<$G11,\"\",ROUNDDOWN($J11*(1-$M11),0)),IF(ROUNDDOWN(CE11*(1-$L11),0)<$J11*5%,$J11*5%,ROUNDDOWN(CE11*(1-$L11),0))))","v":""},{"$f":"IF($J11=\"\",\"\",IF(CF11=\"\",IF(CG$4<$G11,\"\",ROUNDDOWN($J11*(1-$M11),0)),IF(ROUNDDOWN(CF11*(1-$L11),0)<$J11*5%,$J11*5%,ROUNDDOWN(CF11*(1-$L11),0))))","v":""},{"$f":"IF($J11=\"\",\"\",IF(CG11=\"\",IF(CH$4<$G11,\"\",ROUNDDOWN($J11*(1-$M11),0)),IF(ROUNDDOWN(CG11*(1-$L11),0)<$J11*5%,$J11*5%,ROUNDDOWN(CG11*(1-$L11),0))))","v":""},{"$f":"IF($J11=\"\",\"\",IF(CH11=\"\",IF(CI$4<$G11,\"\",ROUNDDOWN($J11*(1-$M11),0)),IF(ROUNDDOWN(CH11*(1-$L11),0)<$J11*5%,$J11*5%,ROUNDDOWN(CH11*(1-$L11),0))))","v":""},{"$f":"IF($J11=\"\",\"\",IF(CI11=\"\",IF(CJ$4<$G11,\"\",ROUNDDOWN($J11*(1-$M11),0)),IF(ROUNDDOWN(CI11*(1-$L11),0)<$J11*5%,$J11*5%,ROUNDDOWN(CI11*(1-$L11),0))))","v":""},{"$f":"IF($J11=\"\",\"\",IF(CJ11=\"\",IF(CK$4<$G11,\"\",ROUNDDOWN($J11*(1-$M11),0)),IF(ROUNDDOWN(CJ11*(1-$L11),0)<$J11*5%,$J11*5%,ROUNDDOWN(CJ11*(1-$L11),0))))","v":""},{"$f":"IF($J11=\"\",\"\",IF(CK11=\"\",IF(CL$4<$G11,\"\",ROUNDDOWN($J11*(1-$M11),0)),IF(ROUNDDOWN(CK11*(1-$L11),0)<$J11*5%,$J11*5%,ROUNDDOWN(CK11*(1-$L11),0))))","v":""},{"$f":"IF($J11=\"\",\"\",IF(CL11=\"\",IF(CM$4<$G11,\"\",ROUNDDOWN($J11*(1-$M11),0)),IF(ROUNDDOWN(CL11*(1-$L11),0)<$J11*5%,$J11*5%,ROUNDDOWN(CL11*(1-$L11),0))))","v":""},{"$f":"IF($J11=\"\",\"\",IF(CM11=\"\",IF(CN$4<$G11,\"\",ROUNDDOWN($J11*(1-$M11),0)),IF(ROUNDDOWN(CM11*(1-$L11),0)<$J11*5%,$J11*5%,ROUNDDOWN(CM11*(1-$L11),0))))","v":""},{"$f":"IF($J11=\"\",\"\",IF(CN11=\"\",IF(CO$4<$G11,\"\",ROUNDDOWN($J11*(1-$M11),0)),IF(ROUNDDOWN(CN11*(1-$L11),0)<$J11*5%,$J11*5%,ROUNDDOWN(CN11*(1-$L11),0))))","v":""},{"$f":"IF($J11=\"\",\"\",IF(CO11=\"\",IF(CP$4<$G11,\"\",ROUNDDOWN($J11*(1-$M11),0)),IF(ROUNDDOWN(CO11*(1-$L11),0)<$J11*5%,$J11*5%,ROUNDDOWN(CO11*(1-$L11),0))))","v":""},{"$f":"IF($J11=\"\",\"\",IF(CP11=\"\",IF(CQ$4<$G11,\"\",ROUNDDOWN($J11*(1-$M11),0)),IF(ROUNDDOWN(CP11*(1-$L11),0)<$J11*5%,$J11*5%,ROUNDDOWN(CP11*(1-$L11),0))))","v":""},{"$f":"IF($J11=\"\",\"\",IF(CQ11=\"\",IF(CR$4<$G11,\"\",ROUNDDOWN($J11*(1-$M11),0)),IF(ROUNDDOWN(CQ11*(1-$L11),0)<$J11*5%,$J11*5%,ROUNDDOWN(CQ11*(1-$L11),0))))","v":""},{"$f":"IF($J11=\"\",\"\",IF(CR11=\"\",IF(CS$4<$G11,\"\",ROUNDDOWN($J11*(1-$M11),0)),IF(ROUNDDOWN(CR11*(1-$L11),0)<$J11*5%,$J11*5%,ROUNDDOWN(CR11*(1-$L11),0))))","v":""},{"$f":"IF($J11=\"\",\"\",IF(CS11=\"\",IF(CT$4<$G11,\"\",ROUNDDOWN($J11*(1-$M11),0)),IF(ROUNDDOWN(CS11*(1-$L11),0)<$J11*5%,$J11*5%,ROUNDDOWN(CS11*(1-$L11),0))))","v":""},{"$f":"IF($J11=\"\",\"\",IF(CT11=\"\",IF(CU$4<$G11,\"\",ROUNDDOWN($J11*(1-$M11),0)),IF(ROUNDDOWN(CT11*(1-$L11),0)<$J11*5%,$J11*5%,ROUNDDOWN(CT11*(1-$L11),0))))","v":""},{"$f":"IF($J11=\"\",\"\",IF(CU11=\"\",IF(CV$4<$G11,\"\",ROUNDDOWN($J11*(1-$M11),0)),IF(ROUNDDOWN(CU11*(1-$L11),0)<$J11*5%,$J11*5%,ROUNDDOWN(CU11*(1-$L11),0))))","v":""},{"$f":"IF($J11=\"\",\"\",IF(CV11=\"\",IF(CW$4<$G11,\"\",ROUNDDOWN($J11*(1-$M11),0)),IF(ROUNDDOWN(CV11*(1-$L11),0)<$J11*5%,$J11*5%,ROUNDDOWN(CV11*(1-$L11),0))))","v":""},{"$f":"IF($J11=\"\",\"\",IF(CW11=\"\",IF(CX$4<$G11,\"\",ROUNDDOWN($J11*(1-$M11),0)),IF(ROUNDDOWN(CW11*(1-$L11),0)<$J11*5%,$J11*5%,ROUNDDOWN(CW11*(1-$L11),0))))","v":""},{"$f":"IF($J11=\"\",\"\",IF(CX11=\"\",IF(CY$4<$G11,\"\",ROUNDDOWN($J11*(1-$M11),0)),IF(ROUNDDOWN(CX11*(1-$L11),0)<$J11*5%,$J11*5%,ROUNDDOWN(CX11*(1-$L11),0))))","v":""}]
[null,8,null,null,null,null,null,{"$f":"IF(G12=\"\",\"\",Nengo(G12))","v":""},0,null,null,0,0,"","","","","","","","","","","","","","","","","","","","","","","","","","","","","","","","","","","","","","","","","","","","","","","","","","","","","","","","","","","","","","","","","","","","","","","","","","","","","","","","","","","","","","","","","",""]
[null,9,null,null,null,null,null,{"$f":"IF(G13=\"\",\"\",Nengo(G13))","v":""},0,null,null,0,0,"","","","","","","","","","","","","","","","","","","","","","","","","","","","","","","","","","","","","","","","","","","","","","","","","","","","","","","","","","","","","","","","","","","","","","","","","","","","","","","","","","","","","","","","","",""]
[null,10,null,null,null,null,null,{"$f":"IF(G14=\"\",\"\",Nengo(G14))","v":""},0,null,null,0,0,"","","","","","","","","","","","","","","","","","","","","","","","","","","","","","","","","","","","","","","","","","","","","","","","","","","","","","","","","","","","","","","","","","","","","","","","","","","","","","","","","","","","","","","","","",""]
[null,11,null,null,null,null,null,{"$f":"IF(G15=\"\",\"\",Nengo(G15))","v":""},0,null,null,0,0,"","","","","","","","","","","","","","","","","","","","","","","","","","","","","","","","","","","","","","","","","","","","","","","","","","","","","","","","","","","","","","","","","","","","","","","","","","","","","","","","","","","","","","","","","",""]
[null,12,null,null,null,null,null,{"$f":"IF(G16=\"\",\"\",Nengo(G16))","v":""},0,null,null,0,0,"","","","","","","","","","","","","","","","","","","","","","","","","","","","","","","","","","","","","","","","","","","","","","","","","","","","","","","","","","","","","","","","","","","","","","","","","","","","","","","","","","","","","","","","","",""]
[null,13,null,null,null,null,null,{"$f":"IF(G17=\"\",\"\",Nengo(G17))","v":""},0,null,null,0,0,"","","","","","","","","","","","","","","","","","","","","","","","","","","","","","","","","","","","","","","","","","","","","","","","","","","","","","","","","","","","","","","","","","","","","","","","","","","","","","","","","","","","","","","","","",""]
[null,14,null,null,null,null,null,{"$f":"IF(G18=\"\",\"\",Nengo(G18))","v":""},0,null,null,0,0,"","","","","","","","","","","","","","","","","","","","","","","","","","","","","","","","","","","","","","","","","","","","","","","","","","","","","","","","","","","","","","","","","","","","","","","","","","","","","","","","","","","","","","","","","",""]
[null,15,null,null,null,null,null,{"$f":"IF(G19=\"\",\"\",Nengo(G19))","v":""},0,null,null,0,0,"","","","",{"$f":"IF($J19=\"\",\"\",IF(Q19=\"\",IF(R$4<$G19,\"\",ROUNDDOWN($J19*(1-$M19),0)),IF(ROUNDDOWN(Q19*(1-$L19),0)<$J19*5%,$J19*5%,ROUNDDOWN(Q19*(1-$L19),0))))","v":""},"","","","","","","","","","","","","","","","","","","","","","","","","","","","","","","","","","","","","","","","","","","","","","","","","","","","","","","","","","","","","","","","","","","","","","","","","","","","","","","","","","","","",""]
[null,16,null,null,null,null,null,{"$f":"IF(G20=\"\",\"\",Nengo(G20))","v":""},{"$f":"IF(G20>DATE(YEAR($D$1)-1,1,1),1,0)","v":0},null,null,0,0,"","","","",{"$f":"IF($J20=\"\",\"\",IF(Q20=\"\",IF(R$4<$G20,\"\",ROUNDDOWN($J20*(1-$M20),0)),IF(ROUNDDOWN(Q20*(1-$L20),0)<$J20*5%,$J20*5%,ROUNDDOWN(Q20*(1-$L20),0))))","v":""},"","","","","","","","","","","","","","","","","","","","","","","","","","","","","","","","","","","","","","","","","","","","","","","","","","","","","","","","","","","","","","","","","","","","","","","","","","","","","","","","","","","","",""]
[null,17,null,null,null,null,null,{"$f":"IF(G21=\"\",\"\",Nengo(G21))","v":""},0,null,null,0,0,"","","","","","","","","","","","","","","","","","","","","","","","","","","","","","","","","","","","","","","","","","","","","","","","","","","","","","","","","","","","","","","","","","","","","","","","","","","","","","","","","","","","","","","","","",""]
[null,18,null,null,null,null,null,{"$f":"IF(G22=\"\",\"\",Nengo(G22))","v":""},0,null,null,0,0,"","","","","","","","","","","","","","","","","","","","","","","","","","","","","","","","","","","","","","","","","","","","","","","","","","","","","","","","","","","","","","","","","","","","","","","","","","","","","","","","","","","","","","","","","",""]
[null,19,null,null,null,null,null,{"$f":"IF(G23=\"\",\"\",Nengo(G23))","v":""},0,null,null,0,0,"","","","","","","","","","","","","","","","","","","","","","","","","","","","","","","","","","","","","","","","","","","","","","","","","","","","","","","","","","","","","","","","","","","","","","","","","","","","","","","","","","","","","","","","","",""]
[null,20,null,null,null,null,null,{"$f":"IF(G24=\"\",\"\",Nengo(G24))","v":""},0,null,null,0,0,"","","","","","","","","","","","","","","","","","","","","","","","","","","","","","","","","","","","","","","","","","","","","","","","","","","","","","","","","","","","","","","","","","","","","","","","","","","","","","","","","","","","","","","","","",""]
[null,21,null,null,null,null,null,{"$f":"IF(G25=\"\",\"\",Nengo(G25))","v":""},0,null,null,0,0,"","","","","","","","","","","","","","","","","","","","","","","","","","","","","","","","","","","","","","","","","","","","","","","","","","","","","","","","","","","","","","","","","","","","","","","","","","","","","","","","","","","","","","","","","",""]
[null,22,null,null,null,null,null,{"$f":"IF(G26=\"\",\"\",Nengo(G26))","v":""},0,null,null,0,0,"","","","","","","","","","","","","","","","","","","","","","","","","","","","","","","","","","","","","","","","","","","","","","","","","","","","","","","","","","","","","","","","","","","","","","","","","","","","","","","","","","","","","","","","","",""]
[null,23,null,null,null,null,null,{"$f":"IF(G27=\"\",\"\",Nengo(G27))","v":""},0,null,null,0,0,"","","","","","","","","","","","","","","","","","","","","","","","","","","","","","","","","","","","","","","","","","","","","","","","","","","","","","","","","","","","","","","","","","","","","","","","","","","","","","","","","","","","","","","","","",""]
[null,24,null,null,null,null,null,{"$f":"IF(G28=\"\",\"\",Nengo(G28))","v":""},0,null,null,0,0,"","","","","","","","","","","","","","","","","","","","","","","","","","","","","","","","","","","","","","","","","","","","","","","","","","","","","","","","","","","","","","","","","","","","","","","","","","","","","","","","","","","","","","","","","",""]
[null,25,null,null,null,null,null,{"$f":"IF(G29=\"\",\"\",Nengo(G29))","v":""},0,null,null,{"$f":"IF(K29=\"\",0,ROUND(1-(1/10)^(1/K29),3))","v":0},{"$f":"ROUND(L29/2,3)","v":0},{"$f":"IF(J29=\"\",\"\",IF(N$4<$G29,\"\",ROUNDDOWN($J29*(1-$M29),0)))","v":""},{"$f":"IF($J29=\"\",\"\",IF(N29=\"\",IF(O$4<$G29,\"\",ROUNDDOWN($J29*(1-$M29),0)),IF(ROUNDDOWN(N29*(1-$L29),0)<$J29*5%,$J29*5%,ROUNDDOWN(N29*(1-$L29),0))))","v":""},{"$f":"IF($J29=\"\",\"\",IF(O29=\"\",IF(P$4<$G29,\"\",ROUNDDOWN($J29*(1-$M29),0)),IF(ROUNDDOWN(O29*(1-$L29),0)<$J29*5%,$J29*5%,ROUNDDOWN(O29*(1-$L29),0))))","v":""},{"$f":"IF($J29=\"\",\"\",IF(P29=\"\",IF(Q$4<$G29,\"\",ROUNDDOWN($J29*(1-$M29),0)),IF(ROUNDDOWN(P29*(1-$L29),0)<$J29*5%,$J29*5%,ROUNDDOWN(P29*(1-$L29),0))))","v":""},{"$f":"IF($J29=\"\",\"\",IF(Q29=\"\",IF(R$4<$G29,\"\",ROUNDDOWN($J29*(1-$M29),0)),IF(ROUNDDOWN(Q29*(1-$L29),0)<$J29*5%,$J29*5%,ROUNDDOWN(Q29*(1-$L29),0))))","v":""},{"$f":"IF($J29=\"\",\"\",IF(R29=\"\",IF(S$4<$G29,\"\",ROUNDDOWN($J29*(1-$M29),0)),IF(ROUNDDOWN(R29*(1-$L29),0)<$J29*5%,$J29*5%,ROUNDDOWN(R29*(1-$L29),0))))","v":""},{"$f":"IF($J29=\"\",\"\",IF(S29=\"\",IF(T$4<$G29,\"\",ROUNDDOWN($J29*(1-$M29),0)),IF(ROUNDDOWN(S29*(1-$L29),0)<$J29*5%,$J29*5%,ROUNDDOWN(S29*(1-$L29),0))))","v":""},{"$f":"IF($J29=\"\",\"\",IF(T29=\"\",IF(U$4<$G29,\"\",ROUNDDOWN($J29*(1-$M29),0)),IF(ROUNDDOWN(T29*(1-$L29),0)<$J29*5%,$J29*5%,ROUNDDOWN(T29*(1-$L29),0))))","v":""},{"$f":"IF($J29=\"\",\"\",IF(U29=\"\",IF(V$4<$G29,\"\",ROUNDDOWN($J29*(1-$M29),0)),IF(ROUNDDOWN(U29*(1-$L29),0)<$J29*5%,$J29*5%,ROUNDDOWN(U29*(1-$L29),0))))","v":""},{"$f":"IF($J29=\"\",\"\",IF(V29=\"\",IF(W$4<$G29,\"\",ROUNDDOWN($J29*(1-$M29),0)),IF(ROUNDDOWN(V29*(1-$L29),0)<$J29*5%,$J29*5%,ROUNDDOWN(V29*(1-$L29),0))))","v":""},{"$f":"IF($J29=\"\",\"\",IF(W29=\"\",IF(X$4<$G29,\"\",ROUNDDOWN($J29*(1-$M29),0)),IF(ROUNDDOWN(W29*(1-$L29),0)<$J29*5%,$J29*5%,ROUNDDOWN(W29*(1-$L29),0))))","v":""},{"$f":"IF($J29=\"\",\"\",IF(X29=\"\",IF(Y$4<$G29,\"\",ROUNDDOWN($J29*(1-$M29),0)),IF(ROUNDDOWN(X29*(1-$L29),0)<$J29*5%,$J29*5%,ROUNDDOWN(X29*(1-$L29),0))))","v":""},{"$f":"IF($J29=\"\",\"\",IF(Y29=\"\",IF(Z$4<$G29,\"\",ROUNDDOWN($J29*(1-$M29),0)),IF(ROUNDDOWN(Y29*(1-$L29),0)<$J29*5%,$J29*5%,ROUNDDOWN(Y29*(1-$L29),0))))","v":""},{"$f":"IF($J29=\"\",\"\",IF(Z29=\"\",IF(AA$4<$G29,\"\",ROUNDDOWN($J29*(1-$M29),0)),IF(ROUNDDOWN(Z29*(1-$L29),0)<$J29*5%,$J29*5%,ROUNDDOWN(Z29*(1-$L29),0))))","v":""},{"$f":"IF($J29=\"\",\"\",IF(AA29=\"\",IF(AB$4<$G29,\"\",ROUNDDOWN($J29*(1-$M29),0)),IF(ROUNDDOWN(AA29*(1-$L29),0)<$J29*5%,$J29*5%,ROUNDDOWN(AA29*(1-$L29),0))))","v":""},{"$f":"IF($J29=\"\",\"\",IF(AB29=\"\",IF(AC$4<$G29,\"\",ROUNDDOWN($J29*(1-$M29),0)),IF(ROUNDDOWN(AB29*(1-$L29),0)<$J29*5%,$J29*5%,ROUNDDOWN(AB29*(1-$L29),0))))","v":""},{"$f":"IF($J29=\"\",\"\",IF(AC29=\"\",IF(AD$4<$G29,\"\",ROUNDDOWN($J29*(1-$M29),0)),IF(ROUNDDOWN(AC29*(1-$L29),0)<$J29*5%,$J29*5%,ROUNDDOWN(AC29*(1-$L29),0))))","v":""},{"$f":"IF($J29=\"\",\"\",IF(AD29=\"\",IF(AE$4<$G29,\"\",ROUNDDOWN($J29*(1-$M29),0)),IF(ROUNDDOWN(AD29*(1-$L29),0)<$J29*5%,$J29*5%,ROUNDDOWN(AD29*(1-$L29),0))))","v":""},{"$f":"IF($J29=\"\",\"\",IF(AE29=\"\",IF(AF$4<$G29,\"\",ROUNDDOWN($J29*(1-$M29),0)),IF(ROUNDDOWN(AE29*(1-$L29),0)<$J29*5%,$J29*5%,ROUNDDOWN(AE29*(1-$L29),0))))","v":""},{"$f":"IF($J29=\"\",\"\",IF(AF29=\"\",IF(AG$4<$G29,\"\",ROUNDDOWN($J29*(1-$M29),0)),IF(ROUNDDOWN(AF29*(1-$L29),0)<$J29*5%,$J29*5%,ROUNDDOWN(AF29*(1-$L29),0))))","v":""},{"$f":"IF($J29=\"\",\"\",IF(AG29=\"\",IF(AH$4<$G29,\"\",ROUNDDOWN($J29*(1-$M29),0)),IF(ROUNDDOWN(AG29*(1-$L29),0)<$J29*5%,$J29*5%,ROUNDDOWN(AG29*(1-$L29),0))))","v":""},{"$f":"IF($J29=\"\",\"\",IF(AH29=\"\",IF(AI$4<$G29,\"\",ROUNDDOWN($J29*(1-$M29),0)),IF(ROUNDDOWN(AH29*(1-$L29),0)<$J29*5%,$J29*5%,ROUNDDOWN(AH29*(1-$L29),0))))","v":""},{"$f":"IF($J29=\"\",\"\",IF(AI29=\"\",IF(AJ$4<$G29,\"\",ROUNDDOWN($J29*(1-$M29),0)),IF(ROUNDDOWN(AI29*(1-$L29),0)<$J29*5%,$J29*5%,ROUNDDOWN(AI29*(1-$L29),0))))","v":""},{"$f":"IF($J29=\"\",\"\",IF(AJ29=\"\",IF(AK$4<$G29,\"\",ROUNDDOWN($J29*(1-$M29),0)),IF(ROUNDDOWN(AJ29*(1-$L29),0)<$J29*5%,$J29*5%,ROUNDDOWN(AJ29*(1-$L29),0))))","v":""},{"$f":"IF($J29=\"\",\"\",IF(AK29=\"\",IF(AL$4<$G29,\"\",ROUNDDOWN($J29*(1-$M29),0)),IF(ROUNDDOWN(AK29*(1-$L29),0)<$J29*5%,$J29*5%,ROUNDDOWN(AK29*(1-$L29),0))))","v":""},{"$f":"IF($J29=\"\",\"\",IF(AL29=\"\",IF(AM$4<$G29,\"\",ROUNDDOWN($J29*(1-$M29),0)),IF(ROUNDDOWN(AL29*(1-$L29),0)<$J29*5%,$J29*5%,ROUNDDOWN(AL29*(1-$L29),0))))","v":""},{"$f":"IF($J29=\"\",\"\",IF(AM29=\"\",IF(AN$4<$G29,\"\",ROUNDDOWN($J29*(1-$M29),0)),IF(ROUNDDOWN(AM29*(1-$L29),0)<$J29*5%,$J29*5%,ROUNDDOWN(AM29*(1-$L29),0))))","v":""},{"$f":"IF($J29=\"\",\"\",IF(AN29=\"\",IF(AO$4<$G29,\"\",ROUNDDOWN($J29*(1-$M29),0)),IF(ROUNDDOWN(AN29*(1-$L29),0)<$J29*5%,$J29*5%,ROUNDDOWN(AN29*(1-$L29),0))))","v":""},{"$f":"IF($J29=\"\",\"\",IF(AO29=\"\",IF(AP$4<$G29,\"\",ROUNDDOWN($J29*(1-$M29),0)),IF(ROUNDDOWN(AO29*(1-$L29),0)<$J29*5%,$J29*5%,ROUNDDOWN(AO29*(1-$L29),0))))","v":""},{"$f":"IF($J29=\"\",\"\",IF(AP29=\"\",IF(AQ$4<$G29,\"\",ROUNDDOWN($J29*(1-$M29),0)),IF(ROUNDDOWN(AP29*(1-$L29),0)<$J29*5%,$J29*5%,ROUNDDOWN(AP29*(1-$L29),0))))","v":""},{"$f":"IF($J29=\"\",\"\",IF(AQ29=\"\",IF(AR$4<$G29,\"\",ROUNDDOWN($J29*(1-$M29),0)),IF(ROUNDDOWN(AQ29*(1-$L29),0)<$J29*5%,$J29*5%,ROUNDDOWN(AQ29*(1-$L29),0))))","v":""},{"$f":"IF($J29=\"\",\"\",IF(AR29=\"\",IF(AS$4<$G29,\"\",ROUNDDOWN($J29*(1-$M29),0)),IF(ROUNDDOWN(AR29*(1-$L29),0)<$J29*5%,$J29*5%,ROUNDDOWN(AR29*(1-$L29),0))))","v":""},{"$f":"IF($J29=\"\",\"\",IF(AS29=\"\",IF(AT$4<$G29,\"\",ROUNDDOWN($J29*(1-$M29),0)),IF(ROUNDDOWN(AS29*(1-$L29),0)<$J29*5%,$J29*5%,ROUNDDOWN(AS29*(1-$L29),0))))","v":""},{"$f":"IF($J29=\"\",\"\",IF(AT29=\"\",IF(AU$4<$G29,\"\",ROUNDDOWN($J29*(1-$M29),0)),IF(ROUNDDOWN(AT29*(1-$L29),0)<$J29*5%,$J29*5%,ROUNDDOWN(AT29*(1-$L29),0))))","v":""},{"$f":"IF($J29=\"\",\"\",IF(AU29=\"\",IF(AV$4<$G29,\"\",ROUNDDOWN($J29*(1-$M29),0)),IF(ROUNDDOWN(AU29*(1-$L29),0)<$J29*5%,$J29*5%,ROUNDDOWN(AU29*(1-$L29),0))))","v":""},{"$f":"IF($J29=\"\",\"\",IF(AV29=\"\",IF(AW$4<$G29,\"\",ROUNDDOWN($J29*(1-$M29),0)),IF(ROUNDDOWN(AV29*(1-$L29),0)<$J29*5%,$J29*5%,ROUNDDOWN(AV29*(1-$L29),0))))","v":""},{"$f":"IF($J29=\"\",\"\",IF(AW29=\"\",IF(AX$4<$G29,\"\",ROUNDDOWN($J29*(1-$M29),0)),IF(ROUNDDOWN(AW29*(1-$L29),0)<$J29*5%,$J29*5%,ROUNDDOWN(AW29*(1-$L29),0))))","v":""},{"$f":"IF($J29=\"\",\"\",IF(AX29=\"\",IF(AY$4<$G29,\"\",ROUNDDOWN($J29*(1-$M29),0)),IF(ROUNDDOWN(AX29*(1-$L29),0)<$J29*5%,$J29*5%,ROUNDDOWN(AX29*(1-$L29),0))))","v":""},{"$f":"IF($J29=\"\",\"\",IF(AY29=\"\",IF(AZ$4<$G29,\"\",ROUNDDOWN($J29*(1-$M29),0)),IF(ROUNDDOWN(AY29*(1-$L29),0)<$J29*5%,$J29*5%,ROUNDDOWN(AY29*(1-$L29),0))))","v":""},{"$f":"IF($J29=\"\",\"\",IF(AZ29=\"\",IF(BA$4<$G29,\"\",ROUNDDOWN($J29*(1-$M29),0)),IF(ROUNDDOWN(AZ29*(1-$L29),0)<$J29*5%,$J29*5%,ROUNDDOWN(AZ29*(1-$L29),0))))","v":""},{"$f":"IF($J29=\"\",\"\",IF(BA29=\"\",IF(BB$4<$G29,\"\",ROUNDDOWN($J29*(1-$M29),0)),IF(ROUNDDOWN(BA29*(1-$L29),0)<$J29*5%,$J29*5%,ROUNDDOWN(BA29*(1-$L29),0))))","v":""},{"$f":"IF($J29=\"\",\"\",IF(BB29=\"\",IF(BC$4<$G29,\"\",ROUNDDOWN($J29*(1-$M29),0)),IF(ROUNDDOWN(BB29*(1-$L29),0)<$J29*5%,$J29*5%,ROUNDDOWN(BB29*(1-$L29),0))))","v":""},{"$f":"IF($J29=\"\",\"\",IF(BC29=\"\",IF(BD$4<$G29,\"\",ROUNDDOWN($J29*(1-$M29),0)),IF(ROUNDDOWN(BC29*(1-$L29),0)<$J29*5%,$J29*5%,ROUNDDOWN(BC29*(1-$L29),0))))","v":""},{"$f":"IF($J29=\"\",\"\",IF(BD29=\"\",IF(BE$4<$G29,\"\",ROUNDDOWN($J29*(1-$M29),0)),IF(ROUNDDOWN(BD29*(1-$L29),0)<$J29*5%,$J29*5%,ROUNDDOWN(BD29*(1-$L29),0))))","v":""},{"$f":"IF($J29=\"\",\"\",IF(BE29=\"\",IF(BF$4<$G29,\"\",ROUNDDOWN($J29*(1-$M29),0)),IF(ROUNDDOWN(BE29*(1-$L29),0)<$J29*5%,$J29*5%,ROUNDDOWN(BE29*(1-$L29),0))))","v":""},{"$f":"IF($J29=\"\",\"\",IF(BF29=\"\",IF(BG$4<$G29,\"\",ROUNDDOWN($J29*(1-$M29),0)),IF(ROUNDDOWN(BF29*(1-$L29),0)<$J29*5%,$J29*5%,ROUNDDOWN(BF29*(1-$L29),0))))","v":""},{"$f":"IF($J29=\"\",\"\",IF(BG29=\"\",IF(BH$4<$G29,\"\",ROUNDDOWN($J29*(1-$M29),0)),IF(ROUNDDOWN(BG29*(1-$L29),0)<$J29*5%,$J29*5%,ROUNDDOWN(BG29*(1-$L29),0))))","v":""},{"$f":"IF($J29=\"\",\"\",IF(BH29=\"\",IF(BI$4<$G29,\"\",ROUNDDOWN($J29*(1-$M29),0)),IF(ROUNDDOWN(BH29*(1-$L29),0)<$J29*5%,$J29*5%,ROUNDDOWN(BH29*(1-$L29),0))))","v":""},{"$f":"IF($J29=\"\",\"\",IF(BI29=\"\",IF(BJ$4<$G29,\"\",ROUNDDOWN($J29*(1-$M29),0)),IF(ROUNDDOWN(BI29*(1-$L29),0)<$J29*5%,$J29*5%,ROUNDDOWN(BI29*(1-$L29),0))))","v":""},{"$f":"IF($J29=\"\",\"\",IF(BJ29=\"\",IF(BK$4<$G29,\"\",ROUNDDOWN($J29*(1-$M29),0)),IF(ROUNDDOWN(BJ29*(1-$L29),0)<$J29*5%,$J29*5%,ROUNDDOWN(BJ29*(1-$L29),0))))","v":""},{"$f":"IF($J29=\"\",\"\",IF(BK29=\"\",IF(BL$4<$G29,\"\",ROUNDDOWN($J29*(1-$M29),0)),IF(ROUNDDOWN(BK29*(1-$L29),0)<$J29*5%,$J29*5%,ROUNDDOWN(BK29*(1-$L29),0))))","v":""},{"$f":"IF($J29=\"\",\"\",IF(BL29=\"\",IF(BM$4<$G29,\"\",ROUNDDOWN($J29*(1-$M29),0)),IF(ROUNDDOWN(BL29*(1-$L29),0)<$J29*5%,$J29*5%,ROUNDDOWN(BL29*(1-$L29),0))))","v":""},{"$f":"IF($J29=\"\",\"\",IF(BM29=\"\",IF(BN$4<$G29,\"\",ROUNDDOWN($J29*(1-$M29),0)),IF(ROUNDDOWN(BM29*(1-$L29),0)<$J29*5%,$J29*5%,ROUNDDOWN(BM29*(1-$L29),0))))","v":""},{"$f":"IF($J29=\"\",\"\",IF(BN29=\"\",IF(BO$4<$G29,\"\",ROUNDDOWN($J29*(1-$M29),0)),IF(ROUNDDOWN(BN29*(1-$L29),0)<$J29*5%,$J29*5%,ROUNDDOWN(BN29*(1-$L29),0))))","v":""},{"$f":"IF($J29=\"\",\"\",IF(BO29=\"\",IF(BP$4<$G29,\"\",ROUNDDOWN($J29*(1-$M29),0)),IF(ROUNDDOWN(BO29*(1-$L29),0)<$J29*5%,$J29*5%,ROUNDDOWN(BO29*(1-$L29),0))))","v":""},{"$f":"IF($J29=\"\",\"\",IF(BP29=\"\",IF(BQ$4<$G29,\"\",ROUNDDOWN($J29*(1-$M29),0)),IF(ROUNDDOWN(BP29*(1-$L29),0)<$J29*5%,$J29*5%,ROUNDDOWN(BP29*(1-$L29),0))))","v":""},{"$f":"IF($J29=\"\",\"\",IF(BQ29=\"\",IF(BR$4<$G29,\"\",ROUNDDOWN($J29*(1-$M29),0)),IF(ROUNDDOWN(BQ29*(1-$L29),0)<$J29*5%,$J29*5%,ROUNDDOWN(BQ29*(1-$L29),0))))","v":""},{"$f":"IF($J29=\"\",\"\",IF(BR29=\"\",IF(BS$4<$G29,\"\",ROUNDDOWN($J29*(1-$M29),0)),IF(ROUNDDOWN(BR29*(1-$L29),0)<$J29*5%,$J29*5%,ROUNDDOWN(BR29*(1-$L29),0))))","v":""},{"$f":"IF($J29=\"\",\"\",IF(BS29=\"\",IF(BT$4<$G29,\"\",ROUNDDOWN($J29*(1-$M29),0)),IF(ROUNDDOWN(BS29*(1-$L29),0)<$J29*5%,$J29*5%,ROUNDDOWN(BS29*(1-$L29),0))))","v":""},{"$f":"IF($J29=\"\",\"\",IF(BT29=\"\",IF(BU$4<$G29,\"\",ROUNDDOWN($J29*(1-$M29),0)),IF(ROUNDDOWN(BT29*(1-$L29),0)<$J29*5%,$J29*5%,ROUNDDOWN(BT29*(1-$L29),0))))","v":""},{"$f":"IF($J29=\"\",\"\",IF(BU29=\"\",IF(BV$4<$G29,\"\",ROUNDDOWN($J29*(1-$M29),0)),IF(ROUNDDOWN(BU29*(1-$L29),0)<$J29*5%,$J29*5%,ROUNDDOWN(BU29*(1-$L29),0))))","v":""},{"$f":"IF($J29=\"\",\"\",IF(BV29=\"\",IF(BW$4<$G29,\"\",ROUNDDOWN($J29*(1-$M29),0)),IF(ROUNDDOWN(BV29*(1-$L29),0)<$J29*5%,$J29*5%,ROUNDDOWN(BV29*(1-$L29),0))))","v":""},{"$f":"IF($J29=\"\",\"\",IF(BW29=\"\",IF(BX$4<$G29,\"\",ROUNDDOWN($J29*(1-$M29),0)),IF(ROUNDDOWN(BW29*(1-$L29),0)<$J29*5%,$J29*5%,ROUNDDOWN(BW29*(1-$L29),0))))","v":""},{"$f":"IF($J29=\"\",\"\",IF(BX29=\"\",IF(BY$4<$G29,\"\",ROUNDDOWN($J29*(1-$M29),0)),IF(ROUNDDOWN(BX29*(1-$L29),0)<$J29*5%,$J29*5%,ROUNDDOWN(BX29*(1-$L29),0))))","v":""},{"$f":"IF($J29=\"\",\"\",IF(BY29=\"\",IF(BZ$4<$G29,\"\",ROUNDDOWN($J29*(1-$M29),0)),IF(ROUNDDOWN(BY29*(1-$L29),0)<$J29*5%,$J29*5%,ROUNDDOWN(BY29*(1-$L29),0))))","v":""},{"$f":"IF($J29=\"\",\"\",IF(BZ29=\"\",IF(CA$4<$G29,\"\",ROUNDDOWN($J29*(1-$M29),0)),IF(ROUNDDOWN(BZ29*(1-$L29),0)<$J29*5%,$J29*5%,ROUNDDOWN(BZ29*(1-$L29),0))))","v":""},{"$f":"IF($J29=\"\",\"\",IF(CA29=\"\",IF(CB$4<$G29,\"\",ROUNDDOWN($J29*(1-$M29),0)),IF(ROUNDDOWN(CA29*(1-$L29),0)<$J29*5%,$J29*5%,ROUNDDOWN(CA29*(1-$L29),0))))","v":""},{"$f":"IF($J29=\"\",\"\",IF(CB29=\"\",IF(CC$4<$G29,\"\",ROUNDDOWN($J29*(1-$M29),0)),IF(ROUNDDOWN(CB29*(1-$L29),0)<$J29*5%,$J29*5%,ROUNDDOWN(CB29*(1-$L29),0))))","v":""},{"$f":"IF($J29=\"\",\"\",IF(CC29=\"\",IF(CD$4<$G29,\"\",ROUNDDOWN($J29*(1-$M29),0)),IF(ROUNDDOWN(CC29*(1-$L29),0)<$J29*5%,$J29*5%,ROUNDDOWN(CC29*(1-$L29),0))))","v":""},{"$f":"IF($J29=\"\",\"\",IF(CD29=\"\",IF(CE$4<$G29,\"\",ROUNDDOWN($J29*(1-$M29),0)),IF(ROUNDDOWN(CD29*(1-$L29),0)<$J29*5%,$J29*5%,ROUNDDOWN(CD29*(1-$L29),0))))","v":""},{"$f":"IF($J29=\"\",\"\",IF(CE29=\"\",IF(CF$4<$G29,\"\",ROUNDDOWN($J29*(1-$M29),0)),IF(ROUNDDOWN(CE29*(1-$L29),0)<$J29*5%,$J29*5%,ROUNDDOWN(CE29*(1-$L29),0))))","v":""},{"$f":"IF($J29=\"\",\"\",IF(CF29=\"\",IF(CG$4<$G29,\"\",ROUNDDOWN($J29*(1-$M29),0)),IF(ROUNDDOWN(CF29*(1-$L29),0)<$J29*5%,$J29*5%,ROUNDDOWN(CF29*(1-$L29),0))))","v":""},{"$f":"IF($J29=\"\",\"\",IF(CG29=\"\",IF(CH$4<$G29,\"\",ROUNDDOWN($J29*(1-$M29),0)),IF(ROUNDDOWN(CG29*(1-$L29),0)<$J29*5%,$J29*5%,ROUNDDOWN(CG29*(1-$L29),0))))","v":""},{"$f":"IF($J29=\"\",\"\",IF(CH29=\"\",IF(CI$4<$G29,\"\",ROUNDDOWN($J29*(1-$M29),0)),IF(ROUNDDOWN(CH29*(1-$L29),0)<$J29*5%,$J29*5%,ROUNDDOWN(CH29*(1-$L29),0))))","v":""},{"$f":"IF($J29=\"\",\"\",IF(CI29=\"\",IF(CJ$4<$G29,\"\",ROUNDDOWN($J29*(1-$M29),0)),IF(ROUNDDOWN(CI29*(1-$L29),0)<$J29*5%,$J29*5%,ROUNDDOWN(CI29*(1-$L29),0))))","v":""},{"$f":"IF($J29=\"\",\"\",IF(CJ29=\"\",IF(CK$4<$G29,\"\",ROUNDDOWN($J29*(1-$M29),0)),IF(ROUNDDOWN(CJ29*(1-$L29),0)<$J29*5%,$J29*5%,ROUNDDOWN(CJ29*(1-$L29),0))))","v":""},{"$f":"IF($J29=\"\",\"\",IF(CK29=\"\",IF(CL$4<$G29,\"\",ROUNDDOWN($J29*(1-$M29),0)),IF(ROUNDDOWN(CK29*(1-$L29),0)<$J29*5%,$J29*5%,ROUNDDOWN(CK29*(1-$L29),0))))","v":""},{"$f":"IF($J29=\"\",\"\",IF(CL29=\"\",IF(CM$4<$G29,\"\",ROUNDDOWN($J29*(1-$M29),0)),IF(ROUNDDOWN(CL29*(1-$L29),0)<$J29*5%,$J29*5%,ROUNDDOWN(CL29*(1-$L29),0))))","v":""},{"$f":"IF($J29=\"\",\"\",IF(CM29=\"\",IF(CN$4<$G29,\"\",ROUNDDOWN($J29*(1-$M29),0)),IF(ROUNDDOWN(CM29*(1-$L29),0)<$J29*5%,$J29*5%,ROUNDDOWN(CM29*(1-$L29),0))))","v":""},{"$f":"IF($J29=\"\",\"\",IF(CN29=\"\",IF(CO$4<$G29,\"\",ROUNDDOWN($J29*(1-$M29),0)),IF(ROUNDDOWN(CN29*(1-$L29),0)<$J29*5%,$J29*5%,ROUNDDOWN(CN29*(1-$L29),0))))","v":""},{"$f":"IF($J29=\"\",\"\",IF(CO29=\"\",IF(CP$4<$G29,\"\",ROUNDDOWN($J29*(1-$M29),0)),IF(ROUNDDOWN(CO29*(1-$L29),0)<$J29*5%,$J29*5%,ROUNDDOWN(CO29*(1-$L29),0))))","v":""},{"$f":"IF($J29=\"\",\"\",IF(CP29=\"\",IF(CQ$4<$G29,\"\",ROUNDDOWN($J29*(1-$M29),0)),IF(ROUNDDOWN(CP29*(1-$L29),0)<$J29*5%,$J29*5%,ROUNDDOWN(CP29*(1-$L29),0))))","v":""},{"$f":"IF($J29=\"\",\"\",IF(CQ29=\"\",IF(CR$4<$G29,\"\",ROUNDDOWN($J29*(1-$M29),0)),IF(ROUNDDOWN(CQ29*(1-$L29),0)<$J29*5%,$J29*5%,ROUNDDOWN(CQ29*(1-$L29),0))))","v":""},{"$f":"IF($J29=\"\",\"\",IF(CR29=\"\",IF(CS$4<$G29,\"\",ROUNDDOWN($J29*(1-$M29),0)),IF(ROUNDDOWN(CR29*(1-$L29),0)<$J29*5%,$J29*5%,ROUNDDOWN(CR29*(1-$L29),0))))","v":""},{"$f":"IF($J29=\"\",\"\",IF(CS29=\"\",IF(CT$4<$G29,\"\",ROUNDDOWN($J29*(1-$M29),0)),IF(ROUNDDOWN(CS29*(1-$L29),0)<$J29*5%,$J29*5%,ROUNDDOWN(CS29*(1-$L29),0))))","v":""},{"$f":"IF($J29=\"\",\"\",IF(CT29=\"\",IF(CU$4<$G29,\"\",ROUNDDOWN($J29*(1-$M29),0)),IF(ROUNDDOWN(CT29*(1-$L29),0)<$J29*5%,$J29*5%,ROUNDDOWN(CT29*(1-$L29),0))))","v":""},{"$f":"IF($J29=\"\",\"\",IF(CU29=\"\",IF(CV$4<$G29,\"\",ROUNDDOWN($J29*(1-$M29),0)),IF(ROUNDDOWN(CU29*(1-$L29),0)<$J29*5%,$J29*5%,ROUNDDOWN(CU29*(1-$L29),0))))","v":""},{"$f":"IF($J29=\"\",\"\",IF(CV29=\"\",IF(CW$4<$G29,\"\",ROUNDDOWN($J29*(1-$M29),0)),IF(ROUNDDOWN(CV29*(1-$L29),0)<$J29*5%,$J29*5%,ROUNDDOWN(CV29*(1-$L29),0))))","v":""},{"$f":"IF($J29=\"\",\"\",IF(CW29=\"\",IF(CX$4<$G29,\"\",ROUNDDOWN($J29*(1-$M29),0)),IF(ROUNDDOWN(CW29*(1-$L29),0)<$J29*5%,$J29*5%,ROUNDDOWN(CW29*(1-$L29),0))))","v":""},{"$f":"IF($J29=\"\",\"\",IF(CX29=\"\",IF(CY$4<$G29,\"\",ROUNDDOWN($J29*(1-$M29),0)),IF(ROUNDDOWN(CX29*(1-$L29),0)<$J29*5%,$J29*5%,ROUNDDOWN(CX29*(1-$L29),0))))","v":""}]
[null,26,null,null,null,null,null,{"$f":"IF(G30=\"\",\"\",Nengo(G30))","v":""},0,null,null,0,0,"","","","","","","","","","","","","","","","","","","","","","","","","","","","","","","","","","","","","","","","","","","","","","","","","","","","","","","","","","","","","","","","","","","","","","","","","","","","","","","","","","","","","","","","","",""]
[null,27,null,null,null,null,null,{"$f":"IF(G31=\"\",\"\",Nengo(G31))","v":""},0,null,null,0,0,"","","","","","","","","","","","","","","","","","","","","","","","","","","","","","","","","","","","","","","","","","","","","","","","","","","","","","","","","","","","","","","","","","","","","","","","","","","","","","","","","","","","","","","","","",""]
[null,28,null,null,null,null,null,{"$f":"IF(G32=\"\",\"\",Nengo(G32))","v":""},0,null,null,0,0,"","","","","","","","","","","","","","","","","","","","","","","","","","","","","","","","","","","","","","","","","","","","","","","","","","","","","","","","","","","","","","","","","","","","","","","","","","","","","","","","","","","","","","","","","",""]
[null,29,null,null,null,null,null,{"$f":"IF(G33=\"\",\"\",Nengo(G33))","v":""},0,null,null,0,0,"","","","","","","","","","","","","","","","","","","","","","","","","","","","","","","","","","","","","","","","","","","","","","","","","","","","","","","","","","","","","","","","","","","","","","","","","","","","","","","","","","","","","","","","","",""]
[null,30,null,null,null,null,null,{"$f":"IF(G34=\"\",\"\",Nengo(G34))","v":""},0,null,null,0,0,"","","","","","","","","","","","","","","","","","","","","","","","","","","","","","","","","","","","","","","","","","","","","","","","","","","","","","","","","","","","","","","","","","","","","","","","","","","","","","","","","","","","","","","","","",""]
[null,"合計",null,null,null,null,null,null,null,{"$f":"SUM(J5:J34)","v":5385000},null,null,null,{"$f":"SUM(N5:N34)","v":2780700},2207875,1753052,1391923,1105186,877517,696748,553217,439254,348767,276920,219874,174579,155000,155000,155000,155000,155000,155000,155000,155000,155000,155000,155000,155000,155000,155000,155000,155000,155000,155000,155000,{"$f":"SUM(AT5:AT34)","v":155000},155000,155000,155000,155000,155000,155000,155000,155000,155000,1578300,1179776,1434637,1076337,818361,632617,498882,402594,333265,292094,276877,269250,269250,269250,269250,269250,269250,269250,269250,269250,269250,269250,{"$f":"SUM(BZ5:BZ34)","v":269250},269250,269250,269250,269250,269250,269250,269250,269250,269250,269250,269250,269250,269250,269250,269250,269250,269250,269250,269250,269250,269250,269250,269250,269250,269250]
[]
[]
[null,"税額",null,null,null,null,null,null,null,null,null,null,null,{"$f":"ROUNDDOWN(ROUNDDOWN(SUM(N5:N34),-3)*1.4%,-2)","v":38900},30800,24500,19400,15400,12200,9700,7700,6100,4800,3800,3000,2400,2100,2100,2100,2100,2100,2100,2100,2100,2100,2100,2100,2100,2100,2100,2100,2100,2100,2100,2100,{"$f":"ROUNDDOWN(ROUNDDOWN(SUM(AT5:AT34),-3)*1.4%,-2)","v":2100},2100,2100,2100,2100,2100,2100,2100,2100,2100,22000,16500,20000,15000,11400,8800,6900,5600,4600,4000,3800,3700,3700,3700,3700,3700,3700,3700,3700,3700,3700,3700,{"$f":"ROUNDDOWN(ROUNDDOWN(SUM(BZ5:BZ34),-3)*1.4%,-2)","v":3700},3700,3700,3700,3700,3700,3700,3700,3700,3700,3700,3700,3700,3700,3700,3700,3700,3700,3700,3700,3700,3700,3700,3700,3700,3700]

{"sheet":"計算用シート","index":1,"n_rows":19,"n_cols":91,"rows_kept":19,"cut":false,"hidden":true,"merged":[]}
[null,"年号フラグ","今年","前年"]
[null,{"$f":"Nengo(償却資産入力!D1)","v":5},{"$f":"償却資産入力!D1","v":"2024-01-01"},{"$f":"DATE(YEAR(償却資産入力!D1)-1,2,1)","v":"2023-02-01"}]
[]
[null,"前前年以前","前年中に減少","前年中に増加","計"]
[1,{"$f":"SUMIFS(償却資産入力!J$5:J$34,償却資産入力!C$5:C$34,計算用シート!A5,償却資産入力!I$5:I$34,0)","v":0},{"$f":"'申告書（提出用）'!I26","v":0},{"$f":"SUMIFS(償却資産入力!J$5:J$34,償却資産入力!C$5:C$34,計算用シート!A5,償却資産入力!I$5:I$34,1)","v":0},{"$f":"B5-C5+D5","v":0}]
[2,{"$f":"SUMIFS(償却資産入力!J$5:J$34,償却資産入力!C$5:C$34,計算用シート!A6,償却資産入力!I$5:I$34,0)","v":2285000},{"$f":"'申告書（提出用）'!I28","v":0},{"$f":"SUMIFS(償却資産入力!J$5:J$34,償却資産入力!C$5:C$34,計算用シート!A6,償却資産入力!I$5:I$34,1)","v":0},{"$f":"B6-C6+D6","v":2285000}]
[3,{"$f":"SUMIFS(償却資産入力!J$5:J$34,償却資産入力!C$5:C$34,計算用シート!A7,償却資産入力!I$5:I$34,0)","v":0},{"$f":"'申告書（提出用）'!I30","v":0},{"$f":"SUMIFS(償却資産入力!J$5:J$34,償却資産入力!C$5:C$34,計算用シート!A7,償却資産入力!I$5:I$34,1)","v":0},0]
[4,{"$f":"SUMIFS(償却資産入力!J$5:J$34,償却資産入力!C$5:C$34,計算用シート!A8,償却資産入力!I$5:I$34,0)","v":0},{"$f":"'申告書（提出用）'!I32","v":0},{"$f":"SUMIFS(償却資産入力!J$5:J$34,償却資産入力!C$5:C$34,計算用シート!A8,償却資産入力!I$5:I$34,1)","v":0},0]
[5,{"$f":"SUMIFS(償却資産入力!J$5:J$34,償却資産入力!C$5:C$34,計算用シート!A9,償却資産入力!I$5:I$34,0)","v":0},{"$f":"'申告書（提出用）'!I34","v":0},{"$f":"SUMIFS(償却資産入力!J$5:J$34,償却資産入力!C$5:C$34,計算用シート!A9,償却資産入力!I$5:I$34,1)","v":0},0]
[6,{"$f":"SUMIFS(償却資産入力!J$5:J$34,償却資産入力!C$5:C$34,計算用シート!A10,償却資産入力!I$5:I$34,0)","v":3100000},{"$f":"'申告書（提出用）'!I36","v":0},{"$f":"SUMIFS(償却資産入力!J$5:J$34,償却資産入力!C$5:C$34,計算用シート!A10,償却資産入力!I$5:I$34,1)","v":0},3100000]
[]
[]
[null,{"$f":"償却資産入力!N4","v":"1979-01-01"},{"$f":"償却資産入力!O4","v":"1980-01-01"},{"$f":"償却資産入力!P4","v":"1981-01-01"},{"$f":"償却資産入力!Q4","v":"1982-01-01"},{"$f":"償却資産入力!R4","v":"1983-01-01"},{"$f":"償却資産入力!S4","v":"1984-01-01"},{"$f":"償却資産入力!T4","v":"1985-01-01"},{"$f":"償却資産入力!U4","v":"1986-01-01"},{"$f":"償却資産入力!V4","v":"1987-01-01"},{"$f":"償却資産入力!W4","v":"1988-01-01"},{"$f":"償却資産入力!X4","v":"1989-01-01"},{"$f":"償却資産入力!Y4","v":"1990-01-01"},{"$f":"償却資産入力!Z4","v":"1991-01-01"},{"$f":"償却資産入力!AA4","v":"1992-01-01"},{"$f":"償却資産入力!AB4","v":"1993-01-01"},{"$f":"償却資産入力!AC4","v":"1994-01-01"},{"$f":"償却資産入力!AD4","v":"1995-01-01"},{"$f":"償却資産入力!AE4","v":"1996-01-01"},{"$f":"償却資産入力!AF4","v":"1997-01-01"},{"$f":"償却資産入力!AG4","v":"1998-01-01"},{"$f":"償却資産入力!AH4","v":"1999-01-01"},{"$f":"償却資産入力!AI4","v":"2000-01-01"},{"$f":"償却資産入力!AJ4","v":"2001-01-01"},{"$f":"償却資産入力!AK4","v":"2002-01-01"},{"$f":"償却資産入力!AL4","v":"2003-01-01"},{"$f":"償却資産入力!AM4","v":"2004-01-01"},{"$f":"償却資産入力!AN4","v":"2005-01-01"},{"$f":"償却資産入力!AO4","v":"2006-01-01"},{"$f":"償却資産入力!AP4","v":"2007-01-01"},{"$f":"償却資産入力!AQ4","v":"2008-01-01"},{"$f":"償却資産入力!AR4","v":"2009-01-01"},{"$f":"償却資産入力!AS4","v":"2010-01-01"},{"$f":"償却資産入力!AT4","v":"2011-01-01"},{"$f":"償却資産入力!AU4","v":"2012-01-01"},{"$f":"償却資産入力!AV4","v":"2013-01-01"},{"$f":"償却資産入力!AW4","v":"2014-01-01"},{"$f":"償却資産入力!AX4","v":"2015-01-01"},{"$f":"償却資産入力!AY4","v":"2016-01-01"},{"$f":"償却資産入力!AZ4","v":"2017-01-01"},{"$f":"償却資産入力!BA4","v":"2018-01-01"},{"$f":"償却資産入力!BB4","v":"2019-01-01"},{"$f":"償却資産入力!BC4","v":"2020-01-01"},{"$f":"償却資産入力!BD4","v":"2021-01-01"},{"$f":"償却資産入力!BE4","v":"2022-01-01"},{"$f":"償却資産入力!BF4","v":"2023-01-01"},{"$f":"償却資産入力!BG4","v":"2024-01-01"},{"$f":"償却資産入力!BH4","v":"2025-01-01"},{"$f":"償却資産入力!BI4","v":"2026-01-01"},{"$f":"償却資産入力!BJ4","v":"2027-01-01"},{"$f":"償却資産入力!BK4","v":"2028-01-01"},{"$f":"償却資産入力!BL4","v":"2029-01-01"},{"$f":"償却資産入力!BM4","v":"2030-01-01"},{"$f":"償却資産入力!BN4","v":"2031-01-01"},{"$f":"償却資産入力!BO4","v":"2032-01-01"},{"$f":"償却資産入力!BP4","v":"2033-01-01"},{"$f":"償却資産入力!BQ4","v":"2034-01-01"},{"$f":"償却資産入力!BR4","v":"2035-01-01"},{"$f":"償却資産入力!BS4","v":"2036-01-01"},{"$f":"償却資産入力!BT4","v":"2037-01-01"},{"$f":"償却資産入力!BU4","v":"2038-01-01"},{"$f":"償却資産入力!BV4","v":"2039-01-01"},{"$f":"償却資産入力!BW4","v":"2040-01-01"},{"$f":"償却資産入力!BX4","v":"2041-01-01"},{"$f":"償却資産入力!BY4","v":"2042-01-01"},{"$f":"償却資産入力!BZ4","v":"2043-01-01"},{"$f":"償却資産入力!CA4","v":"2044-01-01"},{"$f":"償却資産入力!CB4","v":"2045-01-01"},{"$f":"償却資産入力!CC4","v":"2046-01-01"},{"$f":"償却資産入力!CD4","v":"2047-01-01"},{"$f":"償却資産入力!CE4","v":"2048-01-01"},{"$f":"償却資産入力!CF4","v":"2049-01-01"},{"$f":"償却資産入力!CG4","v":"2050-01-01"},{"$f":"償却資産入力!CH4","v":"2051-01-01"},{"$f":"償却資産入力!CI4","v":"2052-01-01"},{"$f":"償却資産入力!CJ4","v":"2053-01-01"},{"$f":"償却資産入力!CK4","v":"2054-01-01"},{"$f":"償却資産入力!CL4","v":"2055-01-01"},{"$f":"償却資産入力!CM4","v":"2056-01-01"},{"$f":"償却資産入力!CN4","v":"2057-01-01"},{"$f":"償却資産入力!CO4","v":"2058-01-01"},{"$f":"償却資産入力!CP4","v":"2059-01-01"},{"$f":"償却資産入力!CQ4","v":"2060-01-01"},{"$f":"償却資産入力!CR4","v":"2061-01-01"},{"$f":"償却資産入力!CS4","v":"2062-01-01"},{"$f":"償却資産入力!CT4","v":"2063-01-01"},{"$f":"償却資産入力!CU4","v":"2064-01-01"},{"$f":"償却資産入力!CV4","v":"2065-01-01"},{"$f":"償却資産入力!CW4","v":"2066-01-01"},{"$f":"償却資産入力!CX4","v":"2067-01-01"},{"$f":"償却資産入力!CY4","v":"2068-01-01"}]
[1,{"$f":"SUMIF(償却資産入力!$C$5:$C$34,計算用シート!$A14,償却資産入力!N$5:N$34)","v":0},{"$f":"SUMIF(償却資産入力!$C$5:$C$34,計算用シート!$A14,償却資産入力!O$5:O$34)","v":0},{"$f":"SUMIF(償却資産入力!$C$5:$C$34,計算用シート!$A14,償却資産入力!P$5:P$34)","v":0},{"$f":"SUMIF(償却資産入力!$C$5:$C$34,計算用シート!$A14,償却資産入力!Q$5:Q$34)","v":0},{"$f":"SUMIF(償却資産入力!$C$5:$C$34,計算用シート!$A14,償却資産入力!R$5:R$34)","v":0},{"$f":"SUMIF(償却資産入力!$C$5:$C$34,計算用シート!$A14,償却資産入力!S$5:S$34)","v":0},{"$f":"SUMIF(償却資産入力!$C$5:$C$34,計算用シート!$A14,償却資産入力!T$5:T$34)","v":0},{"$f":"SUMIF(償却資産入力!$C$5:$C$34,計算用シート!$A14,償却資産入力!U$5:U$34)","v":0},{"$f":"SUMIF(償却資産入力!$C$5:$C$34,計算用シート!$A14,償却資産入力!V$5:V$34)","v":0},{"$f":"SUMIF(償却資産入力!$C$5:$C$34,計算用シート!$A14,償却資産入力!W$5:W$34)","v":0},{"$f":"SUMIF(償却資産入力!$C$5:$C$34,計算用シート!$A14,償却資産入力!X$5:X$34)","v":0},{"$f":"SUMIF(償却資産入力!$C$5:$C$34,計算用シート!$A14,償却資産入力!Y$5:Y$34)","v":0},{"$f":"SUMIF(償却資産入力!$C$5:$C$34,計算用シート!$A14,償却資産入力!Z$5:Z$34)","v":0},{"$f":"SUMIF(償却資産入力!$C$5:$C$34,計算用シート!$A14,償却資産入力!AA$5:AA$34)","v":0},{"$f":"SUMIF(償却資産入力!$C$5:$C$34,計算用シート!$A14,償却資産入力!AB$5:AB$34)","v":0},{"$f":"SUMIF(償却資産入力!$C$5:$C$34,計算用シート!$A14,償却資産入力!AC$5:AC$34)","v":0},{"$f":"SUMIF(償却資産入力!$C$5:$C$34,計算用シート!$A14,償却資産入力!AD$5:AD$34)","v":0},{"$f":"SUMIF(償却資産入力!$C$5:$C$34,計算用シート!$A14,償却資産入力!AE$5:AE$34)","v":0},{"$f":"SUMIF(償却資産入力!$C$5:$C$34,計算用シート!$A14,償却資産入力!AF$5:AF$34)","v":0},{"$f":"SUMIF(償却資産入力!$C$5:$C$34,計算用シート!$A14,償却資産入力!AG$5:AG$34)","v":0},{"$f":"SUMIF(償却資産入力!$C$5:$C$34,計算用シート!$A14,償却資産入力!AH$5:AH$34)","v":0},{"$f":"SUMIF(償却資産入力!$C$5:$C$34,計算用シート!$A14,償却資産入力!AI$5:AI$34)","v":0},{"$f":"SUMIF(償却資産入力!$C$5:$C$34,計算用シート!$A14,償却資産入力!AJ$5:AJ$34)","v":0},{"$f":"SUMIF(償却資産入力!$C$5:$C$34,計算用シート!$A14,償却資産入力!AK$5:AK$34)","v":0},{"$f":"SUMIF(償却資産入力!$C$5:$C$34,計算用シート!$A14,償却資産入力!AL$5:AL$34)","v":0},{"$f":"SUMIF(償却資産入力!$C$5:$C$34,計算用シート!$A14,償却資産入力!AM$5:AM$34)","v":0},{"$f":"SUMIF(償却資産入力!$C$5:$C$34,計算用シート!$A14,償却資産入力!AN$5:AN$34)","v":0},{"$f":"SUMIF(償却資産入力!$C$5:$C$34,計算用シート!$A14,償却資産入力!AO$5:AO$34)","v":0},{"$f":"SUMIF(償却資産入力!$C$5:$C$34,計算用シート!$A14,償却資産入力!AP$5:AP$34)","v":0},{"$f":"SUMIF(償却資産入力!$C$5:$C$34,計算用シート!$A14,償却資産入力!AQ$5:AQ$34)","v":0},{"$f":"SUMIF(償却資産入力!$C$5:$C$34,計算用シート!$A14,償却資産入力!AR$5:AR$34)","v":0},{"$f":"SUMIF(償却資産入力!$C$5:$C$34,計算用シート!$A14,償却資産入力!AS$5:AS$34)","v":0},{"$f":"SUMIF(償却資産入力!$C$5:$C$34,計算用シート!$A14,償却資産入力!AT$5:AT$34)","v":0},{"$f":"SUMIF(償却資産入力!$C$5:$C$34,計算用シート!$A14,償却資産入力!AU$5:AU$34)","v":0},{"$f":"SUMIF(償却資産入力!$C$5:$C$34,計算用シート!$A14,償却資産入力!AV$5:AV$34)","v":0},{"$f":"SUMIF(償却資産入力!$C$5:$C$34,計算用シート!$A14,償却資産入力!AW$5:AW$34)","v":0},{"$f":"SUMIF(償却資産入力!$C$5:$C$34,計算用シート!$A14,償却資産入力!AX$5:AX$34)","v":0},{"$f":"SUMIF(償却資産入力!$C$5:$C$34,計算用シート!$A14,償却資産入力!AY$5:AY$34)","v":0},{"$f":"SUMIF(償却資産入力!$C$5:$C$34,計算用シート!$A14,償却資産入力!AZ$5:AZ$34)","v":0},{"$f":"SUMIF(償却資産入力!$C$5:$C$34,計算用シート!$A14,償却資産入力!BA$5:BA$34)","v":0},{"$f":"SUMIF(償却資産入力!$C$5:$C$34,計算用シート!$A14,償却資産入力!BB$5:BB$34)","v":0},{"$f":"SUMIF(償却資産入力!$C$5:$C$34,計算用シート!$A14,償却資産入力!BC$5:BC$34)","v":0},{"$f":"SUMIF(償却資産入力!$C$5:$C$34,計算用シート!$A14,償却資産入力!BD$5:BD$34)","v":0},{"$f":"SUMIF(償却資産入力!$C$5:$C$34,計算用シート!$A14,償却資産入力!BE$5:BE$34)","v":0},{"$f":"SUMIF(償却資産入力!$C$5:$C$34,計算用シート!$A14,償却資産入力!BF$5:BF$34)","v":0},{"$f":"SUMIF(償却資産入力!$C$5:$C$34,計算用シート!$A14,償却資産入力!BG$5:BG$34)","v":0},{"$f":"SUMIF(償却資産入力!$C$5:$C$34,計算用シート!$A14,償却資産入力!BH$5:BH$34)","v":0},{"$f":"SUMIF(償却資産入力!$C$5:$C$34,計算用シート!$A14,償却資産入力!BI$5:BI$34)","v":0},{"$f":"SUMIF(償却資産入力!$C$5:$C$34,計算用シート!$A14,償却資産入力!BJ$5:BJ$34)","v":0},{"$f":"SUMIF(償却資産入力!$C$5:$C$34,計算用シート!$A14,償却資産入力!BK$5:BK$34)","v":0},{"$f":"SUMIF(償却資産入力!$C$5:$C$34,計算用シート!$A14,償却資産入力!BL$5:BL$34)","v":0},{"$f":"SUMIF(償却資産入力!$C$5:$C$34,計算用シート!$A14,償却資産入力!BM$5:BM$34)","v":0},{"$f":"SUMIF(償却資産入力!$C$5:$C$34,計算用シート!$A14,償却資産入力!BN$5:BN$34)","v":0},{"$f":"SUMIF(償却資産入力!$C$5:$C$34,計算用シート!$A14,償却資産入力!BO$5:BO$34)","v":0},{"$f":"SUMIF(償却資産入力!$C$5:$C$34,計算用シート!$A14,償却資産入力!BP$5:BP$34)","v":0},{"$f":"SUMIF(償却資産入力!$C$5:$C$34,計算用シート!$A14,償却資産入力!BQ$5:BQ$34)","v":0},{"$f":"SUMIF(償却資産入力!$C$5:$C$34,計算用シート!$A14,償却資産入力!BR$5:BR$34)","v":0},{"$f":"SUMIF(償却資産入力!$C$5:$C$34,計算用シート!$A14,償却資産入力!BS$5:BS$34)","v":0},{"$f":"SUMIF(償却資産入力!$C$5:$C$34,計算用シート!$A14,償却資産入力!BT$5:BT$34)","v":0},{"$f":"SUMIF(償却資産入力!$C$5:$C$34,計算用シート!$A14,償却資産入力!BU$5:BU$34)","v":0},{"$f":"SUMIF(償却資産入力!$C$5:$C$34,計算用シート!$A14,償却資産入力!BV$5:BV$34)","v":0},{"$f":"SUMIF(償却資産入力!$C$5:$C$34,計算用シート!$A14,償却資産入力!BW$5:BW$34)","v":0},{"$f":"SUMIF(償却資産入力!$C$5:$C$34,計算用シート!$A14,償却資産入力!BX$5:BX$34)","v":0},{"$f":"SUMIF(償却資産入力!$C$5:$C$34,計算用シート!$A14,償却資産入力!BY$5:BY$34)","v":0},{"$f":"SUMIF(償却資産入力!$C$5:$C$34,計算用シート!$A14,償却資産入力!BZ$5:BZ$34)","v":0},{"$f":"SUMIF(償却資産入力!$C$5:$C$34,計算用シート!$A14,償却資産入力!CA$5:CA$34)","v":0},{"$f":"SUMIF(償却資産入力!$C$5:$C$34,計算用シート!$A14,償却資産入力!CB$5:CB$34)","v":0},{"$f":"SUMIF(償却資産入力!$C$5:$C$34,計算用シート!$A14,償却資産入力!CC$5:CC$34)","v":0},{"$f":"SUMIF(償却資産入力!$C$5:$C$34,計算用シート!$A14,償却資産入力!CD$5:CD$34)","v":0},{"$f":"SUMIF(償却資産入力!$C$5:$C$34,計算用シート!$A14,償却資産入力!CE$5:CE$34)","v":0},{"$f":"SUMIF(償却資産入力!$C$5:$C$34,計算用シート!$A14,償却資産入力!CF$5:CF$34)","v":0},{"$f":"SUMIF(償却資産入力!$C$5:$C$34,計算用シート!$A14,償却資産入力!CG$5:CG$34)","v":0},{"$f":"SUMIF(償却資産入力!$C$5:$C$34,計算用シート!$A14,償却資産入力!CH$5:CH$34)","v":0},{"$f":"SUMIF(償却資産入力!$C$5:$C$34,計算用シート!$A14,償却資産入力!CI$5:CI$34)","v":0},{"$f":"SUMIF(償却資産入力!$C$5:$C$34,計算用シート!$A14,償却資産入力!CJ$5:CJ$34)","v":0},{"$f":"SUMIF(償却資産入力!$C$5:$C$34,計算用シート!$A14,償却資産入力!CK$5:CK$34)","v":0},{"$f":"SUMIF(償却資産入力!$C$5:$C$34,計算用シート!$A14,償却資産入力!CL$5:CL$34)","v":0},{"$f":"SUMIF(償却資産入力!$C$5:$C$34,計算用シート!$A14,償却資産入力!CM$5:CM$34)","v":0},{"$f":"SUMIF(償却資産入力!$C$5:$C$34,計算用シート!$A14,償却資産入力!CN$5:CN$34)","v":0},{"$f":"SUMIF(償却資産入力!$C$5:$C$34,計算用シート!$A14,償却資産入力!CO$5:CO$34)","v":0},{"$f":"SUMIF(償却資産入力!$C$5:$C$34,計算用シート!$A14,償却資産入力!CP$5:CP$34)","v":0},{"$f":"SUMIF(償却資産入力!$C$5:$C$34,計算用シート!$A14,償却資産入力!CQ$5:CQ$34)","v":0},{"$f":"SUMIF(償却資産入力!$C$5:$C$34,計算用シート!$A14,償却資産入力!CR$5:CR$34)","v":0},{"$f":"SUMIF(償却資産入力!$C$5:$C$34,計算用シート!$A14,償却資産入力!CS$5:CS$34)","v":0},{"$f":"SUMIF(償却資産入力!$C$5:$C$34,計算用シート!$A14,償却資産入力!CT$5:CT$34)","v":0},{"$f":"SUMIF(償却資産入力!$C$5:$C$34,計算用シート!$A14,償却資産入力!CU$5:CU$34)","v":0},{"$f":"SUMIF(償却資産入力!$C$5:$C$34,計算用シート!$A14,償却資産入力!CV$5:CV$34)","v":0},{"$f":"SUMIF(償却資産入力!$C$5:$C$34,計算用シート!$A14,償却資産入力!CW$5:CW$34)","v":0},{"$f":"SUMIF(償却資産入力!$C$5:$C$34,計算用シート!$A14,償却資産入力!CX$5:CX$34)","v":0},{"$f":"SUMIF(償却資産入力!$C$5:$C$34,計算用シート!$A14,償却資産入力!CY$5:CY$34)","v":0}]
[2,{"$f":"SUMIF(償却資産入力!$C$5:$C$34,計算用シート!$A15,償却資産入力!N$5:N$34)","v":0},{"$f":"SUMIF(償却資産入力!$C$5:$C$34,計算用シート!$A15,償却資産入力!O$5:O$34)","v":0},{"$f":"SUMIF(償却資産入力!$C$5:$C$34,計算用シート!$A15,償却資産入力!P$5:P$34)","v":0},{"$f":"SUMIF(償却資産入力!$C$5:$C$34,計算用シート!$A15,償却資産入力!Q$5:Q$34)","v":0},{"$f":"SUMIF(償却資産入力!$C$5:$C$34,計算用シート!$A15,償却資産入力!R$5:R$34)","v":0},{"$f":"SUMIF(償却資産入力!$C$5:$C$34,計算用シート!$A15,償却資産入力!S$5:S$34)","v":0},{"$f":"SUMIF(償却資産入力!$C$5:$C$34,計算用シート!$A15,償却資産入力!T$5:T$34)","v":0},{"$f":"SUMIF(償却資産入力!$C$5:$C$34,計算用シート!$A15,償却資産入力!U$5:U$34)","v":0},{"$f":"SUMIF(償却資産入力!$C$5:$C$34,計算用シート!$A15,償却資産入力!V$5:V$34)","v":0},{"$f":"SUMIF(償却資産入力!$C$5:$C$34,計算用シート!$A15,償却資産入力!W$5:W$34)","v":0},{"$f":"SUMIF(償却資産入力!$C$5:$C$34,計算用シート!$A15,償却資産入力!X$5:X$34)","v":0},{"$f":"SUMIF(償却資産入力!$C$5:$C$34,計算用シート!$A15,償却資産入力!Y$5:Y$34)","v":0},{"$f":"SUMIF(償却資産入力!$C$5:$C$34,計算用シート!$A15,償却資産入力!Z$5:Z$34)","v":0},{"$f":"SUMIF(償却資産入力!$C$5:$C$34,計算用シート!$A15,償却資産入力!AA$5:AA$34)","v":0},{"$f":"SUMIF(償却資産入力!$C$5:$C$34,計算用シート!$A15,償却資産入力!AB$5:AB$34)","v":0},{"$f":"SUMIF(償却資産入力!$C$5:$C$34,計算用シート!$A15,償却資産入力!AC$5:AC$34)","v":0},{"$f":"SUMIF(償却資産入力!$C$5:$C$34,計算用シート!$A15,償却資産入力!AD$5:AD$34)","v":0},{"$f":"SUMIF(償却資産入力!$C$5:$C$34,計算用シート!$A15,償却資産入力!AE$5:AE$34)","v":0},{"$f":"SUMIF(償却資産入力!$C$5:$C$34,計算用シート!$A15,償却資産入力!AF$5:AF$34)","v":0},{"$f":"SUMIF(償却資産入力!$C$5:$C$34,計算用シート!$A15,償却資産入力!AG$5:AG$34)","v":0},{"$f":"SUMIF(償却資産入力!$C$5:$C$34,計算用シート!$A15,償却資産入力!AH$5:AH$34)","v":0},{"$f":"SUMIF(償却資産入力!$C$5:$C$34,計算用シート!$A15,償却資産入力!AI$5:AI$34)","v":0},{"$f":"SUMIF(償却資産入力!$C$5:$C$34,計算用シート!$A15,償却資産入力!AJ$5:AJ$34)","v":0},{"$f":"SUMIF(償却資産入力!$C$5:$C$34,計算用シート!$A15,償却資産入力!AK$5:AK$34)","v":0},{"$f":"SUMIF(償却資産入力!$C$5:$C$34,計算用シート!$A15,償却資産入力!AL$5:AL$34)","v":0},{"$f":"SUMIF(償却資産入力!$C$5:$C$34,計算用シート!$A15,償却資産入力!AM$5:AM$34)","v":0},{"$f":"SUMIF(償却資産入力!$C$5:$C$34,計算用シート!$A15,償却資産入力!AN$5:AN$34)","v":0},{"$f":"SUMIF(償却資産入力!$C$5:$C$34,計算用シート!$A15,償却資産入力!AO$5:AO$34)","v":0},{"$f":"SUMIF(償却資産入力!$C$5:$C$34,計算用シート!$A15,償却資産入力!AP$5:AP$34)","v":0},{"$f":"SUMIF(償却資産入力!$C$5:$C$34,計算用シート!$A15,償却資産入力!AQ$5:AQ$34)","v":0},{"$f":"SUMIF(償却資産入力!$C$5:$C$34,計算用シート!$A15,償却資産入力!AR$5:AR$34)","v":0},{"$f":"SUMIF(償却資産入力!$C$5:$C$34,計算用シート!$A15,償却資産入力!AS$5:AS$34)","v":0},{"$f":"SUMIF(償却資産入力!$C$5:$C$34,計算用シート!$A15,償却資産入力!AT$5:AT$34)","v":0},{"$f":"SUMIF(償却資産入力!$C$5:$C$34,計算用シート!$A15,償却資産入力!AU$5:AU$34)","v":0},{"$f":"SUMIF(償却資産入力!$C$5:$C$34,計算用シート!$A15,償却資産入力!AV$5:AV$34)","v":0},{"$f":"SUMIF(償却資産入力!$C$5:$C$34,計算用シート!$A15,償却資産入力!AW$5:AW$34)","v":0},{"$f":"SUMIF(償却資産入力!$C$5:$C$34,計算用シート!$A15,償却資産入力!AX$5:AX$34)","v":0},{"$f":"SUMIF(償却資産入力!$C$5:$C$34,計算用シート!$A15,償却資産入力!AY$5:AY$34)","v":0},{"$f":"SUMIF(償却資産入力!$C$5:$C$34,計算用シート!$A15,償却資産入力!AZ$5:AZ$34)","v":0},{"$f":"SUMIF(償却資産入力!$C$5:$C$34,計算用シート!$A15,償却資産入力!BA$5:BA$34)","v":0},{"$f":"SUMIF(償却資産入力!$C$5:$C$34,計算用シート!$A15,償却資産入力!BB$5:BB$34)","v":0},{"$f":"SUMIF(償却資産入力!$C$5:$C$34,計算用シート!$A15,償却資産入力!BC$5:BC$34)","v":0},{"$f":"SUMIF(償却資産入力!$C$5:$C$34,計算用シート!$A15,償却資産入力!BD$5:BD$34)","v":1423300},{"$f":"SUMIF(償却資産入力!$C$5:$C$34,計算用シート!$A15,償却資産入力!BE$5:BE$34)","v":1024776},{"$f":"SUMIF(償却資産入力!$C$5:$C$34,計算用シート!$A15,償却資産入力!BF$5:BF$34)","v":1279637},{"$f":"SUMIF(償却資産入力!$C$5:$C$34,計算用シート!$A15,償却資産入力!BG$5:BG$34)","v":921337},{"$f":"SUMIF(償却資産入力!$C$5:$C$34,計算用シート!$A15,償却資産入力!BH$5:BH$34)","v":663361},{"$f":"SUMIF(償却資産入力!$C$5:$C$34,計算用シート!$A15,償却資産入力!BI$5:BI$34)","v":477617},{"$f":"SUMIF(償却資産入力!$C$5:$C$34,計算用シート!$A15,償却資産入力!BJ$5:BJ$34)","v":343882},{"$f":"SUMIF(償却資産入力!$C$5:$C$34,計算用シート!$A15,償却資産入力!BK$5:BK$34)","v":247594},{"$f":"SUMIF(償却資産入力!$C$5:$C$34,計算用シート!$A15,償却資産入力!BL$5:BL$34)","v":178265},{"$f":"SUMIF(償却資産入力!$C$5:$C$34,計算用シート!$A15,償却資産入力!BM$5:BM$34)","v":137094},{"$f":"SUMIF(償却資産入力!$C$5:$C$34,計算用シート!$A15,償却資産入力!BN$5:BN$34)","v":121877},{"$f":"SUMIF(償却資産入力!$C$5:$C$34,計算用シート!$A15,償却資産入力!BO$5:BO$34)","v":114250},{"$f":"SUMIF(償却資産入力!$C$5:$C$34,計算用シート!$A15,償却資産入力!BP$5:BP$34)","v":114250},{"$f":"SUMIF(償却資産入力!$C$5:$C$34,計算用シート!$A15,償却資産入力!BQ$5:BQ$34)","v":114250},{"$f":"SUMIF(償却資産入力!$C$5:$C$34,計算用シート!$A15,償却資産入力!BR$5:BR$34)","v":114250},{"$f":"SUMIF(償却資産入力!$C$5:$C$34,計算用シート!$A15,償却資産入力!BS$5:BS$34)","v":114250},{"$f":"SUMIF(償却資産入力!$C$5:$C$34,計算用シート!$A15,償却資産入力!BT$5:BT$34)","v":114250},{"$f":"SUMIF(償却資産入力!$C$5:$C$34,計算用シート!$A15,償却資産入力!BU$5:BU$34)","v":114250},{"$f":"SUMIF(償却資産入力!$C$5:$C$34,計算用シート!$A15,償却資産入力!BV$5:BV$34)","v":114250},{"$f":"SUMIF(償却資産入力!$C$5:$C$34,計算用シート!$A15,償却資産入力!BW$5:BW$34)","v":114250},{"$f":"SUMIF(償却資産入力!$C$5:$C$34,計算用シート!$A15,償却資産入力!BX$5:BX$34)","v":114250},{"$f":"SUMIF(償却資産入力!$C$5:$C$34,計算用シート!$A15,償却資産入力!BY$5:BY$34)","v":114250},{"$f":"SUMIF(償却資産入力!$C$5:$C$34,計算用シート!$A15,償却資産入力!BZ$5:BZ$34)","v":114250},{"$f":"SUMIF(償却資産入力!$C$5:$C$34,計算用シート!$A15,償却資産入力!CA$5:CA$34)","v":114250},{"$f":"SUMIF(償却資産入力!$C$5:$C$34,計算用シート!$A15,償却資産入力!CB$5:CB$34)","v":114250},{"$f":"SUMIF(償却資産入力!$C$5:$C$34,計算用シート!$A15,償却資産入力!CC$5:CC$34)","v":114250},{"$f":"SUMIF(償却資産入力!$C$5:$C$34,計算用シート!$A15,償却資産入力!CD$5:CD$34)","v":114250},{"$f":"SUMIF(償却資産入力!$C$5:$C$34,計算用シート!$A15,償却資産入力!CE$5:CE$34)","v":114250},{"$f":"SUMIF(償却資産入力!$C$5:$C$34,計算用シート!$A15,償却資産入力!CF$5:CF$34)","v":114250},{"$f":"SUMIF(償却資産入力!$C$5:$C$34,計算用シート!$A15,償却資産入力!CG$5:CG$34)","v":114250},{"$f":"SUMIF(償却資産入力!$C$5:$C$34,計算用シート!$A15,償却資産入力!CH$5:CH$34)","v":114250},{"$f":"SUMIF(償却資産入力!$C$5:$C$34,計算用シート!$A15,償却資産入力!CI$5:CI$34)","v":114250},{"$f":"SUMIF(償却資産入力!$C$5:$C$34,計算用シート!$A15,償却資産入力!CJ$5:CJ$34)","v":114250},{"$f":"SUMIF(償却資産入力!$C$5:$C$34,計算用シート!$A15,償却資産入力!CK$5:CK$34)","v":114250},{"$f":"SUMIF(償却資産入力!$C$5:$C$34,計算用シート!$A15,償却資産入力!CL$5:CL$34)","v":114250},{"$f":"SUMIF(償却資産入力!$C$5:$C$34,計算用シート!$A15,償却資産入力!CM$5:CM$34)","v":114250},{"$f":"SUMIF(償却資産入力!$C$5:$C$34,計算用シート!$A15,償却資産入力!CN$5:CN$34)","v":114250},{"$f":"SUMIF(償却資産入力!$C$5:$C$34,計算用シート!$A15,償却資産入力!CO$5:CO$34)","v":114250},{"$f":"SUMIF(償却資産入力!$C$5:$C$34,計算用シート!$A15,償却資産入力!CP$5:CP$34)","v":114250},{"$f":"SUMIF(償却資産入力!$C$5:$C$34,計算用シート!$A15,償却資産入力!CQ$5:CQ$34)","v":114250},{"$f":"SUMIF(償却資産入力!$C$5:$C$34,計算用シート!$A15,償却資産入力!CR$5:CR$34)","v":114250},{"$f":"SUMIF(償却資産入力!$C$5:$C$34,計算用シート!$A15,償却資産入力!CS$5:CS$34)","v":114250},{"$f":"SUMIF(償却資産入力!$C$5:$C$34,計算用シート!$A15,償却資産入力!CT$5:CT$34)","v":114250},{"$f":"SUMIF(償却資産入力!$C$5:$C$34,計算用シート!$A15,償却資産入力!CU$5:CU$34)","v":114250},{"$f":"SUMIF(償却資産入力!$C$5:$C$34,計算用シート!$A15,償却資産入力!CV$5:CV$34)","v":114250},{"$f":"SUMIF(償却資産入力!$C$5:$C$34,計算用シート!$A15,償却資産入力!CW$5:CW$34)","v":114250},{"$f":"SUMIF(償却資産入力!$C$5:$C$34,計算用シート!$A15,償却資産入力!CX$5:CX$34)","v":114250},{"$f":"SUMIF(償却資産入力!$C$5:$C$34,計算用シート!$A15,償却資産入力!CY$5:CY$34)","v":114250}]
[3,{"$f":"SUMIF(償却資産入力!$C$5:$C$34,計算用シート!$A16,償却資産入力!N$5:N$34)","v":0},{"$f":"SUMIF(償却資産入力!$C$5:$C$34,計算用シート!$A16,償却資産入力!O$5:O$34)","v":0},{"$f":"SUMIF(償却資産入力!$C$5:$C$34,計算用シート!$A16,償却資産入力!P$5:P$34)","v":0},{"$f":"SUMIF(償却資産入力!$C$5:$C$34,計算用シート!$A16,償却資産入力!Q$5:Q$34)","v":0},{"$f":"SUMIF(償却資産入力!$C$5:$C$34,計算用シート!$A16,償却資産入力!R$5:R$34)","v":0},{"$f":"SUMIF(償却資産入力!$C$5:$C$34,計算用シート!$A16,償却資産入力!S$5:S$34)","v":0},{"$f":"SUMIF(償却資産入力!$C$5:$C$34,計算用シート!$A16,償却資産入力!T$5:T$34)","v":0},{"$f":"SUMIF(償却資産入力!$C$5:$C$34,計算用シート!$A16,償却資産入力!U$5:U$34)","v":0},{"$f":"SUMIF(償却資産入力!$C$5:$C$34,計算用シート!$A16,償却資産入力!V$5:V$34)","v":0},{"$f":"SUMIF(償却資産入力!$C$5:$C$34,計算用シート!$A16,償却資産入力!W$5:W$34)","v":0},{"$f":"SUMIF(償却資産入力!$C$5:$C$34,計算用シート!$A16,償却資産入力!X$5:X$34)","v":0},{"$f":"SUMIF(償却資産入力!$C$5:$C$34,計算用シート!$A16,償却資産入力!Y$5:Y$34)","v":0},{"$f":"SUMIF(償却資産入力!$C$5:$C$34,計算用シート!$A16,償却資産入力!Z$5:Z$34)","v":0},{"$f":"SUMIF(償却資産入力!$C$5:$C$34,計算用シート!$A16,償却資産入力!AA$5:AA$34)","v":0},{"$f":"SUMIF(償却資産入力!$C$5:$C$34,計算用シート!$A16,償却資産入力!AB$5:AB$34)","v":0},{"$f":"SUMIF(償却資産入力!$C$5:$C$34,計算用シート!$A16,償却資産入力!AC$5:AC$34)","v":0},{"$f":"SUMIF(償却資産入力!$C$5:$C$34,計算用シート!$A16,償却資産入力!AD$5:AD$34)","v":0},{"$f":"SUMIF(償却資産入力!$C$5:$C$34,計算用シート!$A16,償却資産入力!AE$5:AE$34)","v":0},{"$f":"SUMIF(償却資産入力!$C$5:$C$34,計算用シート!$A16,償却資産入力!AF$5:AF$34)","v":0},{"$f":"SUMIF(償却資産入力!$C$5:$C$34,計算用シート!$A16,償却資産入力!AG$5:AG$34)","v":0},{"$f":"SUMIF(償却資産入力!$C$5:$C$34,計算用シート!$A16,償却資産入力!AH$5:AH$34)","v":0},{"$f":"SUMIF(償却資産入力!$C$5:$C$34,計算用シート!$A16,償却資産入力!AI$5:AI$34)","v":0},{"$f":"SUMIF(償却資産入力!$C$5:$C$34,計算用シート!$A16,償却資産入力!AJ$5:AJ$34)","v":0},{"$f":"SUMIF(償却資産入力!$C$5:$C$34,計算用シート!$A16,償却資産入力!AK$5:AK$34)","v":0},{"$f":"SUMIF(償却資産入力!$C$5:$C$34,計算用シート!$A16,償却資産入力!AL$5:AL$34)","v":0},{"$f":"SUMIF(償却資産入力!$C$5:$C$34,計算用シート!$A16,償却資産入力!AM$5:AM$34)","v":0},{"$f":"SUMIF(償却資産入力!$C$5:$C$34,計算用シート!$A16,償却資産入力!AN$5:AN$34)","v":0},{"$f":"SUMIF(償却資産入力!$C$5:$C$34,計算用シート!$A16,償却資産入力!AO$5:AO$34)","v":0},{"$f":"SUMIF(償却資産入力!$C$5:$C$34,計算用シート!$A16,償却資産入力!AP$5:AP$34)","v":0},{"$f":"SUMIF(償却資産入力!$C$5:$C$34,計算用シート!$A16,償却資産入力!AQ$5:AQ$34)","v":0},{"$f":"SUMIF(償却資産入力!$C$5:$C$34,計算用シート!$A16,償却資産入力!AR$5:AR$34)","v":0},{"$f":"SUMIF(償却資産入力!$C$5:$C$34,計算用シート!$A16,償却資産入力!AS$5:AS$34)","v":0},{"$f":"SUMIF(償却資産入力!$C$5:$C$34,計算用シート!$A16,償却資産入力!AT$5:AT$34)","v":0},{"$f":"SUMIF(償却資産入力!$C$5:$C$34,計算用シート!$A16,償却資産入力!AU$5:AU$34)","v":0},{"$f":"SUMIF(償却資産入力!$C$5:$C$34,計算用シート!$A16,償却資産入力!AV$5:AV$34)","v":0},{"$f":"SUMIF(償却資産入力!$C$5:$C$34,計算用シート!$A16,償却資産入力!AW$5:AW$34)","v":0},{"$f":"SUMIF(償却資産入力!$C$5:$C$34,計算用シート!$A16,償却資産入力!AX$5:AX$34)","v":0},{"$f":"SUMIF(償却資産入力!$C$5:$C$34,計算用シート!$A16,償却資産入力!AY$5:AY$34)","v":0},{"$f":"SUMIF(償却資産入力!$C$5:$C$34,計算用シート!$A16,償却資産入力!AZ$5:AZ$34)","v":0},{"$f":"SUMIF(償却資産入力!$C$5:$C$34,計算用シート!$A16,償却資産入力!BA$5:BA$34)","v":0},{"$f":"SUMIF(償却資産入力!$C$5:$C$34,計算用シート!$A16,償却資産入力!BB$5:BB$34)","v":0},{"$f":"SUMIF(償却資産入力!$C$5:$C$34,計算用シート!$A16,償却資産入力!BC$5:BC$34)","v":0},{"$f":"SUMIF(償却資産入力!$C$5:$C$34,計算用シート!$A16,償却資産入力!BD$5:BD$34)","v":0},{"$f":"SUMIF(償却資産入力!$C$5:$C$34,計算用シート!$A16,償却資産入力!BE$5:BE$34)","v":0},{"$f":"SUMIF(償却資産入力!$C$5:$C$34,計算用シート!$A16,償却資産入力!BF$5:BF$34)","v":0},{"$f":"SUMIF(償却資産入力!$C$5:$C$34,計算用シート!$A16,償却資産入力!BG$5:BG$34)","v":0},{"$f":"SUMIF(償却資産入力!$C$5:$C$34,計算用シート!$A16,償却資産入力!BH$5:BH$34)","v":0},{"$f":"SUMIF(償却資産入力!$C$5:$C$34,計算用シート!$A16,償却資産入力!BI$5:BI$34)","v":0},{"$f":"SUMIF(償却資産入力!$C$5:$C$34,計算用シート!$A16,償却資産入力!BJ$5:BJ$34)","v":0},{"$f":"SUMIF(償却資産入力!$C$5:$C$34,計算用シート!$A16,償却資産入力!BK$5:BK$34)","v":0},{"$f":"SUMIF(償却資産入力!$C$5:$C$34,計算用シート!$A16,償却資産入力!BL$5:BL$34)","v":0},{"$f":"SUMIF(償却資産入力!$C$5:$C$34,計算用シート!$A16,償却資産入力!BM$5:BM$34)","v":0},{"$f":"SUMIF(償却資産入力!$C$5:$C$34,計算用シート!$A16,償却資産入力!BN$5:BN$34)","v":0},{"$f":"SUMIF(償却資産入力!$C$5:$C$34,計算用シート!$A16,償却資産入力!BO$5:BO$34)","v":0},{"$f":"SUMIF(償却資産入力!$C$5:$C$34,計算用シート!$A16,償却資産入力!BP$5:BP$34)","v":0},{"$f":"SUMIF(償却資産入力!$C$5:$C$34,計算用シート!$A16,償却資産入力!BQ$5:BQ$34)","v":0},{"$f":"SUMIF(償却資産入力!$C$5:$C$34,計算用シート!$A16,償却資産入力!BR$5:BR$34)","v":0},{"$f":"SUMIF(償却資産入力!$C$5:$C$34,計算用シート!$A16,償却資産入力!BS$5:BS$34)","v":0},{"$f":"SUMIF(償却資産入力!$C$5:$C$34,計算用シート!$A16,償却資産入力!BT$5:BT$34)","v":0},{"$f":"SUMIF(償却資産入力!$C$5:$C$34,計算用シート!$A16,償却資産入力!BU$5:BU$34)","v":0},{"$f":"SUMIF(償却資産入力!$C$5:$C$34,計算用シート!$A16,償却資産入力!BV$5:BV$34)","v":0},{"$f":"SUMIF(償却資産入力!$C$5:$C$34,計算用シート!$A16,償却資産入力!BW$5:BW$34)","v":0},{"$f":"SUMIF(償却資産入力!$C$5:$C$34,計算用シート!$A16,償却資産入力!BX$5:BX$34)","v":0},{"$f":"SUMIF(償却資産入力!$C$5:$C$34,計算用シート!$A16,償却資産入力!BY$5:BY$34)","v":0},{"$f":"SUMIF(償却資産入力!$C$5:$C$34,計算用シート!$A16,償却資産入力!BZ$5:BZ$34)","v":0},{"$f":"SUMIF(償却資産入力!$C$5:$C$34,計算用シート!$A16,償却資産入力!CA$5:CA$34)","v":0},{"$f":"SUMIF(償却資産入力!$C$5:$C$34,計算用シート!$A16,償却資産入力!CB$5:CB$34)","v":0},{"$f":"SUMIF(償却資産入力!$C$5:$C$34,計算用シート!$A16,償却資産入力!CC$5:CC$34)","v":0},{"$f":"SUMIF(償却資産入力!$C$5:$C$34,計算用シート!$A16,償却資産入力!CD$5:CD$34)","v":0},{"$f":"SUMIF(償却資産入力!$C$5:$C$34,計算用シート!$A16,償却資産入力!CE$5:CE$34)","v":0},{"$f":"SUMIF(償却資産入力!$C$5:$C$34,計算用シート!$A16,償却資産入力!CF$5:CF$34)","v":0},{"$f":"SUMIF(償却資産入力!$C$5:$C$34,計算用シート!$A16,償却資産入力!CG$5:CG$34)","v":0},{"$f":"SUMIF(償却資産入力!$C$5:$C$34,計算用シート!$A16,償却資産入力!CH$5:CH$34)","v":0},{"$f":"SUMIF(償却資産入力!$C$5:$C$34,計算用シート!$A16,償却資産入力!CI$5:CI$34)","v":0},{"$f":"SUMIF(償却資産入力!$C$5:$C$34,計算用シート!$A16,償却資産入力!CJ$5:CJ$34)","v":0},{"$f":"SUMIF(償却資産入力!$C$5:$C$34,計算用シート!$A16,償却資産入力!CK$5:CK$34)","v":0},{"$f":"SUMIF(償却資産入力!$C$5:$C$34,計算用シート!$A16,償却資産入力!CL$5:CL$34)","v":0},{"$f":"SUMIF(償却資産入力!$C$5:$C$34,計算用シート!$A16,償却資産入力!CM$5:CM$34)","v":0},{"$f":"SUMIF(償却資産入力!$C$5:$C$34,計算用シート!$A16,償却資産入力!CN$5:CN$34)","v":0},{"$f":"SUMIF(償却資産入力!$C$5:$C$34,計算用シート!$A16,償却資産入力!CO$5:CO$34)","v":0},{"$f":"SUMIF(償却資産入力!$C$5:$C$34,計算用シート!$A16,償却資産入力!CP$5:CP$34)","v":0},{"$f":"SUMIF(償却資産入力!$C$5:$C$34,計算用シート!$A16,償却資産入力!CQ$5:CQ$34)","v":0},{"$f":"SUMIF(償却資産入力!$C$5:$C$34,計算用シート!$A16,償却資産入力!CR$5:CR$34)","v":0},{"$f":"SUMIF(償却資産入力!$C$5:$C$34,計算用シート!$A16,償却資産入力!CS$5:CS$34)","v":0},{"$f":"SUMIF(償却資産入力!$C$5:$C$34,計算用シート!$A16,償却資産入力!CT$5:CT$34)","v":0},{"$f":"SUMIF(償却資産入力!$C$5:$C$34,計算用シート!$A16,償却資産入力!CU$5:CU$34)","v":0},{"$f":"SUMIF(償却資産入力!$C$5:$C$34,計算用シート!$A16,償却資産入力!CV$5:CV$34)","v":0},{"$f":"SUMIF(償却資産入力!$C$5:$C$34,計算用シート!$A16,償却資産入力!CW$5:CW$34)","v":0},{"$f":"SUMIF(償却資産入力!$C$5:$C$34,計算用シート!$A16,償却資産入力!CX$5:CX$34)","v":0},{"$f":"SUMIF(償却資産入力!$C$5:$C$34,計算用シート!$A16,償却資産入力!CY$5:CY$34)","v":0}]
[4,{"$f":"SUMIF(償却資産入力!$C$5:$C$34,計算用シート!$A17,償却資産入力!N$5:N$34)","v":0},{"$f":"SUMIF(償却資産入力!$C$5:$C$34,計算用シート!$A17,償却資産入力!O$5:O$34)","v":0},{"$f":"SUMIF(償却資産入力!$C$5:$C$34,計算用シート!$A17,償却資産入力!P$5:P$34)","v":0},{"$f":"SUMIF(償却資産入力!$C$5:$C$34,計算用シート!$A17,償却資産入力!Q$5:Q$34)","v":0},{"$f":"SUMIF(償却資産入力!$C$5:$C$34,計算用シート!$A17,償却資産入力!R$5:R$34)","v":0},{"$f":"SUMIF(償却資産入力!$C$5:$C$34,計算用シート!$A17,償却資産入力!S$5:S$34)","v":0},{"$f":"SUMIF(償却資産入力!$C$5:$C$34,計算用シート!$A17,償却資産入力!T$5:T$34)","v":0},{"$f":"SUMIF(償却資産入力!$C$5:$C$34,計算用シート!$A17,償却資産入力!U$5:U$34)","v":0},{"$f":"SUMIF(償却資産入力!$C$5:$C$34,計算用シート!$A17,償却資産入力!V$5:V$34)","v":0},{"$f":"SUMIF(償却資産入力!$C$5:$C$34,計算用シート!$A17,償却資産入力!W$5:W$34)","v":0},{"$f":"SUMIF(償却資産入力!$C$5:$C$34,計算用シート!$A17,償却資産入力!X$5:X$34)","v":0},{"$f":"SUMIF(償却資産入力!$C$5:$C$34,計算用シート!$A17,償却資産入力!Y$5:Y$34)","v":0},{"$f":"SUMIF(償却資産入力!$C$5:$C$34,計算用シート!$A17,償却資産入力!Z$5:Z$34)","v":0},{"$f":"SUMIF(償却資産入力!$C$5:$C$34,計算用シート!$A17,償却資産入力!AA$5:AA$34)","v":0},{"$f":"SUMIF(償却資産入力!$C$5:$C$34,計算用シート!$A17,償却資産入力!AB$5:AB$34)","v":0},{"$f":"SUMIF(償却資産入力!$C$5:$C$34,計算用シート!$A17,償却資産入力!AC$5:AC$34)","v":0},{"$f":"SUMIF(償却資産入力!$C$5:$C$34,計算用シート!$A17,償却資産入力!AD$5:AD$34)","v":0},{"$f":"SUMIF(償却資産入力!$C$5:$C$34,計算用シート!$A17,償却資産入力!AE$5:AE$34)","v":0},{"$f":"SUMIF(償却資産入力!$C$5:$C$34,計算用シート!$A17,償却資産入力!AF$5:AF$34)","v":0},{"$f":"SUMIF(償却資産入力!$C$5:$C$34,計算用シート!$A17,償却資産入力!AG$5:AG$34)","v":0},{"$f":"SUMIF(償却資産入力!$C$5:$C$34,計算用シート!$A17,償却資産入力!AH$5:AH$34)","v":0},{"$f":"SUMIF(償却資産入力!$C$5:$C$34,計算用シート!$A17,償却資産入力!AI$5:AI$34)","v":0},{"$f":"SUMIF(償却資産入力!$C$5:$C$34,計算用シート!$A17,償却資産入力!AJ$5:AJ$34)","v":0},{"$f":"SUMIF(償却資産入力!$C$5:$C$34,計算用シート!$A17,償却資産入力!AK$5:AK$34)","v":0},{"$f":"SUMIF(償却資産入力!$C$5:$C$34,計算用シート!$A17,償却資産入力!AL$5:AL$34)","v":0},{"$f":"SUMIF(償却資産入力!$C$5:$C$34,計算用シート!$A17,償却資産入力!AM$5:AM$34)","v":0},{"$f":"SUMIF(償却資産入力!$C$5:$C$34,計算用シート!$A17,償却資産入力!AN$5:AN$34)","v":0},{"$f":"SUMIF(償却資産入力!$C$5:$C$34,計算用シート!$A17,償却資産入力!AO$5:AO$34)","v":0},{"$f":"SUMIF(償却資産入力!$C$5:$C$34,計算用シート!$A17,償却資産入力!AP$5:AP$34)","v":0},{"$f":"SUMIF(償却資産入力!$C$5:$C$34,計算用シート!$A17,償却資産入力!AQ$5:AQ$34)","v":0},{"$f":"SUMIF(償却資産入力!$C$5:$C$34,計算用シート!$A17,償却資産入力!AR$5:AR$34)","v":0},{"$f":"SUMIF(償却資産入力!$C$5:$C$34,計算用シート!$A17,償却資産入力!AS$5:AS$34)","v":0},{"$f":"SUMIF(償却資産入力!$C$5:$C$34,計算用シート!$A17,償却資産入力!AT$5:AT$34)","v":0},{"$f":"SUMIF(償却資産入力!$C$5:$C$34,計算用シート!$A17,償却資産入力!AU$5:AU$34)","v":0},{"$f":"SUMIF(償却資産入力!$C$5:$C$34,計算用シート!$A17,償却資産入力!AV$5:AV$34)","v":0},{"$f":"SUMIF(償却資産入力!$C$5:$C$34,計算用シート!$A17,償却資産入力!AW$5:AW$34)","v":0},{"$f":"SUMIF(償却資産入力!$C$5:$C$34,計算用シート!$A17,償却資産入力!AX$5:AX$34)","v":0},{"$f":"SUMIF(償却資産入力!$C$5:$C$34,計算用シート!$A17,償却資産入力!AY$5:AY$34)","v":0},{"$f":"SUMIF(償却資産入力!$C$5:$C$34,計算用シート!$A17,償却資産入力!AZ$5:AZ$34)","v":0},{"$f":"SUMIF(償却資産入力!$C$5:$C$34,計算用シート!$A17,償却資産入力!BA$5:BA$34)","v":0},{"$f":"SUMIF(償却資産入力!$C$5:$C$34,計算用シート!$A17,償却資産入力!BB$5:BB$34)","v":0},{"$f":"SUMIF(償却資産入力!$C$5:$C$34,計算用シート!$A17,償却資産入力!BC$5:BC$34)","v":0},{"$f":"SUMIF(償却資産入力!$C$5:$C$34,計算用シート!$A17,償却資産入力!BD$5:BD$34)","v":0},{"$f":"SUMIF(償却資産入力!$C$5:$C$34,計算用シート!$A17,償却資産入力!BE$5:BE$34)","v":0},{"$f":"SUMIF(償却資産入力!$C$5:$C$34,計算用シート!$A17,償却資産入力!BF$5:BF$34)","v":0},{"$f":"SUMIF(償却資産入力!$C$5:$C$34,計算用シート!$A17,償却資産入力!BG$5:BG$34)","v":0},{"$f":"SUMIF(償却資産入力!$C$5:$C$34,計算用シート!$A17,償却資産入力!BH$5:BH$34)","v":0},{"$f":"SUMIF(償却資産入力!$C$5:$C$34,計算用シート!$A17,償却資産入力!BI$5:BI$34)","v":0},{"$f":"SUMIF(償却資産入力!$C$5:$C$34,計算用シート!$A17,償却資産入力!BJ$5:BJ$34)","v":0},{"$f":"SUMIF(償却資産入力!$C$5:$C$34,計算用シート!$A17,償却資産入力!BK$5:BK$34)","v":0},{"$f":"SUMIF(償却資産入力!$C$5:$C$34,計算用シート!$A17,償却資産入力!BL$5:BL$34)","v":0},{"$f":"SUMIF(償却資産入力!$C$5:$C$34,計算用シート!$A17,償却資産入力!BM$5:BM$34)","v":0},{"$f":"SUMIF(償却資産入力!$C$5:$C$34,計算用シート!$A17,償却資産入力!BN$5:BN$34)","v":0},{"$f":"SUMIF(償却資産入力!$C$5:$C$34,計算用シート!$A17,償却資産入力!BO$5:BO$34)","v":0},{"$f":"SUMIF(償却資産入力!$C$5:$C$34,計算用シート!$A17,償却資産入力!BP$5:BP$34)","v":0},{"$f":"SUMIF(償却資産入力!$C$5:$C$34,計算用シート!$A17,償却資産入力!BQ$5:BQ$34)","v":0},{"$f":"SUMIF(償却資産入力!$C$5:$C$34,計算用シート!$A17,償却資産入力!BR$5:BR$34)","v":0},{"$f":"SUMIF(償却資産入力!$C$5:$C$34,計算用シート!$A17,償却資産入力!BS$5:BS$34)","v":0},{"$f":"SUMIF(償却資産入力!$C$5:$C$34,計算用シート!$A17,償却資産入力!BT$5:BT$34)","v":0},{"$f":"SUMIF(償却資産入力!$C$5:$C$34,計算用シート!$A17,償却資産入力!BU$5:BU$34)","v":0},{"$f":"SUMIF(償却資産入力!$C$5:$C$34,計算用シート!$A17,償却資産入力!BV$5:BV$34)","v":0},{"$f":"SUMIF(償却資産入力!$C$5:$C$34,計算用シート!$A17,償却資産入力!BW$5:BW$34)","v":0},{"$f":"SUMIF(償却資産入力!$C$5:$C$34,計算用シート!$A17,償却資産入力!BX$5:BX$34)","v":0},{"$f":"SUMIF(償却資産入力!$C$5:$C$34,計算用シート!$A17,償却資産入力!BY$5:BY$34)","v":0},{"$f":"SUMIF(償却資産入力!$C$5:$C$34,計算用シート!$A17,償却資産入力!BZ$5:BZ$34)","v":0},{"$f":"SUMIF(償却資産入力!$C$5:$C$34,計算用シート!$A17,償却資産入力!CA$5:CA$34)","v":0},{"$f":"SUMIF(償却資産入力!$C$5:$C$34,計算用シート!$A17,償却資産入力!CB$5:CB$34)","v":0},{"$f":"SUMIF(償却資産入力!$C$5:$C$34,計算用シート!$A17,償却資産入力!CC$5:CC$34)","v":0},{"$f":"SUMIF(償却資産入力!$C$5:$C$34,計算用シート!$A17,償却資産入力!CD$5:CD$34)","v":0},{"$f":"SUMIF(償却資産入力!$C$5:$C$34,計算用シート!$A17,償却資産入力!CE$5:CE$34)","v":0},{"$f":"SUMIF(償却資産入力!$C$5:$C$34,計算用シート!$A17,償却資産入力!CF$5:CF$34)","v":0},{"$f":"SUMIF(償却資産入力!$C$5:$C$34,計算用シート!$A17,償却資産入力!CG$5:CG$34)","v":0},{"$f":"SUMIF(償却資産入力!$C$5:$C$34,計算用シート!$A17,償却資産入力!CH$5:CH$34)","v":0},{"$f":"SUMIF(償却資産入力!$C$5:$C$34,計算用シート!$A17,償却資産入力!CI$5:CI$34)","v":0},{"$f":"SUMIF(償却資産入力!$C$5:$C$34,計算用シート!$A17,償却資産入力!CJ$5:CJ$34)","v":0},{"$f":"SUMIF(償却資産入力!$C$5:$C$34,計算用シート!$A17,償却資産入力!CK$5:CK$34)","v":0},{"$f":"SUMIF(償却資産入力!$C$5:$C$34,計算用シート!$A17,償却資産入力!CL$5:CL$34)","v":0},{"$f":"SUMIF(償却資産入力!$C$5:$C$34,計算用シート!$A17,償却資産入力!CM$5:CM$34)","v":0},{"$f":"SUMIF(償却資産入力!$C$5:$C$34,計算用シート!$A17,償却資産入力!CN$5:CN$34)","v":0},{"$f":"SUMIF(償却資産入力!$C$5:$C$34,計算用シート!$A17,償却資産入力!CO$5:CO$34)","v":0},{"$f":"SUMIF(償却資産入力!$C$5:$C$34,計算用シート!$A17,償却資産入力!CP$5:CP$34)","v":0},{"$f":"SUMIF(償却資産入力!$C$5:$C$34,計算用シート!$A17,償却資産入力!CQ$5:CQ$34)","v":0},{"$f":"SUMIF(償却資産入力!$C$5:$C$34,計算用シート!$A17,償却資産入力!CR$5:CR$34)","v":0},{"$f":"SUMIF(償却資産入力!$C$5:$C$34,計算用シート!$A17,償却資産入力!CS$5:CS$34)","v":0},{"$f":"SUMIF(償却資産入力!$C$5:$C$34,計算用シート!$A17,償却資産入力!CT$5:CT$34)","v":0},{"$f":"SUMIF(償却資産入力!$C$5:$C$34,計算用シート!$A17,償却資産入力!CU$5:CU$34)","v":0},{"$f":"SUMIF(償却資産入力!$C$5:$C$34,計算用シート!$A17,償却資産入力!CV$5:CV$34)","v":0},{"$f":"SUMIF(償却資産入力!$C$5:$C$34,計算用シート!$A17,償却資産入力!CW$5:CW$34)","v":0},{"$f":"SUMIF(償却資産入力!$C$5:$C$34,計算用シート!$A17,償却資産入力!CX$5:CX$34)","v":0},{"$f":"SUMIF(償却資産入力!$C$5:$C$34,計算用シート!$A17,償却資産入力!CY$5:CY$34)","v":0}]
[5,{"$f":"SUMIF(償却資産入力!$C$5:$C$34,計算用シート!$A18,償却資産入力!N$5:N$34)","v":0},{"$f":"SUMIF(償却資産入力!$C$5:$C$34,計算用シート!$A18,償却資産入力!O$5:O$34)","v":0},{"$f":"SUMIF(償却資産入力!$C$5:$C$34,計算用シート!$A18,償却資産入力!P$5:P$34)","v":0},{"$f":"SUMIF(償却資産入力!$C$5:$C$34,計算用シート!$A18,償却資産入力!Q$5:Q$34)","v":0},{"$f":"SUMIF(償却資産入力!$C$5:$C$34,計算用シート!$A18,償却資産入力!R$5:R$34)","v":0},{"$f":"SUMIF(償却資産入力!$C$5:$C$34,計算用シート!$A18,償却資産入力!S$5:S$34)","v":0},{"$f":"SUMIF(償却資産入力!$C$5:$C$34,計算用シート!$A18,償却資産入力!T$5:T$34)","v":0},{"$f":"SUMIF(償却資産入力!$C$5:$C$34,計算用シート!$A18,償却資産入力!U$5:U$34)","v":0},{"$f":"SUMIF(償却資産入力!$C$5:$C$34,計算用シート!$A18,償却資産入力!V$5:V$34)","v":0},{"$f":"SUMIF(償却資産入力!$C$5:$C$34,計算用シート!$A18,償却資産入力!W$5:W$34)","v":0},{"$f":"SUMIF(償却資産入力!$C$5:$C$34,計算用シート!$A18,償却資産入力!X$5:X$34)","v":0},{"$f":"SUMIF(償却資産入力!$C$5:$C$34,計算用シート!$A18,償却資産入力!Y$5:Y$34)","v":0},{"$f":"SUMIF(償却資産入力!$C$5:$C$34,計算用シート!$A18,償却資産入力!Z$5:Z$34)","v":0},{"$f":"SUMIF(償却資産入力!$C$5:$C$34,計算用シート!$A18,償却資産入力!AA$5:AA$34)","v":0},{"$f":"SUMIF(償却資産入力!$C$5:$C$34,計算用シート!$A18,償却資産入力!AB$5:AB$34)","v":0},{"$f":"SUMIF(償却資産入力!$C$5:$C$34,計算用シート!$A18,償却資産入力!AC$5:AC$34)","v":0},{"$f":"SUMIF(償却資産入力!$C$5:$C$34,計算用シート!$A18,償却資産入力!AD$5:AD$34)","v":0},{"$f":"SUMIF(償却資産入力!$C$5:$C$34,計算用シート!$A18,償却資産入力!AE$5:AE$34)","v":0},{"$f":"SUMIF(償却資産入力!$C$5:$C$34,計算用シート!$A18,償却資産入力!AF$5:AF$34)","v":0},{"$f":"SUMIF(償却資産入力!$C$5:$C$34,計算用シート!$A18,償却資産入力!AG$5:AG$34)","v":0},{"$f":"SUMIF(償却資産入力!$C$5:$C$34,計算用シート!$A18,償却資産入力!AH$5:AH$34)","v":0},{"$f":"SUMIF(償却資産入力!$C$5:$C$34,計算用シート!$A18,償却資産入力!AI$5:AI$34)","v":0},{"$f":"SUMIF(償却資産入力!$C$5:$C$34,計算用シート!$A18,償却資産入力!AJ$5:AJ$34)","v":0},{"$f":"SUMIF(償却資産入力!$C$5:$C$34,計算用シート!$A18,償却資産入力!AK$5:AK$34)","v":0},{"$f":"SUMIF(償却資産入力!$C$5:$C$34,計算用シート!$A18,償却資産入力!AL$5:AL$34)","v":0},{"$f":"SUMIF(償却資産入力!$C$5:$C$34,計算用シート!$A18,償却資産入力!AM$5:AM$34)","v":0},{"$f":"SUMIF(償却資産入力!$C$5:$C$34,計算用シート!$A18,償却資産入力!AN$5:AN$34)","v":0},{"$f":"SUMIF(償却資産入力!$C$5:$C$34,計算用シート!$A18,償却資産入力!AO$5:AO$34)","v":0},{"$f":"SUMIF(償却資産入力!$C$5:$C$34,計算用シート!$A18,償却資産入力!AP$5:AP$34)","v":0},{"$f":"SUMIF(償却資産入力!$C$5:$C$34,計算用シート!$A18,償却資産入力!AQ$5:AQ$34)","v":0},{"$f":"SUMIF(償却資産入力!$C$5:$C$34,計算用シート!$A18,償却資産入力!AR$5:AR$34)","v":0},{"$f":"SUMIF(償却資産入力!$C$5:$C$34,計算用シート!$A18,償却資産入力!AS$5:AS$34)","v":0},{"$f":"SUMIF(償却資産入力!$C$5:$C$34,計算用シート!$A18,償却資産入力!AT$5:AT$34)","v":0},{"$f":"SUMIF(償却資産入力!$C$5:$C$34,計算用シート!$A18,償却資産入力!AU$5:AU$34)","v":0},{"$f":"SUMIF(償却資産入力!$C$5:$C$34,計算用シート!$A18,償却資産入力!AV$5:AV$34)","v":0},{"$f":"SUMIF(償却資産入力!$C$5:$C$34,計算用シート!$A18,償却資産入力!AW$5:AW$34)","v":0},{"$f":"SUMIF(償却資産入力!$C$5:$C$34,計算用シート!$A18,償却資産入力!AX$5:AX$34)","v":0},{"$f":"SUMIF(償却資産入力!$C$5:$C$34,計算用シート!$A18,償却資産入力!AY$5:AY$34)","v":0},{"$f":"SUMIF(償却資産入力!$C$5:$C$34,計算用シート!$A18,償却資産入力!AZ$5:AZ$34)","v":0},{"$f":"SUMIF(償却資産入力!$C$5:$C$34,計算用シート!$A18,償却資産入力!BA$5:BA$34)","v":0},{"$f":"SUMIF(償却資産入力!$C$5:$C$34,計算用シート!$A18,償却資産入力!BB$5:BB$34)","v":0},{"$f":"SUMIF(償却資産入力!$C$5:$C$34,計算用シート!$A18,償却資産入力!BC$5:BC$34)","v":0},{"$f":"SUMIF(償却資産入力!$C$5:$C$34,計算用シート!$A18,償却資産入力!BD$5:BD$34)","v":0},{"$f":"SUMIF(償却資産入力!$C$5:$C$34,計算用シート!$A18,償却資産入力!BE$5:BE$34)","v":0},{"$f":"SUMIF(償却資産入力!$C$5:$C$34,計算用シート!$A18,償却資産入力!BF$5:BF$34)","v":0},{"$f":"SUMIF(償却資産入力!$C$5:$C$34,計算用シート!$A18,償却資産入力!BG$5:BG$34)","v":0},{"$f":"SUMIF(償却資産入力!$C$5:$C$34,計算用シート!$A18,償却資産入力!BH$5:BH$34)","v":0},{"$f":"SUMIF(償却資産入力!$C$5:$C$34,計算用シート!$A18,償却資産入力!BI$5:BI$34)","v":0},{"$f":"SUMIF(償却資産入力!$C$5:$C$34,計算用シート!$A18,償却資産入力!BJ$5:BJ$34)","v":0},{"$f":"SUMIF(償却資産入力!$C$5:$C$34,計算用シート!$A18,償却資産入力!BK$5:BK$34)","v":0},{"$f":"SUMIF(償却資産入力!$C$5:$C$34,計算用シート!$A18,償却資産入力!BL$5:BL$34)","v":0},{"$f":"SUMIF(償却資産入力!$C$5:$C$34,計算用シート!$A18,償却資産入力!BM$5:BM$34)","v":0},{"$f":"SUMIF(償却資産入力!$C$5:$C$34,計算用シート!$A18,償却資産入力!BN$5:BN$34)","v":0},{"$f":"SUMIF(償却資産入力!$C$5:$C$34,計算用シート!$A18,償却資産入力!BO$5:BO$34)","v":0},{"$f":"SUMIF(償却資産入力!$C$5:$C$34,計算用シート!$A18,償却資産入力!BP$5:BP$34)","v":0},{"$f":"SUMIF(償却資産入力!$C$5:$C$34,計算用シート!$A18,償却資産入力!BQ$5:BQ$34)","v":0},{"$f":"SUMIF(償却資産入力!$C$5:$C$34,計算用シート!$A18,償却資産入力!BR$5:BR$34)","v":0},{"$f":"SUMIF(償却資産入力!$C$5:$C$34,計算用シート!$A18,償却資産入力!BS$5:BS$34)","v":0},{"$f":"SUMIF(償却資産入力!$C$5:$C$34,計算用シート!$A18,償却資産入力!BT$5:BT$34)","v":0},{"$f":"SUMIF(償却資産入力!$C$5:$C$34,計算用シート!$A18,償却資産入力!BU$5:BU$34)","v":0},{"$f":"SUMIF(償却資産入力!$C$5:$C$34,計算用シート!$A18,償却資産入力!BV$5:BV$34)","v":0},{"$f":"SUMIF(償却資産入力!$C$5:$C$34,計算用シート!$A18,償却資産入力!BW$5:BW$34)","v":0},{"$f":"SUMIF(償却資産入力!$C$5:$C$34,計算用シート!$A18,償却資産入力!BX$5:BX$34)","v":0},{"$f":"SUMIF(償却資産入力!$C$5:$C$34,計算用シート!$A18,償却資産入力!BY$5:BY$34)","v":0},{"$f":"SUMIF(償却資産入力!$C$5:$C$34,計算用シート!$A18,償却資産入力!BZ$5:BZ$34)","v":0},{"$f":"SUMIF(償却資産入力!$C$5:$C$34,計算用シート!$A18,償却資産入力!CA$5:CA$34)","v":0},{"$f":"SUMIF(償却資産入力!$C$5:$C$34,計算用シート!$A18,償却資産入力!CB$5:CB$34)","v":0},{"$f":"SUMIF(償却資産入力!$C$5:$C$34,計算用シート!$A18,償却資産入力!CC$5:CC$34)","v":0},{"$f":"SUMIF(償却資産入力!$C$5:$C$34,計算用シート!$A18,償却資産入力!CD$5:CD$34)","v":0},{"$f":"SUMIF(償却資産入力!$C$5:$C$34,計算用シート!$A18,償却資産入力!CE$5:CE$34)","v":0},{"$f":"SUMIF(償却資産入力!$C$5:$C$34,計算用シート!$A18,償却資産入力!CF$5:CF$34)","v":0},{"$f":"SUMIF(償却資産入力!$C$5:$C$34,計算用シート!$A18,償却資産入力!CG$5:CG$34)","v":0},{"$f":"SUMIF(償却資産入力!$C$5:$C$34,計算用シート!$A18,償却資産入力!CH$5:CH$34)","v":0},{"$f":"SUMIF(償却資産入力!$C$5:$C$34,計算用シート!$A18,償却資産入力!CI$5:CI$34)","v":0},{"$f":"SUMIF(償却資産入力!$C$5:$C$34,計算用シート!$A18,償却資産入力!CJ$5:CJ$34)","v":0},{"$f":"SUMIF(償却資産入力!$C$5:$C$34,計算用シート!$A18,償却資産入力!CK$5:CK$34)","v":0},{"$f":"SUMIF(償却資産入力!$C$5:$C$34,計算用シート!$A18,償却資産入力!CL$5:CL$34)","v":0},{"$f":"SUMIF(償却資産入力!$C$5:$C$34,計算用シート!$A18,償却資産入力!CM$5:CM$34)","v":0},{"$f":"SUMIF(償却資産入力!$C$5:$C$34,計算用シート!$A18,償却資産入力!CN$5:CN$34)","v":0},{"$f":"SUMIF(償却資産入力!$C$5:$C$34,計算用シート!$A18,償却資産入力!CO$5:CO$34)","v":0},{"$f":"SUMIF(償却資産入力!$C$5:$C$34,計算用シート!$A18,償却資産入力!CP$5:CP$34)","v":0},{"$f":"SUMIF(償却資産入力!$C$5:$C$34,計算用シート!$A18,償却資産入力!CQ$5:CQ$34)","v":0},{"$f":"SUMIF(償却資産入力!$C$5:$C$34,計算用シート!$A18,償却資産入力!CR$5:CR$34)","v":0},{"$f":"SUMIF(償却資産入力!$C$5:$C$34,計算用シート!$A18,償却資産入力!CS$5:CS$34)","v":0},{"$f":"SUMIF(償却資産入力!$C$5:$C$34,計算用シート!$A18,償却資産入力!CT$5:CT$34)","v":0},{"$f":"SUMIF(償却資産入力!$C$5:$C$34,計算用シート!$A18,償却資産入力!CU$5:CU$34)","v":0},{"$f":"SUMIF(償却資産入力!$C$5:$C$34,計算用シート!$A18,償却資産入力!CV$5:CV$34)","v":0},{"$f":"SUMIF(償却資産入力!$C$5:$C$34,計算用シート!$A18,償却資産入力!CW$5:CW$34)","v":0},{"$f":"SUMIF(償却資産入力!$C$5:$C$34,計算用シート!$A18,償却資産入力!CX$5:CX$34)","v":0},{"$f":"SUMIF(償却資産入力!$C$5:$C$34,計算用シート!$A18,償却資産入力!CY$5:CY$34)","v":0}]
[6,{"$f":"SUMIF(償却資産入力!$C$5:$C$34,計算用シート!$A19,償却資産入力!N$5:N$34)","v":2780700},{"$f":"SUMIF(償却資産入力!$C$5:$C$34,計算用シート!$A19,償却資産入力!O$5:O$34)","v":2207875},{"$f":"SUMIF(償却資産入力!$C$5:$C$34,計算用シート!$A19,償却資産入力!P$5:P$34)","v":1753052},{"$f":"SUMIF(償却資産入力!$C$5:$C$34,計算用シート!$A19,償却資産入力!Q$5:Q$34)","v":1391923},{"$f":"SUMIF(償却資産入力!$C$5:$C$34,計算用シート!$A19,償却資産入力!R$5:R$34)","v":1105186},{"$f":"SUMIF(償却資産入力!$C$5:$C$34,計算用シート!$A19,償却資産入力!S$5:S$34)","v":877517},{"$f":"SUMIF(償却資産入力!$C$5:$C$34,計算用シート!$A19,償却資産入力!T$5:T$34)","v":696748},{"$f":"SUMIF(償却資産入力!$C$5:$C$34,計算用シート!$A19,償却資産入力!U$5:U$34)","v":553217},{"$f":"SUMIF(償却資産入力!$C$5:$C$34,計算用シート!$A19,償却資産入力!V$5:V$34)","v":439254},{"$f":"SUMIF(償却資産入力!$C$5:$C$34,計算用シート!$A19,償却資産入力!W$5:W$34)","v":348767},{"$f":"SUMIF(償却資産入力!$C$5:$C$34,計算用シート!$A19,償却資産入力!X$5:X$34)","v":276920},{"$f":"SUMIF(償却資産入力!$C$5:$C$34,計算用シート!$A19,償却資産入力!Y$5:Y$34)","v":219874},{"$f":"SUMIF(償却資産入力!$C$5:$C$34,計算用シート!$A19,償却資産入力!Z$5:Z$34)","v":174579},{"$f":"SUMIF(償却資産入力!$C$5:$C$34,計算用シート!$A19,償却資産入力!AA$5:AA$34)","v":155000},{"$f":"SUMIF(償却資産入力!$C$5:$C$34,計算用シート!$A19,償却資産入力!AB$5:AB$34)","v":155000},{"$f":"SUMIF(償却資産入力!$C$5:$C$34,計算用シート!$A19,償却資産入力!AC$5:AC$34)","v":155000},{"$f":"SUMIF(償却資産入力!$C$5:$C$34,計算用シート!$A19,償却資産入力!AD$5:AD$34)","v":155000},{"$f":"SUMIF(償却資産入力!$C$5:$C$34,計算用シート!$A19,償却資産入力!AE$5:AE$34)","v":155000},{"$f":"SUMIF(償却資産入力!$C$5:$C$34,計算用シート!$A19,償却資産入力!AF$5:AF$34)","v":155000},{"$f":"SUMIF(償却資産入力!$C$5:$C$34,計算用シート!$A19,償却資産入力!AG$5:AG$34)","v":155000},{"$f":"SUMIF(償却資産入力!$C$5:$C$34,計算用シート!$A19,償却資産入力!AH$5:AH$34)","v":155000},{"$f":"SUMIF(償却資産入力!$C$5:$C$34,計算用シート!$A19,償却資産入力!AI$5:AI$34)","v":155000},{"$f":"SUMIF(償却資産入力!$C$5:$C$34,計算用シート!$A19,償却資産入力!AJ$5:AJ$34)","v":155000},{"$f":"SUMIF(償却資産入力!$C$5:$C$34,計算用シート!$A19,償却資産入力!AK$5:AK$34)","v":155000},{"$f":"SUMIF(償却資産入力!$C$5:$C$34,計算用シート!$A19,償却資産入力!AL$5:AL$34)","v":155000},{"$f":"SUMIF(償却資産入力!$C$5:$C$34,計算用シート!$A19,償却資産入力!AM$5:AM$34)","v":155000},{"$f":"SUMIF(償却資産入力!$C$5:$C$34,計算用シート!$A19,償却資産入力!AN$5:AN$34)","v":155000},{"$f":"SUMIF(償却資産入力!$C$5:$C$34,計算用シート!$A19,償却資産入力!AO$5:AO$34)","v":155000},{"$f":"SUMIF(償却資産入力!$C$5:$C$34,計算用シート!$A19,償却資産入力!AP$5:AP$34)","v":155000},{"$f":"SUMIF(償却資産入力!$C$5:$C$34,計算用シート!$A19,償却資産入力!AQ$5:AQ$34)","v":155000},{"$f":"SUMIF(償却資産入力!$C$5:$C$34,計算用シート!$A19,償却資産入力!AR$5:AR$34)","v":155000},{"$f":"SUMIF(償却資産入力!$C$5:$C$34,計算用シート!$A19,償却資産入力!AS$5:AS$34)","v":155000},{"$f":"SUMIF(償却資産入力!$C$5:$C$34,計算用シート!$A19,償却資産入力!AT$5:AT$34)","v":155000},{"$f":"SUMIF(償却資産入力!$C$5:$C$34,計算用シート!$A19,償却資産入力!AU$5:AU$34)","v":155000},{"$f":"SUMIF(償却資産入力!$C$5:$C$34,計算用シート!$A19,償却資産入力!AV$5:AV$34)","v":155000},{"$f":"SUMIF(償却資産入力!$C$5:$C$34,計算用シート!$A19,償却資産入力!AW$5:AW$34)","v":155000},{"$f":"SUMIF(償却資産入力!$C$5:$C$34,計算用シート!$A19,償却資産入力!AX$5:AX$34)","v":155000},{"$f":"SUMIF(償却資産入力!$C$5:$C$34,計算用シート!$A19,償却資産入力!AY$5:AY$34)","v":155000},{"$f":"SUMIF(償却資産入力!$C$5:$C$34,計算用シート!$A19,償却資産入力!AZ$5:AZ$34)","v":155000},{"$f":"SUMIF(償却資産入力!$C$5:$C$34,計算用シート!$A19,償却資産入力!BA$5:BA$34)","v":155000},{"$f":"SUMIF(償却資産入力!$C$5:$C$34,計算用シート!$A19,償却資産入力!BB$5:BB$34)","v":155000},{"$f":"SUMIF(償却資産入力!$C$5:$C$34,計算用シート!$A19,償却資産入力!BC$5:BC$34)","v":155000},{"$f":"SUMIF(償却資産入力!$C$5:$C$34,計算用シート!$A19,償却資産入力!BD$5:BD$34)","v":155000},{"$f":"SUMIF(償却資産入力!$C$5:$C$34,計算用シート!$A19,償却資産入力!BE$5:BE$34)","v":155000},{"$f":"SUMIF(償却資産入力!$C$5:$C$34,計算用シート!$A19,償却資産入力!BF$5:BF$34)","v":155000},{"$f":"SUMIF(償却資産入力!$C$5:$C$34,計算用シート!$A19,償却資産入力!BG$5:BG$34)","v":155000},{"$f":"SUMIF(償却資産入力!$C$5:$C$34,計算用シート!$A19,償却資産入力!BH$5:BH$34)","v":155000},{"$f":"SUMIF(償却資産入力!$C$5:$C$34,計算用シート!$A19,償却資産入力!BI$5:BI$34)","v":155000},{"$f":"SUMIF(償却資産入力!$C$5:$C$34,計算用シート!$A19,償却資産入力!BJ$5:BJ$34)","v":155000},{"$f":"SUMIF(償却資産入力!$C$5:$C$34,計算用シート!$A19,償却資産入力!BK$5:BK$34)","v":155000},{"$f":"SUMIF(償却資産入力!$C$5:$C$34,計算用シート!$A19,償却資産入力!BL$5:BL$34)","v":155000},{"$f":"SUMIF(償却資産入力!$C$5:$C$34,計算用シート!$A19,償却資産入力!BM$5:BM$34)","v":155000},{"$f":"SUMIF(償却資産入力!$C$5:$C$34,計算用シート!$A19,償却資産入力!BN$5:BN$34)","v":155000},{"$f":"SUMIF(償却資産入力!$C$5:$C$34,計算用シート!$A19,償却資産入力!BO$5:BO$34)","v":155000},{"$f":"SUMIF(償却資産入力!$C$5:$C$34,計算用シート!$A19,償却資産入力!BP$5:BP$34)","v":155000},{"$f":"SUMIF(償却資産入力!$C$5:$C$34,計算用シート!$A19,償却資産入力!BQ$5:BQ$34)","v":155000},{"$f":"SUMIF(償却資産入力!$C$5:$C$34,計算用シート!$A19,償却資産入力!BR$5:BR$34)","v":155000},{"$f":"SUMIF(償却資産入力!$C$5:$C$34,計算用シート!$A19,償却資産入力!BS$5:BS$34)","v":155000},{"$f":"SUMIF(償却資産入力!$C$5:$C$34,計算用シート!$A19,償却資産入力!BT$5:BT$34)","v":155000},{"$f":"SUMIF(償却資産入力!$C$5:$C$34,計算用シート!$A19,償却資産入力!BU$5:BU$34)","v":155000},{"$f":"SUMIF(償却資産入力!$C$5:$C$34,計算用シート!$A19,償却資産入力!BV$5:BV$34)","v":155000},{"$f":"SUMIF(償却資産入力!$C$5:$C$34,計算用シート!$A19,償却資産入力!BW$5:BW$34)","v":155000},{"$f":"SUMIF(償却資産入力!$C$5:$C$34,計算用シート!$A19,償却資産入力!BX$5:BX$34)","v":155000},{"$f":"SUMIF(償却資産入力!$C$5:$C$34,計算用シート!$A19,償却資産入力!BY$5:BY$34)","v":155000},{"$f":"SUMIF(償却資産入力!$C$5:$C$34,計算用シート!$A19,償却資産入力!BZ$5:BZ$34)","v":155000},{"$f":"SUMIF(償却資産入力!$C$5:$C$34,計算用シート!$A19,償却資産入力!CA$5:CA$34)","v":155000},{"$f":"SUMIF(償却資産入力!$C$5:$C$34,計算用シート!$A19,償却資産入力!CB$5:CB$34)","v":155000},{"$f":"SUMIF(償却資産入力!$C$5:$C$34,計算用シート!$A19,償却資産入力!CC$5:CC$34)","v":155000},{"$f":"SUMIF(償却資産入力!$C$5:$C$34,計算用シート!$A19,償却資産入力!CD$5:CD$34)","v":155000},{"$f":"SUMIF(償却資産入力!$C$5:$C$34,計算用シート!$A19,償却資産入力!CE$5:CE$34)","v":155000},{"$f":"SUMIF(償却資産入力!$C$5:$C$34,計算用シート!$A19,償却資産入力!CF$5:CF$34)","v":155000},{"$f":"SUMIF(償却資産入力!$C$5:$C$34,計算用シート!$A19,償却資産入力!CG$5:CG$34)","v":155000},{"$f":"SUMIF(償却資産入力!$C$5:$C$34,計算用シート!$A19,償却資産入力!CH$5:CH$34)","v":155000},{"$f":"SUMIF(償却資産入力!$C$5:$C$34,計算用シート!$A19,償却資産入力!CI$5:CI$34)","v":155000},{"$f":"SUMIF(償却資産入力!$C$5:$C$34,計算用シート!$A19,償却資産入力!CJ$5:CJ$34)","v":155000},{"$f":"SUMIF(償却資産入力!$C$5:$C$34,計算用シート!$A19,償却資産入力!CK$5:CK$34)","v":155000},{"$f":"SUMIF(償却資産入力!$C$5:$C$34,計算用シート!$A19,償却資産入力!CL$5:CL$34)","v":155000},{"$f":"SUMIF(償却資産入力!$C$5:$C$34,計算用シート!$A19,償却資産入力!CM$5:CM$34)","v":155000},{"$f":"SUMIF(償却資産入力!$C$5:$C$34,計算用シート!$A19,償却資産入力!CN$5:CN$34)","v":155000},{"$f":"SUMIF(償却資産入力!$C$5:$C$34,計算用シート!$A19,償却資産入力!CO$5:CO$34)","v":155000},{"$f":"SUMIF(償却資産入力!$C$5:$C$34,計算用シート!$A19,償却資産入力!CP$5:CP$34)","v":155000},{"$f":"SUMIF(償却資産入力!$C$5:$C$34,計算用シート!$A19,償却資産入力!CQ$5:CQ$34)","v":155000},{"$f":"SUMIF(償却資産入力!$C$5:$C$34,計算用シート!$A19,償却資産入力!CR$5:CR$34)","v":155000},{"$f":"SUMIF(償却資産入力!$C$5:$C$34,計算用シート!$A19,償却資産入力!CS$5:CS$34)","v":155000},{"$f":"SUMIF(償却資産入力!$C$5:$C$34,計算用シート!$A19,償却資産入力!CT$5:CT$34)","v":155000},{"$f":"SUMIF(償却資産入力!$C$5:$C$34,計算用シート!$A19,償却資産入力!CU$5:CU$34)","v":155000},{"$f":"SUMIF(償却資産入力!$C$5:$C$34,計算用シート!$A19,償却資産入力!CV$5:CV$34)","v":155000},{"$f":"SUMIF(償却資産入力!$C$5:$C$34,計算用シート!$A19,償却資産入力!CW$5:CW$34)","v":155000},{"$f":"SUMIF(償却資産入力!$C$5:$C$34,計算用シート!$A19,償却資産入力!CX$5:CX$34)","v":155000},{"$f":"SUMIF(償却資産入力!$C$5:$C$34,計算用シート!$A19,償却資産入力!CY$5:CY$34)","v":155000}]

{"sheet":"申告書（提出用）","index":2,"n_rows":54,"n_cols":50,"rows_kept":54,"cut":false,"hidden":false,"merged":[[33,36,35,48],[11,26,12,29],[31,27,31,32],[35,27,35,32],[34,27,34,34],[21,47,22,48],[31,19,32,26],[19,45,20,46],[9,45,10,46],[11,34,12,34],[11,43,12,44],[17,35,18,42],[11,45,12,46],[19,34,20,34],[19,21,20,33],[17,47,18,48],[19,47,20,48],[19,43,20,44],[19,35,20,42],[13,21,14,25],[13,26,14,27],[15,45,16,46],[17,21,18,24],[17,25,18,31],[17,34,18,34],[13,35,14,42],[0,49,15,49],[9,43,10,44],[13,43,14,44],[7,35,8,42],[13,47,14,48],[5,35,6,42],[9,47,10,48],[15,43,16,44],[2,28,2,48],[5,28,8,28],[5,30,8,30],[5,31,8,31],[7,43,8,44],[3,30,4,45],[5,47,6,48],[7,47,8,48],[5,43,6,44],[11,35,12,42],[15,35,16,42],[15,34,16,34],[15,47,16,48],[11,47,12,48],[6,1,6,3],[11,1,13,1],[13,18,14,18],[15,18,18,18],[5,27,8,27],[15,19,18,20],[15,1,15,3],[5,23,8,23],[12,16,14,16],[5,25,8,25],[12,12,14,15],[5,21,8,21],[5,24,8,24],[51,8,52,12],[49,6,49,7],[41,6,42,7],[41,8,42,12],[47,8,48,12],[5,32,8,32],[11,25,12,25],[5,22,8,22],[13,28,14,30],[21,21,22,24],[11,30,12,33],[40,25,40,26],[24,2,24,7],[23,2,23,26],[9,22,10,32],[5,19,8,20],[19,19,22,20],[13,19,14,20],[13,31,14,33],[5,26,8,26],[16,1,17,3],[25,19,26,26],[23,27,30,34],[29,8,30,12],[5,0,22,0],[5,4,6,17],[24,8,24,12],[25,0,26,0],[31,8,32,12],[23,0,24,1],[15,5,19,15],[27,13,28,18],[18,1,22,3],[19,18,22,18],[29,2,30,7],[31,2,32,7],[20,5,20,15],[25,2,26,7],[27,2,28,7],[25,8,26,12],[27,8,28,12],[24,13,24,18],[21,11,22,15],[25,1,26,1],[31,13,32,18],[25,13,26,18],[9,18,12,18],[12,10,14,11],[44,6,44,7],[53,5,54,5],[53,19,54,26],[53,28,54,47],[41,27,54,27],[45,28,46,47],[49,28,50,47],[47,19,48,26],[49,19,50,26],[45,19,46,26],[51,28,52,47],[47,28,48,47],[52,6,52,7],[51,13,52,18],[43,28,44,47],[43,13,44,18],[43,6,43,7],[51,19,52,26],[47,13,48,18],[53,8,54,12],[49,5,50,5],[47,5,48,5],[49,8,50,12],[45,13,46,18],[27,0,28,0],[29,0,30,0],[31,0,32,0],[29,13,30,18],[33,0,34,0],[39,14,40,17],[35,13,36,18],[37,13,38,18],[37,8,38,12],[31,1,32,1],[39,5,40,7],[35,0,36,0],[29,1,30,1],[33,13,34,18],[33,8,34,12],[33,2,34,7],[43,8,44,12],[45,8,46,12],[39,20,40,24],[35,19,36,26],[49,13,50,18],[37,0,38,0],[37,1,38,1],[39,9,40,11],[35,8,36,12],[41,13,42,18],[39,0,54,4],[45,5,46,5],[37,2,38,7],[35,2,36,7],[41,19,42,26],[37,19,38,26],[53,6,54,7],[51,6,51,7],[43,5,44,5],[41,5,42,5],[45,6,46,7],[47,6,48,7],[51,5,52,5],[50,6,50,7],[41,48,53,48],[43,19,44,26],[42,28,42,47],[5,18,8,18],[21,43,22,44],[21,45,22,46],[5,33,8,33],[5,45,6,46],[7,45,8,46],[5,34,6,34],[5,29,8,29],[17,45,18,46],[21,34,22,34],[13,34,14,34],[17,43,18,44],[53,13,54,18],[21,16,22,16],[33,27,33,32],[36,27,38,38],[27,19,28,26],[29,19,30,26],[21,25,22,31],[24,19,24,26],[21,32,22,32],[2,1,3,9],[39,27,39,48],[40,27,40,47],[9,35,10,42],[7,34,8,34],[21,35,22,42],[23,37,30,48],[7,4,10,17],[1,11,1,26],[2,11,4,26],[7,1,8,1],[21,10,22,10],[36,39,38,48],[31,35,32,41],[32,27,32,34],[33,19,34,26],[3,10,4,10],[17,32,18,32],[15,21,16,33],[18,16,20,16],[9,19,12,20],[13,45,14,46],[9,34,10,34],[23,35,30,36]]}
[null,null,null,null,null,null,null,null,null,null,null,null,null,null,null,null,null,null,null,null,null,null,null,null,null,null,null,null,null,null,null,null,null,null,null,null,null,null,null,null,null,null,null,null,null,null,null,null,null,"第二十六号様式"]
[null,null,null,null,null,null,null,null,null,null,null,{"$f":"償却資産入力!E1","v":45292}]
[null,"           原　村　長　　　",null,null,null,null,null,null,null,null,null,"\n　　　　　　　償　却　資　産　申　告　書",null,null,null,null,null,null,null,null,null,null,null,null,null,null,null,"※","所　  有　  者  　コ  　ー  　ド"]
[null,null,null,null,null,null,null,null,null,null,"様"]
[]
["所　有　者　",null,null,null,null,null,null,null,null,null,null,null,null,null,null,null,null,null,3,"個 人 番 号 又\nは 法 人 番 号",null,null,null,null,null,null,null,null,null,null,null,null,null,null,8,"短縮耐用年数の承認",null,null,null,null,null,null,null,"有",null,"・",null,"無"]
[null,"　　　ふりがな　　"]
[null,"　1 住　所",null,null,null,null,null,null,null,null,null,null,null,null,null,null,null,null,null,null,null,null,null,null,null,null,null,null,null,null,null,null,null,null,9,"増 加 償 却 の 届 出",null,null,null,null,null,null,null,"有",null,"・",null,"無"]
[]
[null,null,null,null,null,null,null,null,null,null,null,null,null,null,null,null,null,null,4,"事　業　種　目\n（資本等の金額）",null,null,null,null,null,null,null,null,null,null,null,null,null,null,10,"非 課 税 該 当 資 産",null,null,null,null,null,null,null,"有",null,"・",null,"無"]
[]
[null,"　又は納税通\n　知書送達先",null,null,null,null,null,null,null,null,null,null,null,null,null,null,null,null,null,null,null,null,null,null,null,"（",null,null,null,null,"）百万円",null,null,null,11,"課 税 標 準 の 特 例",null,null,null,null,null,null,null,"有",null,"・",null,"無"]
[null,null,null,null,null,null,null,null,null,null,"　ＴＥＬ（",null,null,null,null,null,"）"]
[null,null,null,null,null,null,null,null,null,null,null,null,null,null,null,null,null,null,5,"事業開始年月",null,null,null,null,null,null,null,null,null,null,null,null,null,null,12,"特別償却又は圧縮記帳",null,null,null,null,null,null,null,"有",null,"・",null,"無"]
[null,null,null,null,null,null,null,null,null,"　"]
[null,"　       ふりがな　　",null,null,null,null,null,null,null,null,null,null,null,null,null,null,null,null,6,"この申告に応答す\nる者の係及び氏名",null,null,null,null,null,null,null,null,null,null,null,null,null,null,13,"税務会計上の償却方法",null,null,null,null,null,null,null,"定率法",null,"・",null,"定額法"]
[null,"2 氏　名",null,null,"　　　　"]
[null,null,null,null,null,null,null,null,null,null,null,null,null,null,null,null,null,null,null,null,null,"ＴＥＬ(",null,null,null,null,null,null,null,null,null,null,"）",null,14,"青　 　色　 　申　 　告",null,null,null,null,null,null,null,"有",null,"・",null,"無"]
[null,"　　 法人にあっ\n　　 てはその名\n　　 称及び代表\n　　 者の氏名"]
[null,null,null,null,null,null,null,null,null,null,null,null,null,null,null,null,null,null,7,"税 理 士 等 の\n氏 名"]
[]
[null,null,null,null,null,null,null,null,null,null,"（屋号",null,null,null,null,null,"）",null,null,null,null,"ＴＥＬ(",null,null,null,null,null,null,null,null,null,null,"）"]
[]
["資産の種類",null,"取　　　　　得　　　　　価　　　　　額",null,null,null,null,null,null,null,null,null,null,null,null,null,null,null,null,null,null,null,null,null,null,null,null,"15 　市（区）町村内\n\n　　における事業所\n\n　　等資産の所在地",null,null,null,null,null,null,null," ①　②　③　"]
[null,null,"前年前に取得したもの　(イ)　",null,null,null,null,null,"前年中に減少したもの　(ロ)",null,null,null,null,"前年中に取得したもの　(ハ)",null,null,null,null,null,"計（（イ）－（ロ）＋（ハ））　　（ニ）"]
[1,"構築物",{"$f":"計算用シート!B5","v":0},null,null,null,null,null,null,null,null,null,null,{"$f":"計算用シート!D5","v":0},null,null,null,null,null,{"$f":"計算用シート!E5","v":0}]
[]
[2,"機械及び",{"$f":"計算用シート!B6","v":2285000},null,null,null,null,null,null,null,null,null,null,{"$f":"計算用シート!D6","v":0},null,null,null,null,null,{"$f":"計算用シート!E6","v":2285000}]
[null,"装置"]
[3,"船　舶",{"$f":"計算用シート!B7","v":0},null,null,null,null,null,null,null,null,null,null,{"$f":"計算用シート!D7","v":0},null,null,null,null,null,{"$f":"計算用シート!E7","v":0}]
[]
[4,"航空機",{"$f":"計算用シート!B8","v":0},null,null,null,null,null,null,null,null,null,null,{"$f":"計算用シート!D8","v":0},null,null,null,null,null,{"$f":"計算用シート!E8","v":0},null,null,null,null,null,null,null,null,null,null,null,null,null,null,null,"　賃主の名称等"]
[null,null,null,null,null,null,null,null,null,null,null,null,null,null,null,null,null,null,null,null,null,null,null,null,null,null,null,"16 　借　用　資　産"]
[5,"車輌及び",{"$f":"計算用シート!B9","v":0},null,null,null,null,null,null,null,null,null,null,{"$f":"計算用シート!D9","v":0},null,null,null,null,null,{"$f":"計算用シート!E9","v":0}]
[null,"運搬具",null,null,null,null,null,null,null,null,null,null,null,null,null,null,null,null,null,null,null,null,null,null,null,null,null,"　　　（　有　・　無　）"]
[6,"工具、器具",{"$f":"計算用シート!B10","v":3100000},null,null,null,null,null,null,null,null,null,null,{"$f":"計算用シート!D10","v":0},null,null,null,null,null,{"$f":"計算用シート!E10","v":3100000}]
[null,"及び備品",null,null,null,null,null,null,null,null,null,null,null,null,null,null,null,null,null,null,null,null,null,null,null,null,null,"17 　事業所用家屋の所有区分",null,null,null,null,null,null,null,null,null,null,null,"自己所有　・　借家"]
[7,"合　計",{"$f":"SUM(C26:H37)","v":5385000},null,null,null,null,null,{"$f":"SUM(I26,I28,I30,I32,I34,I36)","v":0},null,null,null,null,{"$f":"SUM(N26:S37)","v":0},null,null,null,null,null,{"$f":"SUM(T26:AA37)","v":5385000}]
[]
[null,null,null,null,null,"資産の種類",null,null,"※","　評　価　額",null,null,null,"※","決　定　価　格",null,null,null,null,"※","課　税　標　準　額",null,null,null,null,null,null,"18 　備考（添付書類等）"]
[null,null,null,null,null,null,null,null,null,null,null,null,"（ホ）",null,null,null,null,null,"（ヘ）",null,null,null,null,null,null,"（ト）",null,"　　以下の項目に該当する場合は、記入してください"]
[null,null,null,null,null,1,"構築物",null,{"$f":"IFERROR(OFFSET(計算用シート!$B14,0,償却資産入力!$F$1-1,1),0)","v":0},null,null,null,null,{"$f":"I42","v":0}]
[null,null,null,null,null,null,null,null,null,null,null,null,null,null,null,null,null,null,null,null,null,null,null,null,null,null,null,null,"□　資産増減なし"]
[null,null,null,null,null,2,"機械及び",null,{"$f":"IFERROR(OFFSET(計算用シート!$B15,0,償却資産入力!$F$1-1,1),0)","v":921337},null,null,null,null,{"$f":"I44","v":921337},null,null,null,null,null,null,null,null,null,null,null,null,null,null,"□　申告対象資産なし"]
[null,null,null,null,null,null,"装置"]
[null,null,null,null,null,3,"船　舶",null,{"$f":"IFERROR(OFFSET(計算用シート!$B16,0,償却資産入力!$F$1-1,1),0)","v":0},null,null,null,null,{"$f":"I46","v":0},null,null,null,null,null,null,null,null,null,null,null,null,null,null,"□　廃業・解散、転出等　令和　　年　　月　　日"]
[]
[null,null,null,null,null,4,"航空機",null,{"$f":"IFERROR(OFFSET(計算用シート!$B17,0,償却資産入力!$F$1-1,1),0)","v":0},null,null,null,null,{"$f":"I48","v":0}]
[]
[null,null,null,null,null,5,"車輌及び",null,{"$f":"IFERROR(OFFSET(計算用シート!$B18,0,償却資産入力!$F$1-1,1),0)","v":0},null,null,null,null,{"$f":"I50","v":0}]
[null,null,null,null,null,null,"運搬具"]
[null,null,null,null,null,6,"工具、器具",null,{"$f":"IFERROR(OFFSET(計算用シート!$B19,0,償却資産入力!$F$1-1,1),0)","v":155000},null,null,null,null,{"$f":"I52","v":155000}]
[null,null,null,null,null,null,"及び備品"]
[null,null,null,null,null,7,"合　計",null,{"$f":"SUM(I42:M53)","v":1076337},null,null,null,null,{"$f":"SUM(N42:S53)","v":1076337}]

{"sheet":"申告書（控用）","index":3,"n_rows":54,"n_cols":50,"rows_kept":54,"cut":false,"hidden":false,"merged":[[39,27,39,48],[40,27,40,47],[42,28,42,47],[3,30,4,45],[11,26,12,29],[39,20,40,24],[40,25,40,26],[33,36,35,48],[36,39,38,48],[34,27,34,34],[31,27,31,32],[35,19,36,26],[35,27,35,32],[41,48,53,48],[33,19,34,26],[33,27,33,32],[21,45,22,46],[19,43,20,44],[19,45,20,46],[11,43,12,44],[13,34,14,34],[13,35,14,42],[13,43,14,44],[11,25,12,25],[53,5,54,5],[53,6,54,7],[53,8,54,12],[53,13,54,18],[53,19,54,26],[53,28,54,47],[51,5,52,5],[51,6,51,7],[51,8,52,12],[51,13,52,18],[51,19,52,26],[51,28,52,47],[52,6,52,7],[43,5,44,5],[47,19,48,26],[47,28,48,47],[49,5,50,5],[49,6,49,7],[49,8,50,12],[49,13,50,18],[49,19,50,26],[49,28,50,47],[50,6,50,7],[41,8,42,12],[41,13,42,18],[41,19,42,26],[41,27,54,27],[47,6,48,7],[47,8,48,12],[47,13,48,18],[43,6,43,7],[43,19,44,26],[39,0,54,4],[39,5,40,7],[39,9,40,11],[39,14,40,17],[43,8,44,12],[43,13,44,18],[47,5,48,5],[41,5,42,5],[36,27,38,38],[37,0,38,0],[37,1,38,1],[37,2,38,7],[37,8,38,12],[37,13,38,18],[37,19,38,26],[43,28,44,47],[45,5,46,5],[45,6,46,7],[45,8,46,12],[45,13,46,18],[45,19,46,26],[45,28,46,47],[44,6,44,7],[41,6,42,7],[31,0,32,0],[31,1,32,1],[35,0,36,0],[35,2,36,7],[35,8,36,12],[35,13,36,18],[33,0,34,0],[33,2,34,7],[33,8,34,12],[33,13,34,18],[31,13,32,18],[29,1,30,1],[29,2,30,7],[29,8,30,12],[29,13,30,18],[29,19,30,26],[31,19,32,26],[23,27,30,34],[13,19,14,20],[31,35,32,41],[32,27,32,34],[21,21,22,24],[25,19,26,26],[19,21,20,33],[24,19,24,26],[19,35,20,42],[23,37,30,48],[23,35,30,36],[19,47,20,48],[21,47,22,48],[19,34,20,34],[17,21,18,24],[17,25,18,31],[21,11,22,15],[18,16,20,16],[27,0,28,0],[27,2,28,7],[27,8,28,12],[27,13,28,18],[27,19,28,26],[31,2,32,7],[31,8,32,12],[21,32,22,32],[18,1,22,3],[20,5,20,15],[5,0,22,0],[29,0,30,0],[25,0,26,0],[25,1,26,1],[25,2,26,7],[25,8,26,12],[23,0,24,1],[24,2,24,7],[24,8,24,12],[24,13,24,18],[25,13,26,18],[21,10,22,10],[21,16,22,16],[23,2,23,26],[21,25,22,31],[17,45,18,46],[17,47,18,48],[17,43,18,44],[15,1,15,3],[15,43,16,44],[15,21,16,33],[21,34,22,34],[21,35,22,42],[21,43,22,44],[15,45,16,46],[15,34,16,34],[16,1,17,3],[5,45,6,46],[11,45,12,46],[19,18,22,18],[19,19,22,20],[15,19,18,20],[15,47,16,48],[7,47,8,48],[9,18,12,18],[9,22,10,32],[9,34,10,34],[9,35,10,42],[9,43,10,44],[9,45,10,46],[9,47,10,48],[11,47,12,48],[5,29,8,29],[7,45,8,46],[5,30,8,30],[5,31,8,31],[5,32,8,32],[5,33,8,33],[17,32,18,32],[17,34,18,34],[17,35,18,42],[7,1,8,1],[7,4,10,17],[7,34,8,34],[7,35,8,42],[7,43,8,44],[5,34,6,34],[11,1,13,1],[13,21,14,25],[5,24,8,24],[5,25,8,25],[9,19,12,20],[5,26,8,26],[12,10,14,11],[12,12,14,15],[12,16,14,16],[6,1,6,3],[11,30,12,33],[11,34,12,34],[11,35,12,42],[5,35,6,42],[5,43,6,44],[1,11,1,26],[2,11,4,26],[0,49,15,49],[15,35,16,42],[13,18,14,18],[5,23,8,23],[5,4,6,17],[5,18,8,18],[5,19,8,20],[2,1,3,9],[2,28,2,48],[13,45,14,46],[13,47,14,48],[5,28,8,28],[5,21,8,21],[5,22,8,22],[5,27,8,27],[13,26,14,27],[13,28,14,30],[13,31,14,33],[5,47,6,48],[15,5,19,15],[15,18,18,18],[3,10,4,10]]}
[null,null,null,null,null,null,null,null,null,null,null,null,null,null,null,null,null,null,null,null,null,null,null,null,null,null,null,null,null,null,null,null,null,null,null,null,null,null,null,null,null,null,null,null,null,null,null,null,null,"第二十六号様式"]
[null,null,null,null,null,null,null,null,null,null,null,{"$f":"償却資産入力!E1","v":45292}]
[null,"原　村　長",null,null,null,null,null,null,null,null,null,"\n　　　　　　　償　却　資　産　申　告　書",null,null,null,null,null,null,null,null,null,null,null,null,null,null,null,"※","所　  有　  者  　コ  　ー  　ド"]
[null,null,null,null,null,null,null,null,null,null,"様"]
[]
["所　有　者　",null,null,null,null,null,null,null,null,null,null,null,null,null,null,null,null,null,3,"個 人 番 号 又\nは 法 人 番 号",null,null,null,null,null,null,null,null,null,null,null,null,null,null,8,"短縮耐用年数の承認",null,null,null,null,null,null,null,"有",null,"・",null,"無"]
[null,"　　　ふりがな　　"]
[null,"　1 住　所",null,null,null,null,null,null,null,null,null,null,null,null,null,null,null,null,null,null,null,null,null,null,null,null,null,null,null,null,null,null,null,null,9,"増 加 償 却 の 届 出",null,null,null,null,null,null,null,"有",null,"・",null,"無"]
[]
[null,null,null,null,null,null,null,null,null,null,null,null,null,null,null,null,null,null,4,"事　業　種　目\n（資本等の金額）",null,null,null,null,null,null,null,null,null,null,null,null,null,null,10,"非 課 税 該 当 資 産",null,null,null,null,null,null,null,"有",null,"・",null,"無"]
[]
[null,"　又は納税通\n　知書送達先",null,null,null,null,null,null,null,null,null,null,null,null,null,null,null,null,null,null,null,null,null,null,null,"（",null,null,null,null,"）百万円",null,null,null,11,"課 税 標 準 の 特 例",null,null,null,null,null,null,null,"有",null,"・",null,"無"]
[null,null,null,null,null,null,null,null,null,null,"　ＴＥＬ（",null,null,null,null,null,"）"]
[null,null,null,null,null,null,null,null,null,null,null,null,null,null,null,null,null,null,5,"事業開始年月",null,null,null,null,null,null,"年",null,null,null,null,"月",null,null,12,"特別償却又は圧縮記帳",null,null,null,null,null,null,null,"有",null,"・",null,"無"]
[null,null,null,null,null,null,null,null,null,"　"]
[null,"　       ふりがな　　",null,null,null,null,null,null,null,null,null,null,null,null,null,null,null,null,6,"この申告に応答す\nる者の係及び氏名",null,null,null,null,null,null,null,null,null,null,null,null,null,null,13,"税務会計上の償却方法",null,null,null,null,null,null,null,"定率法",null,"・",null,"定額法"]
[null,"2 氏　名",null,null,"　　　　"]
[null,null,null,null,null,null,null,null,null,null,null,null,null,null,null,null,null,null,null,null,null,"ＴＥＬ(",null,null,null,null,null,null,null,null,null,null,"）",null,14,"青　 　色　 　申　 　告",null,null,null,null,null,null,null,"有",null,"・",null,"無"]
[null,"　　 法人にあっ\n　　 てはその名\n　　 称及び代表\n　　 者の氏名"]
[null,null,null,null,null,null,null,null,null,null,null,null,null,null,null,null,null,null,7,"税 理 士 等 の\n氏 名"]
[]
[null,null,null,null,null,null,null,null,null,null,"（屋号",null,null,null,null,null,"）",null,null,null,null,"ＴＥＬ(",null,null,null,null,null,null,null,null,null,null,"）"]
[]
["資産の種類",null,"取　　　　　得　　　　　価　　　　　額",null,null,null,null,null,null,null,null,null,null,null,null,null,null,null,null,null,null,null,null,null,null,null,null,"15 　市（区）町村内\n\n　　における事業所\n\n　　等資産の所在地",null,null,null,null,null,null,null," ①　②　③　"]
[null,null,"前年前に取得したもの　(イ)　",null,null,null,null,null,"前年中に減少したもの　(ロ)",null,null,null,null,"前年中に取得したもの　(ハ)",null,null,null,null,null,"計（（イ）－（ロ）＋（ハ））　　（ニ）"]
[1,"構築物",{"$f":"計算用シート!B5","v":0},null,null,null,null,null,{"$f":"計算用シート!C5","v":0},null,null,null,null,{"$f":"計算用シート!D5","v":0},null,null,null,null,null,{"$f":"計算用シート!E5","v":0}]
[]
[2,"機械及び",{"$f":"計算用シート!B6","v":2285000},null,null,null,null,null,{"$f":"計算用シート!C6","v":0},null,null,null,null,{"$f":"計算用シート!D6","v":0},null,null,null,null,null,{"$f":"計算用シート!E6","v":2285000}]
[null,"装置"]
[3,"船　舶",{"$f":"計算用シート!B7","v":0},null,null,null,null,null,{"$f":"計算用シート!C7","v":0},null,null,null,null,{"$f":"計算用シート!D7","v":0},null,null,null,null,null,{"$f":"計算用シート!E7","v":0}]
[]
[4,"航空機",{"$f":"計算用シート!B8","v":0},null,null,null,null,null,{"$f":"計算用シート!C8","v":0},null,null,null,null,{"$f":"計算用シート!D8","v":0},null,null,null,null,null,{"$f":"計算用シート!E8","v":0},null,null,null,null,null,null,null,null,null,null,null,null,null,null,null,"　賃主の名称等"]
[null,null,null,null,null,null,null,null,null,null,null,null,null,null,null,null,null,null,null,null,null,null,null,null,null,null,null,"16 　借　用　資　産"]
[5,"車輌及び",{"$f":"計算用シート!B9","v":0},null,null,null,null,null,{"$f":"計算用シート!C9","v":0},null,null,null,null,{"$f":"計算用シート!D9","v":0},null,null,null,null,null,{"$f":"計算用シート!E9","v":0}]
[null,"運搬具",null,null,null,null,null,null,null,null,null,null,null,null,null,null,null,null,null,null,null,null,null,null,null,null,null,"　　　（　有　・　無　）"]
[6,"工具、器具",{"$f":"計算用シート!B10","v":3100000},null,null,null,null,null,{"$f":"計算用シート!C10","v":0},null,null,null,null,{"$f":"計算用シート!D10","v":0},null,null,null,null,null,{"$f":"計算用シート!E10","v":3100000}]
[null,"及び備品",null,null,null,null,null,null,null,null,null,null,null,null,null,null,null,null,null,null,null,null,null,null,null,null,null,"17 　事業所用家屋の所有区分",null,null,null,null,null,null,null,null,null,null,null,"自己所有　・　借家"]
[7,"合　計",{"$f":"SUM(C26:H37)","v":5385000},null,null,null,null,null,{"$f":"SUM(I26:M37)","v":0},null,null,null,null,{"$f":"SUM(N26:S37)","v":0},null,null,null,null,null,{"$f":"SUM(T26:AA37)","v":5385000}]
[]
[null,null,null,null,null,"資産の種類",null,null,"※","　評　価　額",null,null,null,"※","決　定　価　格",null,null,null,null,"※","課　税　標　準　額",null,null,null,null,null,null,"18 　備考（添付書類等）"]
[null,null,null,null,null,null,null,null,null,null,null,null,"（ホ）",null,null,null,null,null,"（ヘ）",null,null,null,null,null,null,"（ト）",null,"　　以下の項目に該当する場合は、記入してください"]
[null,null,null,null,null,1,"構築物",null,{"$f":"IFERROR(OFFSET(計算用シート!$B14,0,償却資産入力!$F$1-1,1),0)","v":0},null,null,null,null,{"$f":"I42","v":0}]
[null,null,null,null,null,null,null,null,null,null,null,null,null,null,null,null,null,null,null,null,null,null,null,null,null,null,null,null,"□　資産増減なし"]
[null,null,null,null,null,2,"機械及び",null,{"$f":"IFERROR(OFFSET(計算用シート!$B15,0,償却資産入力!$F$1-1,1),0)","v":921337},null,null,null,null,{"$f":"I44","v":921337},null,null,null,null,null,null,null,null,null,null,null,null,null,null,"□　申告対象資産なし"]
[null,null,null,null,null,null,"装置"]
[null,null,null,null,null,3,"船　舶",null,{"$f":"IFERROR(OFFSET(計算用シート!$B16,0,償却資産入力!$F$1-1,1),0)","v":0},null,null,null,null,{"$f":"I46","v":0},null,null,null,null,null,null,null,null,null,null,null,null,null,null,"□　廃業・解散、転出等　令和　　年　　月　　日"]
[]
[null,null,null,null,null,4,"航空機",null,{"$f":"IFERROR(OFFSET(計算用シート!$B17,0,償却資産入力!$F$1-1,1),0)","v":0},null,null,null,null,{"$f":"I48","v":0}]
[]
[null,null,null,null,null,5,"車輌及び",null,{"$f":"IFERROR(OFFSET(計算用シート!$B18,0,償却資産入力!$F$1-1,1),0)","v":0},null,null,null,null,{"$f":"I50","v":0}]
[null,null,null,null,null,null,"運搬具"]
[null,null,null,null,null,6,"工具、器具",null,{"$f":"IFERROR(OFFSET(計算用シート!$B19,0,償却資産入力!$F$1-1,1),0)","v":155000},null,null,null,null,{"$f":"I52","v":155000}]
[null,null,null,null,null,null,"及び備品"]
[null,null,null,null,null,7,"合　計",null,{"$f":"SUM(I42:M53)","v":1076337},null,null,null,null,{"$f":"SUM(N42:S53)","v":1076337}]

{"sheet":"増加資産・全資産用（提出用）","index":4,"n_rows":33,"n_cols":50,"rows_kept":33,"cut":false,"hidden":false,"merged":[[31,1,31,5],[31,7,31,11],[32,1,32,5],[32,7,32,11],[26,32,28,35],[26,36,28,39],[26,40,28,44],[27,0,28,13],[29,1,29,5],[29,7,29,11],[26,15,28,17],[26,18,28,19],[26,20,28,22],[26,23,28,26],[26,27,28,31],[30,1,30,5],[30,7,30,11],[25,18,25,19],[25,23,25,26],[25,27,25,28],[25,29,25,31],[24,29,24,31],[24,32,24,35],[24,36,24,37],[25,32,25,35],[25,36,25,37],[25,38,25,39],[25,40,25,44],[25,45,25,47],[24,2,24,7],[24,8,24,17],[24,18,24,19],[24,23,24,26],[24,27,24,28],[23,2,23,7],[23,8,23,17],[23,18,23,19],[23,23,23,26],[23,27,23,28],[24,38,24,39],[24,40,24,44],[24,45,24,47],[23,32,23,35],[23,36,23,37],[23,38,23,39],[23,40,23,44],[23,45,23,47],[23,29,23,31],[25,2,25,7],[25,8,25,17],[22,29,22,31],[22,32,22,35],[22,36,22,37],[22,38,22,39],[22,40,22,44],[22,45,22,47],[21,32,21,35],[21,36,21,37],[21,38,21,39],[21,40,21,44],[21,45,21,47],[21,29,21,31],[22,2,22,7],[22,8,22,17],[22,18,22,19],[22,23,22,26],[22,27,22,28],[21,2,21,7],[21,8,21,17],[21,18,21,19],[21,23,21,26],[21,27,21,28],[20,29,20,31],[20,32,20,35],[20,36,20,37],[20,38,20,39],[20,40,20,44],[20,45,20,47],[19,32,19,35],[19,36,19,37],[19,38,19,39],[19,40,19,44],[19,45,19,47],[19,29,19,31],[20,2,20,7],[20,8,20,17],[20,18,20,19],[20,23,20,26],[20,27,20,28],[19,2,19,7],[19,8,19,17],[19,18,19,19],[19,23,19,26],[19,27,19,28],[18,29,18,31],[18,32,18,35],[18,36,18,37],[18,38,18,39],[18,40,18,44],[18,45,18,47],[17,32,17,35],[17,36,17,37],[17,38,17,39],[17,40,17,44],[17,45,17,47],[17,29,17,31],[18,2,18,7],[18,8,18,17],[18,18,18,19],[18,23,18,26],[18,27,18,28],[17,2,17,7],[17,8,17,17],[17,18,17,19],[17,23,17,26],[17,27,17,28],[16,29,16,31],[16,32,16,35],[16,36,16,37],[16,38,16,39],[16,40,16,44],[16,45,16,47],[15,32,15,35],[15,36,15,37],[15,38,15,39],[15,40,15,44],[15,45,15,47],[15,29,15,31],[16,2,16,7],[16,8,16,17],[16,18,16,19],[16,23,16,26],[16,27,16,28],[15,2,15,7],[15,8,15,17],[15,18,15,19],[15,23,15,26],[15,27,15,28],[14,29,14,31],[14,32,14,35],[14,36,14,37],[14,38,14,39],[14,40,14,44],[14,45,14,47],[13,32,13,35],[13,36,13,37],[13,38,13,39],[13,40,13,44],[13,45,13,47],[13,29,13,31],[14,2,14,7],[14,8,14,17],[14,18,14,19],[14,23,14,26],[14,27,14,28],[13,2,13,7],[13,8,13,17],[13,18,13,19],[13,23,13,26],[13,27,13,28],[12,29,12,31],[12,32,12,35],[12,36,12,37],[12,38,12,39],[12,40,12,44],[12,45,12,47],[11,32,11,35],[11,36,11,37],[11,38,11,39],[11,40,11,44],[11,45,11,47],[11,29,11,31],[12,2,12,7],[12,8,12,17],[12,18,12,19],[12,23,12,26],[12,27,12,28],[11,2,11,7],[11,8,11,17],[11,18,11,19],[11,23,11,26],[11,27,11,28],[10,36,10,37],[10,38,10,39],[7,29,7,31],[7,45,10,47],[7,48,10,48],[8,23,9,26],[8,30,10,30],[8,32,9,35],[8,36,8,39],[8,40,9,44],[10,43,10,44],[0,30,1,33],[0,49,12,49],[1,0,1,13],[2,14,4,31],[2,32,3,44],[2,45,4,47],[2,48,4,48],[3,0,4,0],[3,1,5,13],[4,32,6,44],[5,45,6,47],[5,48,6,48],[6,2,6,13],[7,0,10,0],[7,1,10,1],[7,3,10,7],[7,8,10,17],[7,18,10,19],[7,20,8,22],[7,27,10,28],[9,20,10,20],[9,21,10,21],[9,22,10,22],[9,36,9,39]]}
[null,null,null,null,null,null,null,null,null,null,null,null,null,null,null,null,null,null,null,null,null,null,null,null,null,null,null,null,null,null,"提 出 用",null,null,null,null,null,null,null,null,null,null,null,null,null,null,null,null,null,null," 第二十六号様式別表一"]
[{"$f":"償却資産入力!E1","v":45292}]
[null,null,null,null,null,null,null,null,null,null,null,null,null,null,"種類別明細書（増加資産・全資産用）",null,null,null,null,null,null,null,null,null,null,null,null,null,null,null,null,null,"所　　　有　　　者　　　氏　　　名",null,null,null,null,null,null,null,null,null,null,null,null,null,null,null,"枚のうち"]
["※","所　　有　　者　　コ　　ー　　ド"]
[]
[null,null,null,null,null,null,null,null,null,null,null,null,null,null,null,null,null,null,null,null,null,null,null,null,null,null,null,null,null,null,null,null,null,null,null,null,null,null,null,null,null,null,null,null,null,null,null,null,"枚　目"]
[]
["行番号","資産の種類","※","　資 産 コ ー ド",null,null,null,null,"資　産　の　名　称　等",null,null,null,null,null,null,null,null,null,"数　量",null,"取得年月",null,null,null,null,null,"（イ）","耐用年数",null,"※　（ロ）",null,null,"※",null,null,"（ハ）","※",null,null,null,"※",null,null,null,null,"増加事由",null,null,"摘 要"]
[null,null,null,null,null,null,null,null,null,null,null,null,null,null,null,null,null,null,null,null,null,null,null,"取　得　価　額",null,null,null,null,null,null,"減価残存率",null,"価　　　額",null,null,null,"課税標準",null,null,null,"課 税 標 準 額"]
[null,null,null,null,null,null,null,null,null,null,null,null,null,null,null,null,null,null,null,null,"年号","年","月",null,null,null,null,null,null,null,null,null,null,null,null,null,"の  特  例"]
[null,null,null,null,null,null,null,null,null,null,null,null,null,null,null,null,null,null,null,null,null,null,null,null,null,null,null,null,null,null,null,null,null,null,null,null,"率",null,"コード"]
["01",{"$f":"IF(償却資産入力!C5=\"\",\"\",償却資産入力!C5)","v":6},{"$f":"IF(償却資産入力!D5=\"\",\"\",償却資産入力!D5)","v":""},null,null,null,null,null,{"$f":"IF(償却資産入力!E5=\"\",\"\",償却資産入力!E5)","v":"格納庫"},null,null,null,null,null,null,null,null,null,{"$f":"IF(償却資産入力!F5=\"\",\"\",償却資産入力!F5)","v":1},null,{"$f":"IF(償却資産入力!H5=\"\",\"\",償却資産入力!H5)","v":3},{"$f":"IF(償却資産入力!G5=\"\",\"\",償却資産入力!G5)","v":28491},{"$f":"IF(償却資産入力!G5=\"\",\"\",償却資産入力!G5)","v":"1978-01-01"},{"$f":"IF(償却資産入力!J5=\"\",\"\",償却資産入力!J5)","v":3100000},null,null,null,{"$f":"IF(償却資産入力!K5=\"\",\"\",償却資産入力!K5)","v":10},null,{"$f":"IF(V12=\"\",\"0.\",IF($A$2-365>V12,1-償却資産入力!M5,1-償却資産入力!L5))","v":0.89700000000000002},null,null,{"$f":"IF(X12=\"\",\"\",OFFSET(償却資産入力!N5,0,償却資産入力!$F$1-1,1))","v":155000},null,null,null,null,null,null,null,null,null,null,null,null,"1・2\n3・4"]
["02",{"$f":"IF(償却資産入力!C6=\"\",\"\",償却資産入力!C6)","v":2},{"$f":"IF(償却資産入力!D6=\"\",\"\",償却資産入力!D6)","v":""},null,null,null,null,null,{"$f":"IF(償却資産入力!E6=\"\",\"\",償却資産入力!E6)","v":"成形ロータリ"},null,null,null,null,null,null,null,null,null,{"$f":"IF(償却資産入力!F6=\"\",\"\",償却資産入力!F6)","v":1},null,{"$f":"IF(償却資産入力!H6=\"\",\"\",償却資産入力!H6)","v":5},{"$f":"IF(償却資産入力!G6=\"\",\"\",償却資産入力!G6)","v":43862},{"$f":"IF(償却資産入力!G6=\"\",\"\",償却資産入力!G6)","v":"2020-02-01"},{"$f":"IF(償却資産入力!J6=\"\",\"\",償却資産入力!J6)","v":610000},null,null,null,{"$f":"IF(償却資産入力!K6=\"\",\"\",償却資産入力!K6)","v":7},null,{"$f":"IF(V13=\"\",\"0.\",IF($A$2-365>V13,1-償却資産入力!M6,1-償却資産入力!L6))","v":0.86},null,null,{"$f":"IF(X13=\"\",\"\",OFFSET(償却資産入力!N6,0,償却資産入力!$F$1-1,1))","v":195805},null,null,null,null,null,null,null,null,null,null,null,null,"1・2\n3・4"]
["03",{"$f":"IF(償却資産入力!C7=\"\",\"\",償却資産入力!C7)","v":2},{"$f":"IF(償却資産入力!D7=\"\",\"\",償却資産入力!D7)","v":""},null,null,null,null,null,{"$f":"IF(償却資産入力!E7=\"\",\"\",償却資産入力!E7)","v":"管理機"},null,null,null,null,null,null,null,null,null,{"$f":"IF(償却資産入力!F7=\"\",\"\",償却資産入力!F7)","v":1},null,{"$f":"IF(償却資産入力!H7=\"\",\"\",償却資産入力!H7)","v":5},{"$f":"IF(償却資産入力!G7=\"\",\"\",償却資産入力!G7)","v":43862},{"$f":"IF(償却資産入力!G7=\"\",\"\",償却資産入力!G7)","v":"2020-02-01"},{"$f":"IF(償却資産入力!J7=\"\",\"\",償却資産入力!J7)","v":280000},null,null,null,{"$f":"IF(償却資産入力!K7=\"\",\"\",償却資産入力!K7)","v":7},null,{"$f":"IF(V14=\"\",\"0.\",IF($A$2-365>V14,1-償却資産入力!M7,1-償却資産入力!L7))","v":0.86},null,null,{"$f":"IF(X14=\"\",\"\",OFFSET(償却資産入力!N7,0,償却資産入力!$F$1-1,1))","v":89877},null,null,null,null,null,null,null,null,null,null,null,null,"1・2\n3・4"]
["04",{"$f":"IF(償却資産入力!C8=\"\",\"\",償却資産入力!C8)","v":2},{"$f":"IF(償却資産入力!D8=\"\",\"\",償却資産入力!D8)","v":""},null,null,null,null,null,{"$f":"IF(償却資産入力!E8=\"\",\"\",償却資産入力!E8)","v":"動噴"},null,null,null,null,null,null,null,null,null,{"$f":"IF(償却資産入力!F8=\"\",\"\",償却資産入力!F8)","v":1},null,{"$f":"IF(償却資産入力!H8=\"\",\"\",償却資産入力!H8)","v":5},{"$f":"IF(償却資産入力!G8=\"\",\"\",償却資産入力!G8)","v":43862},{"$f":"IF(償却資産入力!G8=\"\",\"\",償却資産入力!G8)","v":"2020-02-01"},{"$f":"IF(償却資産入力!J8=\"\",\"\",償却資産入力!J8)","v":765000},null,null,null,{"$f":"IF(償却資産入力!K8=\"\",\"\",償却資産入力!K8)","v":7},null,{"$f":"IF(V15=\"\",\"0.\",IF($A$2-365>V15,1-償却資産入力!M8,1-償却資産入力!L8))","v":0.86},null,null,{"$f":"IF(X15=\"\",\"\",OFFSET(償却資産入力!N8,0,償却資産入力!$F$1-1,1))","v":245559},null,null,null,null,null,null,null,null,null,null,null,null,"1・2\n3・4"]
["05",{"$f":"IF(償却資産入力!C9=\"\",\"\",償却資産入力!C9)","v":2},{"$f":"IF(償却資産入力!D9=\"\",\"\",償却資産入力!D9)","v":""},null,null,null,null,null,{"$f":"IF(償却資産入力!E9=\"\",\"\",償却資産入力!E9)","v":"運搬車"},null,null,null,null,null,null,null,null,null,{"$f":"IF(償却資産入力!F9=\"\",\"\",償却資産入力!F9)","v":1},null,{"$f":"IF(償却資産入力!H9=\"\",\"\",償却資産入力!H9)","v":5},{"$f":"IF(償却資産入力!G9=\"\",\"\",償却資産入力!G9)","v":44593},{"$f":"IF(償却資産入力!G9=\"\",\"\",償却資産入力!G9)","v":"2022-02-01"},{"$f":"IF(償却資産入力!J9=\"\",\"\",償却資産入力!J9)","v":630000},null,null,null,{"$f":"IF(償却資産入力!K9=\"\",\"\",償却資産入力!K9)","v":7},null,{"$f":"IF(V16=\"\",\"0.\",IF($A$2-365>V16,1-償却資産入力!M9,1-償却資産入力!L9))","v":0.86},null,null,{"$f":"IF(X16=\"\",\"\",OFFSET(償却資産入力!N9,0,償却資産入力!$F$1-1,1))","v":390096},null,null,null,null,null,null,null,null,null,null,null,null,"1・2\n3・4"]
["06",{"$f":"IF(償却資産入力!C10=\"\",\"\",償却資産入力!C10)","v":""},{"$f":"IF(償却資産入力!D10=\"\",\"\",償却資産入力!D10)","v":""},null,null,null,null,null,{"$f":"IF(償却資産入力!E10=\"\",\"\",償却資産入力!E10)","v":""},null,null,null,null,null,null,null,null,null,{"$f":"IF(償却資産入力!F10=\"\",\"\",償却資産入力!F10)","v":""},null,{"$f":"IF(償却資産入力!H10=\"\",\"\",償却資産入力!H10)","v":""},{"$f":"IF(償却資産入力!G10=\"\",\"\",償却資産入力!G10)","v":""},{"$f":"IF(償却資産入力!G10=\"\",\"\",償却資産入力!G10)","v":""},{"$f":"IF(償却資産入力!J10=\"\",\"\",償却資産入力!J10)","v":""},null,null,null,{"$f":"IF(償却資産入力!K10=\"\",\"\",償却資産入力!K10)","v":""},null,{"$f":"IF(V17=\"\",\"0.\",IF($A$2-365>V17,1-償却資産入力!M10,1-償却資産入力!L10))","v":"0."},null,null,{"$f":"IF(X17=\"\",\"\",OFFSET(償却資産入力!N10,0,償却資産入力!$F$1-1,1))","v":""},null,null,null,null,null,null,null,null,null,null,null,null,"1・2\n3・4"]
["07",{"$f":"IF(償却資産入力!C11=\"\",\"\",償却資産入力!C11)","v":""},{"$f":"IF(償却資産入力!D11=\"\",\"\",償却資産入力!D11)","v":""},null,null,null,null,null,{"$f":"IF(償却資産入力!E11=\"\",\"\",償却資産入力!E11)","v":""},null,null,null,null,null,null,null,null,null,{"$f":"IF(償却資産入力!F11=\"\",\"\",償却資産入力!F11)","v":""},null,{"$f":"IF(償却資産入力!H11=\"\",\"\",償却資産入力!H11)","v":""},{"$f":"IF(償却資産入力!G11=\"\",\"\",償却資産入力!G11)","v":""},{"$f":"IF(償却資産入力!G11=\"\",\"\",償却資産入力!G11)","v":""},{"$f":"IF(償却資産入力!J11=\"\",\"\",償却資産入力!J11)","v":""},null,null,null,{"$f":"IF(償却資産入力!K11=\"\",\"\",償却資産入力!K11)","v":""},null,{"$f":"IF(V18=\"\",\"0.\",IF($A$2-365>V18,1-償却資産入力!M11,1-償却資産入力!L11))","v":"0."},null,null,{"$f":"IF(X18=\"\",\"\",OFFSET(償却資産入力!N11,0,償却資産入力!$F$1-1,1))","v":""},null,null,null,null,null,null,null,null,null,null,null,null,"1・2\n3・4"]
["08",{"$f":"IF(償却資産入力!C12=\"\",\"\",償却資産入力!C12)","v":""},{"$f":"IF(償却資産入力!D12=\"\",\"\",償却資産入力!D12)","v":""},null,null,null,null,null,{"$f":"IF(償却資産入力!E12=\"\",\"\",償却資産入力!E12)","v":""},null,null,null,null,null,null,null,null,null,{"$f":"IF(償却資産入力!F12=\"\",\"\",償却資産入力!F12)","v":""},null,{"$f":"IF(償却資産入力!H12=\"\",\"\",償却資産入力!H12)","v":""},{"$f":"IF(償却資産入力!G12=\"\",\"\",償却資産入力!G12)","v":""},{"$f":"IF(償却資産入力!G12=\"\",\"\",償却資産入力!G12)","v":""},{"$f":"IF(償却資産入力!J12=\"\",\"\",償却資産入力!J12)","v":""},null,null,null,{"$f":"IF(償却資産入力!K12=\"\",\"\",償却資産入力!K12)","v":""},null,{"$f":"IF(V19=\"\",\"0.\",IF($A$2-365>V19,1-償却資産入力!M12,1-償却資産入力!L12))","v":"0."},null,null,{"$f":"IF(X19=\"\",\"\",OFFSET(償却資産入力!N12,0,償却資産入力!$F$1-1,1))","v":""},null,null,null,null,null,null,null,null,null,null,null,null,"1・2\n3・4"]
["09",{"$f":"IF(償却資産入力!C13=\"\",\"\",償却資産入力!C13)","v":""},{"$f":"IF(償却資産入力!D13=\"\",\"\",償却資産入力!D13)","v":""},null,null,null,null,null,{"$f":"IF(償却資産入力!E13=\"\",\"\",償却資産入力!E13)","v":""},null,null,null,null,null,null,null,null,null,{"$f":"IF(償却資産入力!F13=\"\",\"\",償却資産入力!F13)","v":""},null,{"$f":"IF(償却資産入力!H13=\"\",\"\",償却資産入力!H13)","v":""},{"$f":"IF(償却資産入力!G13=\"\",\"\",償却資産入力!G13)","v":""},{"$f":"IF(償却資産入力!G13=\"\",\"\",償却資産入力!G13)","v":""},{"$f":"IF(償却資産入力!J13=\"\",\"\",償却資産入力!J13)","v":""},null,null,null,{"$f":"IF(償却資産入力!K13=\"\",\"\",償却資産入力!K13)","v":""},null,{"$f":"IF(V20=\"\",\"0.\",IF($A$2-365>V20,1-償却資産入力!M13,1-償却資産入力!L13))","v":"0."},null,null,{"$f":"IF(X20=\"\",\"\",OFFSET(償却資産入力!N13,0,償却資産入力!$F$1-1,1))","v":""},null,null,null,null,null,null,null,null,null,null,null,null,"1・2\n3・4"]
["10",{"$f":"IF(償却資産入力!C14=\"\",\"\",償却資産入力!C14)","v":""},{"$f":"IF(償却資産入力!D14=\"\",\"\",償却資産入力!D14)","v":""},null,null,null,null,null,{"$f":"IF(償却資産入力!E14=\"\",\"\",償却資産入力!E14)","v":""},null,null,null,null,null,null,null,null,null,{"$f":"IF(償却資産入力!F14=\"\",\"\",償却資産入力!F14)","v":""},null,{"$f":"IF(償却資産入力!H14=\"\",\"\",償却資産入力!H14)","v":""},{"$f":"IF(償却資産入力!G14=\"\",\"\",償却資産入力!G14)","v":""},{"$f":"IF(償却資産入力!G14=\"\",\"\",償却資産入力!G14)","v":""},{"$f":"IF(償却資産入力!J14=\"\",\"\",償却資産入力!J14)","v":""},null,null,null,{"$f":"IF(償却資産入力!K14=\"\",\"\",償却資産入力!K14)","v":""},null,{"$f":"IF(V21=\"\",\"0.\",IF($A$2-365>V21,1-償却資産入力!M14,1-償却資産入力!L14))","v":"0."},null,null,{"$f":"IF(X21=\"\",\"\",OFFSET(償却資産入力!N14,0,償却資産入力!$F$1-1,1))","v":""},null,null,null,null,null,null,null,null,null,null,null,null,"1・2\n3・4"]
["11",{"$f":"IF(償却資産入力!C15=\"\",\"\",償却資産入力!C15)","v":""},{"$f":"IF(償却資産入力!D15=\"\",\"\",償却資産入力!D15)","v":""},null,null,null,null,null,{"$f":"IF(償却資産入力!E15=\"\",\"\",償却資産入力!E15)","v":""},null,null,null,null,null,null,null,null,null,{"$f":"IF(償却資産入力!F15=\"\",\"\",償却資産入力!F15)","v":""},null,{"$f":"IF(償却資産入力!H15=\"\",\"\",償却資産入力!H15)","v":""},{"$f":"IF(償却資産入力!G15=\"\",\"\",償却資産入力!G15)","v":""},{"$f":"IF(償却資産入力!G15=\"\",\"\",償却資産入力!G15)","v":""},{"$f":"IF(償却資産入力!J15=\"\",\"\",償却資産入力!J15)","v":""},null,null,null,{"$f":"IF(償却資産入力!K15=\"\",\"\",償却資産入力!K15)","v":""},null,{"$f":"IF(V22=\"\",\"0.\",IF($A$2-365>V22,1-償却資産入力!M15,1-償却資産入力!L15))","v":"0."},null,null,{"$f":"IF(X22=\"\",\"\",OFFSET(償却資産入力!N15,0,償却資産入力!$F$1-1,1))","v":""},null,null,null,null,null,null,null,null,null,null,null,null,"1・2\n3・4"]
["12",{"$f":"IF(償却資産入力!C16=\"\",\"\",償却資産入力!C16)","v":""},{"$f":"IF(償却資産入力!D16=\"\",\"\",償却資産入力!D16)","v":""},null,null,null,null,null,{"$f":"IF(償却資産入力!E16=\"\",\"\",償却資産入力!E16)","v":""},null,null,null,null,null,null,null,null,null,{"$f":"IF(償却資産入力!F16=\"\",\"\",償却資産入力!F16)","v":""},null,{"$f":"IF(償却資産入力!H16=\"\",\"\",償却資産入力!H16)","v":""},{"$f":"IF(償却資産入力!G16=\"\",\"\",償却資産入力!G16)","v":""},{"$f":"IF(償却資産入力!G16=\"\",\"\",償却資産入力!G16)","v":""},{"$f":"IF(償却資産入力!J16=\"\",\"\",償却資産入力!J16)","v":""},null,null,null,{"$f":"IF(償却資産入力!K16=\"\",\"\",償却資産入力!K16)","v":""},null,{"$f":"IF(V23=\"\",\"0.\",IF($A$2-365>V23,1-償却資産入力!M16,1-償却資産入力!L16))","v":"0."},null,null,{"$f":"IF(X23=\"\",\"\",OFFSET(償却資産入力!N16,0,償却資産入力!$F$1-1,1))","v":""},null,null,null,null,null,null,null,null,null,null,null,null,"1・2\n3・4"]
["13",{"$f":"IF(償却資産入力!C17=\"\",\"\",償却資産入力!C17)","v":""},{"$f":"IF(償却資産入力!D17=\"\",\"\",償却資産入力!D17)","v":""},null,null,null,null,null,{"$f":"IF(償却資産入力!E17=\"\",\"\",償却資産入力!E17)","v":""},null,null,null,null,null,null,null,null,null,{"$f":"IF(償却資産入力!F17=\"\",\"\",償却資産入力!F17)","v":""},null,{"$f":"IF(償却資産入力!H17=\"\",\"\",償却資産入力!H17)","v":""},{"$f":"IF(償却資産入力!G17=\"\",\"\",償却資産入力!G17)","v":""},{"$f":"IF(償却資産入力!G17=\"\",\"\",償却資産入力!G17)","v":""},{"$f":"IF(償却資産入力!J17=\"\",\"\",償却資産入力!J17)","v":""},null,null,null,{"$f":"IF(償却資産入力!K17=\"\",\"\",償却資産入力!K17)","v":""},null,{"$f":"IF(V24=\"\",\"0.\",IF($A$2-365>V24,1-償却資産入力!M17,1-償却資産入力!L17))","v":"0."},null,null,{"$f":"IF(X24=\"\",\"\",OFFSET(償却資産入力!N17,0,償却資産入力!$F$1-1,1))","v":""},null,null,null,null,null,null,null,null,null,null,null,null,"1・2\n3・4"]
["14",{"$f":"IF(償却資産入力!C18=\"\",\"\",償却資産入力!C18)","v":""},{"$f":"IF(償却資産入力!D18=\"\",\"\",償却資産入力!D18)","v":""},null,null,null,null,null,{"$f":"IF(償却資産入力!E18=\"\",\"\",償却資産入力!E18)","v":""},null,null,null,null,null,null,null,null,null,{"$f":"IF(償却資産入力!F18=\"\",\"\",償却資産入力!F18)","v":""},null,{"$f":"IF(償却資産入力!H18=\"\",\"\",償却資産入力!H18)","v":""},{"$f":"IF(償却資産入力!G18=\"\",\"\",償却資産入力!G18)","v":""},{"$f":"IF(償却資産入力!G18=\"\",\"\",償却資産入力!G18)","v":""},{"$f":"IF(償却資産入力!J18=\"\",\"\",償却資産入力!J18)","v":""},null,null,null,{"$f":"IF(償却資産入力!K18=\"\",\"\",償却資産入力!K18)","v":""},null,{"$f":"IF(V25=\"\",\"0.\",IF($A$2-365>V25,1-償却資産入力!M18,1-償却資産入力!L18))","v":"0."},null,null,{"$f":"IF(X25=\"\",\"\",OFFSET(償却資産入力!N18,0,償却資産入力!$F$1-1,1))","v":""},null,null,null,null,null,null,null,null,null,null,null,null,"1・2\n3・4"]
["15",{"$f":"IF(償却資産入力!C19=\"\",\"\",償却資産入力!C19)","v":""},{"$f":"IF(償却資産入力!D19=\"\",\"\",償却資産入力!D19)","v":""},null,null,null,null,null,{"$f":"IF(償却資産入力!E19=\"\",\"\",償却資産入力!E19)","v":""},null,null,null,null,null,null,null,null,null,{"$f":"IF(償却資産入力!F19=\"\",\"\",償却資産入力!F19)","v":""},null,{"$f":"IF(償却資産入力!H19=\"\",\"\",償却資産入力!H19)","v":""},{"$f":"IF(償却資産入力!G19=\"\",\"\",償却資産入力!G19)","v":""},{"$f":"IF(償却資産入力!G19=\"\",\"\",償却資産入力!G19)","v":""},{"$f":"IF(償却資産入力!J19=\"\",\"\",償却資産入力!J19)","v":""},null,null,null,{"$f":"IF(償却資産入力!K19=\"\",\"\",償却資産入力!K19)","v":""},null,{"$f":"IF(V26=\"\",\"0.\",IF($A$2-365>V26,1-償却資産入力!M19,1-償却資産入力!L19))","v":"0."},null,null,{"$f":"IF(X26=\"\",\"\",OFFSET(償却資産入力!N19,0,償却資産入力!$F$1-1,1))","v":""},null,null,null,null,null,null,null,null,null,null,null,null,"1・2\n3・4"]
[null,null,null,null,null,null,null,null,null,null,null,null,null,null,null,"小　　計",null,null,{"$f":"IF(S12=\"\",\"\",SUM(S12:T26))","v":5},null,null,null,null,{"$f":"IF(X12=\"\",\"\",SUM(X12:AA26))","v":5385000},null,null,null,null,null,null,null,null,{"$f":"IF(AG12=\"\",\"\",SUM(AG12:AJ26))","v":1076337}]
["（資産の種類欄には、下記の区分番号を記入してください。）"]
[]
["番号","種類区分",null,null,null,null,"番号","種類区分"]
[1,"構築物",null,null,null,null,4,"航空機",null,null,null,null,null,"注意",null,"１．太わくの中だけ書いてください。（用紙が不足する場合はコピーしてください。）"]
[2,"機械及び装置",null,null,null,null,5,"車両及び運搬具",null,null,null,null,null,null,null,"２．「増加事由」の欄は、１　新品取得、２　中古品取得、３　移動による受入　４　その他のいずれかに○印を付けてください。"]
[3,"船舶",null,null,null,null,6,"工具、器具及び備品",null,null,null,null,null,null,null,"３．※印欄は記入しないでください。ただし、「資産コード」の欄は、独自に機械番号・管理番号をお持ちであれば、そのコードを記入してください。"]

{"sheet":"増加資産・全資産用（控用）","index":5,"n_rows":33,"n_cols":50,"rows_kept":33,"cut":false,"hidden":false,"merged":[[31,1,31,5],[31,7,31,11],[32,1,32,5],[32,7,32,11],[26,32,28,35],[26,36,28,39],[26,40,28,44],[27,0,28,13],[29,1,29,5],[29,7,29,11],[30,1,30,5],[30,7,30,11],[25,2,25,7],[25,8,25,17],[25,18,25,19],[25,23,25,26],[25,27,25,28],[25,29,25,31],[25,32,25,35],[25,38,25,39],[24,38,24,39],[25,40,25,44],[25,45,25,47],[26,15,28,17],[26,18,28,19],[26,20,28,22],[26,23,28,26],[26,27,28,31],[25,36,25,37],[24,45,24,47],[23,32,23,35],[23,36,23,37],[23,38,23,39],[23,40,23,44],[23,45,23,47],[24,2,24,7],[24,8,24,17],[24,18,24,19],[24,23,24,26],[24,27,24,28],[24,29,24,31],[24,32,24,35],[24,36,24,37],[23,2,23,7],[23,8,23,17],[23,18,23,19],[23,23,23,26],[23,27,23,28],[23,29,23,31],[24,40,24,44],[21,36,21,37],[21,38,21,39],[21,40,21,44],[21,45,21,47],[22,2,22,7],[22,8,22,17],[22,18,22,19],[22,27,22,28],[22,29,22,31],[22,32,22,35],[21,8,21,17],[21,18,21,19],[21,23,21,26],[21,27,21,28],[21,29,21,31],[21,32,21,35],[22,36,22,37],[22,38,22,39],[22,40,22,44],[22,45,22,47],[21,2,21,7],[22,23,22,26],[20,29,20,31],[20,32,20,35],[20,36,20,37],[20,38,20,39],[20,40,20,44],[20,45,20,47],[19,32,19,35],[19,36,19,37],[19,38,19,39],[19,40,19,44],[19,45,19,47],[19,29,19,31],[20,2,20,7],[20,8,20,17],[20,18,20,19],[20,23,20,26],[20,27,20,28],[19,2,19,7],[19,8,19,17],[19,18,19,19],[19,23,19,26],[19,27,19,28],[18,29,18,31],[18,32,18,35],[18,36,18,37],[18,38,18,39],[18,40,18,44],[18,45,18,47],[17,32,17,35],[17,36,17,37],[17,38,17,39],[17,40,17,44],[17,45,17,47],[17,29,17,31],[18,2,18,7],[18,8,18,17],[18,18,18,19],[18,23,18,26],[18,27,18,28],[17,2,17,7],[17,8,17,17],[17,18,17,19],[17,23,17,26],[17,27,17,28],[16,29,16,31],[16,32,16,35],[16,36,16,37],[16,38,16,39],[16,40,16,44],[16,45,16,47],[15,32,15,35],[15,36,15,37],[15,38,15,39],[15,40,15,44],[15,45,15,47],[15,29,15,31],[16,2,16,7],[16,8,16,17],[16,18,16,19],[16,23,16,26],[16,27,16,28],[15,2,15,7],[15,8,15,17],[15,18,15,19],[15,23,15,26],[15,27,15,28],[14,29,14,31],[14,32,14,35],[14,36,14,37],[14,38,14,39],[14,40,14,44],[14,45,14,47],[13,32,13,35],[13,36,13,37],[13,38,13,39],[13,40,13,44],[13,45,13,47],[13,29,13,31],[14,2,14,7],[14,8,14,17],[14,18,14,19],[14,23,14,26],[14,27,14,28],[13,2,13,7],[13,8,13,17],[13,18,13,19],[13,23,13,26],[13,27,13,28],[12,29,12,31],[12,32,12,35],[12,36,12,37],[12,38,12,39],[12,40,12,44],[12,45,12,47],[11,32,11,35],[11,36,11,37],[11,38,11,39],[11,40,11,44],[11,45,11,47],[11,29,11,31],[12,2,12,7],[12,8,12,17],[12,18,12,19],[12,23,12,26],[12,27,12,28],[11,2,11,7],[11,8,11,17],[11,18,11,19],[11,23,11,26],[11,27,11,28],[10,36,10,37],[10,38,10,39],[7,29,7,31],[7,45,10,47],[7,48,10,48],[8,23,9,26],[8,30,10,30],[8,32,9,35],[8,36,8,39],[8,40,9,44],[10,43,10,44],[0,30,1,33],[0,49,12,49],[1,0,1,13],[2,14,4,31],[2,32,3,44],[2,45,4,47],[2,48,4,48],[3,0,4,0],[3,1,5,13],[4,32,6,44],[5,45,6,47],[5,48,6,48],[6,2,6,13],[7,0,10,0],[7,1,10,1],[7,3,10,7],[7,8,10,17],[7,18,10,19],[7,20,8,22],[7,27,10,28],[9,20,10,20],[9,21,10,21],[9,22,10,22],[9,36,9,39]]}
[null,null,null,null,null,null,null,null,null,null,null,null,null,null,null,null,null,null,null,null,null,null,null,null,null,null,null,null,null,null,"控　  用",null,null,null,null,null,null,null,null,null,null,null,null,null,null,null,null,null,null," 第二十六号様式別表一"]
[{"$f":"償却資産入力!E1","v":45292}]
[null,null,null,null,null,null,null,null,null,null,null,null,null,null,"種類別明細書（増加資産・全資産用）",null,null,null,null,null,null,null,null,null,null,null,null,null,null,null,null,null,"所　　　有　　　者　　　氏　　　名",null,null,null,null,null,null,null,null,null,null,null,null,null,null,null,"枚のうち"]
["※","所　　有　　者　　コ　　ー　　ド"]
[]
[null,null,null,null,null,null,null,null,null,null,null,null,null,null,null,null,null,null,null,null,null,null,null,null,null,null,null,null,null,null,null,null,null,null,null,null,null,null,null,null,null,null,null,null,null,null,null,null,"枚　目"]
[]
["行番号","資産の種類","※","　資 産 コ ー ド",null,null,null,null,"資　産　の　名　称　等",null,null,null,null,null,null,null,null,null,"数　量",null,"取得年月",null,null,null,null,null,"（イ）","耐用年数",null,"※　（ロ）",null,null,"※",null,null,"（ハ）","※",null,null,null,"※",null,null,null,null,"増加事由",null,null,"摘 要"]
[null,null,null,null,null,null,null,null,null,null,null,null,null,null,null,null,null,null,null,null,null,null,null,"取　得　価　額",null,null,null,null,null,null,"減価残存率",null,"価　　　額",null,null,null,"課税標準",null,null,null,"課 税 標 準 額"]
[null,null,null,null,null,null,null,null,null,null,null,null,null,null,null,null,null,null,null,null,"年号","年","月",null,null,null,null,null,null,null,null,null,null,null,null,null,"の  特  例"]
[null,null,null,null,null,null,null,null,null,null,null,null,null,null,null,null,null,null,null,null,null,null,null,null,null,null,null,null,null,null,null,null,null,null,null,null,"率",null,"コード"]
["01",{"$f":"IF(償却資産入力!C5=\"\",\"\",償却資産入力!C5)","v":6},{"$f":"IF(償却資産入力!D5=\"\",\"\",償却資産入力!D5)","v":""},null,null,null,null,null,{"$f":"IF(償却資産入力!E5=\"\",\"\",償却資産入力!E5)","v":"格納庫"},null,null,null,null,null,null,null,null,null,{"$f":"IF(償却資産入力!F5=\"\",\"\",償却資産入力!F5)","v":1},null,{"$f":"IF(償却資産入力!H5=\"\",\"\",償却資産入力!H5)","v":3},{"$f":"IF(償却資産入力!G5=\"\",\"\",償却資産入力!G5)","v":28491},{"$f":"IF(償却資産入力!G5=\"\",\"\",償却資産入力!G5)","v":"1978-01-01"},{"$f":"IF(償却資産入力!J5=\"\",\"\",償却資産入力!J5)","v":3100000},null,null,null,{"$f":"IF(償却資産入力!K5=\"\",\"\",償却資産入力!K5)","v":10},null,{"$f":"IF(V12=\"\",\"0.\",IF($A$2-365>V12,1-償却資産入力!M5,1-償却資産入力!L5))","v":0.89700000000000002},null,null,{"$f":"IF(X12=\"\",\"\",OFFSET(償却資産入力!N5,0,償却資産入力!$F$1-1,1))","v":155000},null,null,null,null,null,null,null,null,null,null,null,null,"1・2\n3・4"]
["02",{"$f":"IF(償却資産入力!C6=\"\",\"\",償却資産入力!C6)","v":2},{"$f":"IF(償却資産入力!D6=\"\",\"\",償却資産入力!D6)","v":""},null,null,null,null,null,{"$f":"IF(償却資産入力!E6=\"\",\"\",償却資産入力!E6)","v":"成形ロータリ"},null,null,null,null,null,null,null,null,null,{"$f":"IF(償却資産入力!F6=\"\",\"\",償却資産入力!F6)","v":1},null,{"$f":"IF(償却資産入力!H6=\"\",\"\",償却資産入力!H6)","v":5},{"$f":"IF(償却資産入力!G6=\"\",\"\",償却資産入力!G6)","v":43862},{"$f":"IF(償却資産入力!G6=\"\",\"\",償却資産入力!G6)","v":"2020-02-01"},{"$f":"IF(償却資産入力!J6=\"\",\"\",償却資産入力!J6)","v":610000},null,null,null,{"$f":"IF(償却資産入力!K6=\"\",\"\",償却資産入力!K6)","v":7},null,{"$f":"IF(V13=\"\",\"0.\",IF($A$2-365>V13,1-償却資産入力!M6,1-償却資産入力!L6))","v":0.86},null,null,{"$f":"IF(X13=\"\",\"\",OFFSET(償却資産入力!N6,0,償却資産入力!$F$1-1,1))","v":195805},null,null,null,null,null,null,null,null,null,null,null,null,"1・2\n3・4"]
["03",{"$f":"IF(償却資産入力!C7=\"\",\"\",償却資産入力!C7)","v":2},{"$f":"IF(償却資産入力!D7=\"\",\"\",償却資産入力!D7)","v":""},null,null,null,null,null,{"$f":"IF(償却資産入力!E7=\"\",\"\",償却資産入力!E7)","v":"管理機"},null,null,null,null,null,null,null,null,null,{"$f":"IF(償却資産入力!F7=\"\",\"\",償却資産入力!F7)","v":1},null,{"$f":"IF(償却資産入力!H7=\"\",\"\",償却資産入力!H7)","v":5},{"$f":"IF(償却資産入力!G7=\"\",\"\",償却資産入力!G7)","v":43862},{"$f":"IF(償却資産入力!G7=\"\",\"\",償却資産入力!G7)","v":"2020-02-01"},{"$f":"IF(償却資産入力!J7=\"\",\"\",償却資産入力!J7)","v":280000},null,null,null,{"$f":"IF(償却資産入力!K7=\"\",\"\",償却資産入力!K7)","v":7},null,{"$f":"IF(V14=\"\",\"0.\",IF($A$2-365>V14,1-償却資産入力!M7,1-償却資産入力!L7))","v":0.86},null,null,{"$f":"IF(X14=\"\",\"\",OFFSET(償却資産入力!N7,0,償却資産入力!$F$1-1,1))","v":89877},null,null,null,null,null,null,null,null,null,null,null,null,"1・2\n3・4"]
["04",{"$f":"IF(償却資産入力!C8=\"\",\"\",償却資産入力!C8)","v":2},{"$f":"IF(償却資産入力!D8=\"\",\"\",償却資産入力!D8)","v":""},null,null,null,null,null,{"$f":"IF(償却資産入力!E8=\"\",\"\",償却資産入力!E8)","v":"動噴"},null,null,null,null,null,null,null,null,null,{"$f":"IF(償却資産入力!F8=\"\",\"\",償却資産入力!F8)","v":1},null,{"$f":"IF(償却資産入力!H8=\"\",\"\",償却資産入力!H8)","v":5},{"$f":"IF(償却資産入力!G8=\"\",\"\",償却資産入力!G8)","v":43862},{"$f":"IF(償却資産入力!G8=\"\",\"\",償却資産入力!G8)","v":"2020-02-01"},{"$f":"IF(償却資産入力!J8=\"\",\"\",償却資産入力!J8)","v":765000},null,null,null,{"$f":"IF(償却資産入力!K8=\"\",\"\",償却資産入力!K8)","v":7},null,{"$f":"IF(V15=\"\",\"0.\",IF($A$2-365>V15,1-償却資産入力!M8,1-償却資産入力!L8))","v":0.86},null,null,{"$f":"IF(X15=\"\",\"\",OFFSET(償却資産入力!N8,0,償却資産入力!$F$1-1,1))","v":245559},null,null,null,null,null,null,null,null,null,null,null,null,"1・2\n3・4"]
["05",{"$f":"IF(償却資産入力!C9=\"\",\"\",償却資産入力!C9)","v":2},{"$f":"IF(償却資産入力!D9=\"\",\"\",償却資産入力!D9)","v":""},null,null,null,null,null,{"$f":"IF(償却資産入力!E9=\"\",\"\",償却資産入力!E9)","v":"運搬車"},null,null,null,null,null,null,null,null,null,{"$f":"IF(償却資産入力!F9=\"\",\"\",償却資産入力!F9)","v":1},null,{"$f":"IF(償却資産入力!H9=\"\",\"\",償却資産入力!H9)","v":5},{"$f":"IF(償却資産入力!G9=\"\",\"\",償却資産入力!G9)","v":44593},{"$f":"IF(償却資産入力!G9=\"\",\"\",償却資産入力!G9)","v":"2022-02-01"},{"$f":"IF(償却資産入力!J9=\"\",\"\",償却資産入力!J9)","v":630000},null,null,null,{"$f":"IF(償却資産入力!K9=\"\",\"\",償却資産入力!K9)","v":7},null,{"$f":"IF(V16=\"\",\"0.\",IF($A$2-365>V16,1-償却資産入力!M9,1-償却資産入力!L9))","v":0.86},null,null,{"$f":"IF(X16=\"\",\"\",OFFSET(償却資産入力!N9,0,償却資産入力!$F$1-1,1))","v":390096},null,null,null,null,null,null,null,null,null,null,null,null,"1・2\n3・4"]
["06",{"$f":"IF(償却資産入力!C10=\"\",\"\",償却資産入力!C10)","v":""},{"$f":"IF(償却資産入力!D10=\"\",\"\",償却資産入力!D10)","v":""},null,null,null,null,null,{"$f":"IF(償却資産入力!E10=\"\",\"\",償却資産入力!E10)","v":""},null,null,null,null,null,null,null,null,null,{"$f":"IF(償却資産入力!F10=\"\",\"\",償却資産入力!F10)","v":""},null,{"$f":"IF(償却資産入力!H10=\"\",\"\",償却資産入力!H10)","v":""},{"$f":"IF(償却資産入力!G10=\"\",\"\",償却資産入力!G10)","v":""},{"$f":"IF(償却資産入力!G10=\"\",\"\",償却資産入力!G10)","v":""},{"$f":"IF(償却資産入力!J10=\"\",\"\",償却資産入力!J10)","v":""},null,null,null,{"$f":"IF(償却資産入力!K10=\"\",\"\",償却資産入力!K10)","v":""},null,{"$f":"IF(V17=\"\",\"0.\",IF($A$2-365>V17,1-償却資産入力!M10,1-償却資産入力!L10))","v":"0."},null,null,{"$f":"IF(X17=\"\",\"\",OFFSET(償却資産入力!N10,0,償却資産入力!$F$1-1,1))","v":""},null,null,null,null,null,null,null,null,null,null,null,null,"1・2\n3・4"]
["07",{"$f":"IF(償却資産入力!C11=\"\",\"\",償却資産入力!C11)","v":""},{"$f":"IF(償却資産入力!D11=\"\",\"\",償却資産入力!D11)","v":""},null,null,null,null,null,{"$f":"IF(償却資産入力!E11=\"\",\"\",償却資産入力!E11)","v":""},null,null,null,null,null,null,null,null,null,{"$f":"IF(償却資産入力!F11=\"\",\"\",償却資産入力!F11)","v":""},null,{"$f":"IF(償却資産入力!H11=\"\",\"\",償却資産入力!H11)","v":""},{"$f":"IF(償却資産入力!G11=\"\",\"\",償却資産入力!G11)","v":""},{"$f":"IF(償却資産入力!G11=\"\",\"\",償却資産入力!G11)","v":""},{"$f":"IF(償却資産入力!J11=\"\",\"\",償却資産入力!J11)","v":""},null,null,null,{"$f":"IF(償却資産入力!K11=\"\",\"\",償却資産入力!K11)","v":""},null,{"$f":"IF(V18=\"\",\"0.\",IF($A$2-365>V18,1-償却資産入力!M11,1-償却資産入力!L11))","v":"0."},null,null,{"$f":"IF(X18=\"\",\"\",OFFSET(償却資産入力!N11,0,償却資産入力!$F$1-1,1))","v":""},null,null,null,null,null,null,null,null,null,null,null,null,"1・2\n3・4"]
["08",{"$f":"IF(償却資産入力!C12=\"\",\"\",償却資産入力!C12)","v":""},{"$f":"IF(償却資産入力!D12=\"\",\"\",償却資産入力!D12)","v":""},null,null,null,null,null,{"$f":"IF(償却資産入力!E12=\"\",\"\",償却資産入力!E12)","v":""},null,null,null,null,null,null,null,null,null,{"$f":"IF(償却資産入力!F12=\"\",\"\",償却資産入力!F12)","v":""},null,{"$f":"IF(償却資産入力!H12=\"\",\"\",償却資産入力!H12)","v":""},{"$f":"IF(償却資産入力!G12=\"\",\"\",償却資産入力!G12)","v":""},{"$f":"IF(償却資産入力!G12=\"\",\"\",償却資産入力!G12)","v":""},{"$f":"IF(償却資産入力!J12=\"\",\"\",償却資産入力!J12)","v":""},null,null,null,{"$f":"IF(償却資産入力!K12=\"\",\"\",償却資産入力!K12)","v":""},null,{"$f":"IF(V19=\"\",\"0.\",IF($A$2-365>V19,1-償却資産入力!M12,1-償却資産入力!L12))","v":"0."},null,null,{"$f":"IF(X19=\"\",\"\",OFFSET(償却資産入力!N12,0,償却資産入力!$F$1-1,1))","v":""},null,null,null,null,null,null,null,null,null,null,null,null,"1・2\n3・4"]
["09",{"$f":"IF(償却資産入力!C13=\"\",\"\",償却資産入力!C13)","v":""},{"$f":"IF(償却資産入力!D13=\"\",\"\",償却資産入力!D13)","v":""},null,null,null,null,null,{"$f":"IF(償却資産入力!E13=\"\",\"\",償却資産入力!E13)","v":""},null,null,null,null,null,null,null,null,null,{"$f":"IF(償却資産入力!F13=\"\",\"\",償却資産入力!F13)","v":""},null,{"$f":"IF(償却資産入力!H13=\"\",\"\",償却資産入力!H13)","v":""},{"$f":"IF(償却資産入力!G13=\"\",\"\",償却資産入力!G13)","v":""},{"$f":"IF(償却資産入力!G13=\"\",\"\",償却資産入力!G13)","v":""},{"$f":"IF(償却資産入力!J13=\"\",\"\",償却資産入力!J13)","v":""},null,null,null,{"$f":"IF(償却資産入力!K13=\"\",\"\",償却資産入力!K13)","v":""},null,{"$f":"IF(V20=\"\",\"0.\",IF($A$2-365>V20,1-償却資産入力!M13,1-償却資産入力!L13))","v":"0."},null,null,{"$f":"IF(X20=\"\",\"\",OFFSET(償却資産入力!N13,0,償却資産入力!$F$1-1,1))","v":""},null,null,null,null,null,null,null,null,null,null,null,null,"1・2\n3・4"]
["10",{"$f":"IF(償却資産入力!C14=\"\",\"\",償却資産入力!C14)","v":""},{"$f":"IF(償却資産入力!D14=\"\",\"\",償却資産入力!D14)","v":""},null,null,null,null,null,{"$f":"IF(償却資産入力!E14=\"\",\"\",償却資産入力!E14)","v":""},null,null,null,null,null,null,null,null,null,{"$f":"IF(償却資産入力!F14=\"\",\"\",償却資産入力!F14)","v":""},null,{"$f":"IF(償却資産入力!H14=\"\",\"\",償却資産入力!H14)","v":""},{"$f":"IF(償却資産入力!G14=\"\",\"\",償却資産入力!G14)","v":""},{"$f":"IF(償却資産入力!G14=\"\",\"\",償却資産入力!G14)","v":""},{"$f":"IF(償却資産入力!J14=\"\",\"\",償却資産入力!J14)","v":""},null,null,null,{"$f":"IF(償却資産入力!K14=\"\",\"\",償却資産入力!K14)","v":""},null,{"$f":"IF(V21=\"\",\"0.\",IF($A$2-365>V21,1-償却資産入力!M14,1-償却資産入力!L14))","v":"0."},null,null,{"$f":"IF(X21=\"\",\"\",OFFSET(償却資産入力!N14,0,償却資産入力!$F$1-1,1))","v":""},null,null,null,null,null,null,null,null,null,null,null,null,"1・2\n3・4"]
["11",{"$f":"IF(償却資産入力!C15=\"\",\"\",償却資産入力!C15)","v":""},{"$f":"IF(償却資産入力!D15=\"\",\"\",償却資産入力!D15)","v":""},null,null,null,null,null,{"$f":"IF(償却資産入力!E15=\"\",\"\",償却資産入力!E15)","v":""},null,null,null,null,null,null,null,null,null,{"$f":"IF(償却資産入力!F15=\"\",\"\",償却資産入力!F15)","v":""},null,{"$f":"IF(償却資産入力!H15=\"\",\"\",償却資産入力!H15)","v":""},{"$f":"IF(償却資産入力!G15=\"\",\"\",償却資産入力!G15)","v":""},{"$f":"IF(償却資産入力!G15=\"\",\"\",償却資産入力!G15)","v":""},{"$f":"IF(償却資産入力!J15=\"\",\"\",償却資産入力!J15)","v":""},null,null,null,{"$f":"IF(償却資産入力!K15=\"\",\"\",償却資産入力!K15)","v":""},null,{"$f":"IF(V22=\"\",\"0.\",IF($A$2-365>V22,1-償却資産入力!M15,1-償却資産入力!L15))","v":"0."},null,null,{"$f":"IF(X22=\"\",\"\",OFFSET(償却資産入力!N15,0,償却資産入力!$F$1-1,1))","v":""},null,null,null,null,null,null,null,null,null,null,null,null,"1・2\n3・4"]
["12",{"$f":"IF(償却資産入力!C16=\"\",\"\",償却資産入力!C16)","v":""},{"$f":"IF(償却資産入力!D16=\"\",\"\",償却資産入力!D16)","v":""},null,null,null,null,null,{"$f":"IF(償却資産入力!E16=\"\",\"\",償却資産入力!E16)","v":""},null,null,null,null,null,null,null,null,null,{"$f":"IF(償却資産入力!F16=\"\",\"\",償却資産入力!F16)","v":""},null,{"$f":"IF(償却資産入力!H16=\"\",\"\",償却資産入力!H16)","v":""},{"$f":"IF(償却資産入力!G16=\"\",\"\",償却資産入力!G16)","v":""},{"$f":"IF(償却資産入力!G16=\"\",\"\",償却資産入力!G16)","v":""},{"$f":"IF(償却資産入力!J16=\"\",\"\",償却資産入力!J16)","v":""},null,null,null,{"$f":"IF(償却資産入力!K16=\"\",\"\",償却資産入力!K16)","v":""},null,{"$f":"IF(V23=\"\",\"0.\",IF($A$2-365>V23,1-償却資産入力!M16,1-償却資産入力!L16))","v":"0."},null,null,{"$f":"IF(X23=\"\",\"\",OFFSET(償却資産入力!N16,0,償却資産入力!$F$1-1,1))","v":""},null,null,null,null,null,null,null,null,null,null,null,null,"1・2\n3・4"]
["13",{"$f":"IF(償却資産入力!C17=\"\",\"\",償却資産入力!C17)","v":""},{"$f":"IF(償却資産入力!D17=\"\",\"\",償却資産入力!D17)","v":""},null,null,null,null,null,{"$f":"IF(償却資産入力!E17=\"\",\"\",償却資産入力!E17)","v":""},null,null,null,null,null,null,null,null,null,{"$f":"IF(償却資産入力!F17=\"\",\"\",償却資産入力!F17)","v":""},null,{"$f":"IF(償却資産入力!H17=\"\",\"\",償却資産入力!H17)","v":""},{"$f":"IF(償却資産入力!G17=\"\",\"\",償却資産入力!G17)","v":""},{"$f":"IF(償却資産入力!G17=\"\",\"\",償却資産入力!G17)","v":""},{"$f":"IF(償却資産入力!J17=\"\",\"\",償却資産入力!J17)","v":""},null,null,null,{"$f":"IF(償却資産入力!K17=\"\",\"\",償却資産入力!K17)","v":""},null,{"$f":"IF(V24=\"\",\"0.\",IF($A$2-365>V24,1-償却資産入力!M17,1-償却資産入力!L17))","v":"0."},null,null,{"$f":"IF(X24=\"\",\"\",OFFSET(償却資産入力!N17,0,償却資産入力!$F$1-1,1))","v":""},null,null,null,null,null,null,null,null,null,null,null,null,"1・2\n3・4"]
["14",{"$f":"IF(償却資産入力!C18=\"\",\"\",償却資産入力!C18)","v":""},{"$f":"IF(償却資産入力!D18=\"\",\"\",償却資産入力!D18)","v":""},null,null,null,null,null,{"$f":"IF(償却資産入力!E18=\"\",\"\",償却資産入力!E18)","v":""},null,null,null,null,null,null,null,null,null,{"$f":"IF(償却資産入力!F18=\"\",\"\",償却資産入力!F18)","v":""},null,{"$f":"IF(償却資産入力!H18=\"\",\"\",償却資産入力!H18)","v":""},{"$f":"IF(償却資産入力!G18=\"\",\"\",償却資産入力!G18)","v":""},{"$f":"IF(償却資産入力!G18=\"\",\"\",償却資産入力!G18)","v":""},{"$f":"IF(償却資産入力!J18=\"\",\"\",償却資産入力!J18)","v":""},null,null,null,{"$f":"IF(償却資産入力!K18=\"\",\"\",償却資産入力!K18)","v":""},null,{"$f":"IF(V25=\"\",\"0.\",IF($A$2-365>V25,1-償却資産入力!M18,1-償却資産入力!L18))","v":"0."},null,null,{"$f":"IF(X25=\"\",\"\",OFFSET(償却資産入力!N18,0,償却資産入力!$F$1-1,1))","v":""},null,null,null,null,null,null,null,null,null,null,null,null,"1・2\n3・4"]
["15",{"$f":"IF(償却資産入力!C19=\"\",\"\",償却資産入力!C19)","v":""},{"$f":"IF(償却資産入力!D19=\"\",\"\",償却資産入力!D19)","v":""},null,null,null,null,null,{"$f":"IF(償却資産入力!E19=\"\",\"\",償却資産入力!E19)","v":""},null,null,null,null,null,null,null,null,null,{"$f":"IF(償却資産入力!F19=\"\",\"\",償却資産入力!F19)","v":""},null,{"$f":"IF(償却資産入力!H19=\"\",\"\",償却資産入力!H19)","v":""},{"$f":"IF(償却資産入力!G19=\"\",\"\",償却資産入力!G19)","v":""},{"$f":"IF(償却資産入力!G19=\"\",\"\",償却資産入力!G19)","v":""},{"$f":"IF(償却資産入力!J19=\"\",\"\",償却資産入力!J19)","v":""},null,null,null,{"$f":"IF(償却資産入力!K19=\"\",\"\",償却資産入力!K19)","v":""},null,{"$f":"IF(V26=\"\",\"0.\",IF($A$2-365>V26,1-償却資産入力!M19,1-償却資産入力!L19))","v":"0."},null,null,{"$f":"IF(X26=\"\",\"\",OFFSET(償却資産入力!N19,0,償却資産入力!$F$1-1,1))","v":""},null,null,null,null,null,null,null,null,null,null,null,null,"1・2\n3・4"]
[null,null,null,null,null,null,null,null,null,null,null,null,null,null,null,"小　　計",null,null,{"$f":"IF(S12=\"\",\"\",SUM(S12:T26))","v":5},null,null,null,null,{"$f":"IF(X12=\"\",\"\",SUM(X12:AA26))","v":5385000},null,null,null,null,null,null,null,null,{"$f":"IF(AG12=\"\",\"\",SUM(AG12:AJ26))","v":1076337}]
["（資産の種類欄には、下記の区分番号を記入してください。）"]
[]
["番号","種類区分",null,null,null,null,"番号","種類区分"]
[1,"構築物",null,null,null,null,4,"航空機",null,null,null,null,null,"注意",null,"１．太わくの中だけ書いてください。（用紙が不足する場合はコピーしてください。）"]
[2,"機械及び装置",null,null,null,null,5,"車両及び運搬具",null,null,null,null,null,null,null,"２．「増加事由」の欄は、１　新品取得、２　中古品取得、３　移動による受入　４　その他のいずれかに○印を付けてください。"]
[3,"船舶",null,null,null,null,6,"工具、器具及び備品",null,null,null,null,null,null,null,"３．※印欄は記入しないでください。ただし、「資産コード」の欄は、独自に機械番号・管理番号をお持ちであれば、そのコードを記入してください。"]

{"sheet":"減少資産用（提出用）","index":6,"n_rows":57,"n_cols":40,"rows_kept":57,"cut":false,"hidden":false,"merged":[[45,18,45,36],[41,0,43,0],[41,1,43,1],[41,21,43,23],[41,24,43,24],[41,25,43,27],[41,28,43,31],[39,28,40,31],[39,32,40,32],[39,33,40,33],[39,34,40,34],[39,35,40,35],[39,36,40,38],[37,35,38,35],[37,36,38,38],[39,0,40,0],[39,1,40,1],[39,2,40,13],[39,14,40,23],[39,24,40,24],[39,25,40,25],[39,26,40,26],[39,27,40,27],[37,26,38,26],[37,27,38,27],[37,28,38,31],[37,32,38,32],[37,33,38,33],[37,34,38,34],[37,0,38,0],[37,1,38,1],[37,2,38,13],[37,14,38,23],[37,24,38,24],[37,25,38,25],[35,28,36,31],[35,32,36,32],[35,33,36,33],[35,34,36,34],[35,35,36,35],[35,36,36,38],[33,35,34,35],[33,36,34,38],[35,0,36,0],[35,1,36,1],[35,2,36,13],[35,14,36,23],[35,24,36,24],[35,25,36,25],[35,26,36,26],[35,27,36,27],[33,26,34,26],[33,27,34,27],[33,28,34,31],[33,32,34,32],[33,33,34,33],[33,34,34,34],[33,0,34,0],[33,1,34,1],[33,2,34,13],[33,14,34,23],[33,24,34,24],[33,25,34,25],[31,28,32,31],[31,32,32,32],[31,33,32,33],[31,34,32,34],[31,35,32,35],[31,36,32,38],[29,35,30,35],[29,36,30,38],[31,0,32,0],[31,1,32,1],[31,2,32,13],[31,14,32,23],[31,24,32,24],[31,25,32,25],[31,26,32,26],[31,27,32,27],[27,36,28,38],[29,0,30,0],[29,1,30,1],[29,2,30,13],[29,14,30,23],[29,28,30,31],[29,32,30,32],[29,33,30,33],[29,34,30,34],[27,0,28,0],[27,1,28,1],[27,2,28,13],[27,14,28,23],[27,28,28,31],[27,32,28,32],[27,33,28,33],[27,34,28,34],[27,35,28,35],[23,36,24,38],[25,0,26,0],[25,1,26,1],[25,2,26,13],[25,14,26,23],[25,28,26,31],[25,32,26,32],[25,33,26,33],[25,34,26,34],[25,35,26,35],[25,36,26,38],[23,0,24,0],[23,1,24,1],[23,2,24,13],[23,14,24,23],[23,28,24,31],[23,32,24,32],[23,33,24,33],[23,34,24,34],[23,35,24,35],[19,36,20,38],[21,0,22,0],[21,1,22,1],[21,2,22,13],[21,14,22,23],[21,28,22,31],[21,32,22,32],[21,33,22,33],[21,34,22,34],[21,35,22,35],[21,36,22,38],[19,0,20,0],[19,1,20,1],[19,2,20,13],[19,14,20,23],[19,28,20,31],[19,32,20,32],[19,33,20,33],[19,34,20,34],[19,35,20,35],[15,35,16,35],[15,36,16,38],[17,0,18,0],[17,1,18,1],[17,2,18,13],[17,14,18,23],[17,28,18,31],[17,32,18,32],[17,33,18,33],[17,34,18,34],[15,26,16,26],[15,27,16,27],[15,28,16,31],[15,32,16,32],[15,33,16,33],[15,34,16,34],[15,0,16,0],[15,1,16,1],[15,2,16,13],[15,14,16,23],[15,24,16,24],[15,25,16,25],[17,35,18,35],[17,36,18,38],[13,0,14,0],[13,1,14,1],[13,2,14,13],[13,14,14,23],[13,24,14,24],[13,25,14,25],[13,26,14,26],[13,27,14,27],[11,26,12,26],[11,27,12,27],[11,0,12,0],[11,1,12,1],[7,32,10,32],[7,33,10,33],[7,34,8,35],[7,36,10,38],[9,25,10,25],[9,26,10,26],[9,27,10,27],[13,28,14,31],[13,32,14,32],[13,33,14,33],[13,34,14,34],[13,35,14,35],[13,36,14,38],[11,35,12,35],[11,36,12,38],[11,28,12,31],[11,32,12,32],[11,33,12,33],[11,34,12,34],[0,33,1,34],[0,39,30,39],[1,0,1,19],[2,20,4,33],[2,34,3,36],[2,37,4,37],[2,38,4,38],[3,0,4,0],[3,1,5,19],[4,34,6,36],[5,37,6,37],[5,38,6,38],[6,0,6,19],[7,0,10,0],[7,1,10,1],[7,2,10,13],[7,14,10,23],[7,24,10,24],[7,25,8,27],[7,28,10,31],[11,2,12,13],[11,14,12,23],[11,24,12,24],[11,25,12,25]]}
[null,null,null,null,null,null,null,null,null,null,null,null,null,null,null,null,null,null,null,null,null,null,null,null,null,null,null,null,null,null,null,null,null," 提 出 用",null,null,null,null,null," 第二十六号様式別表二"]
[{"$f":"償却資産入力!E1","v":45292}]
[null,null,null,null,null,null,null,null,null,null,null,null,null,null,null,null,null,null,null,null,"種 類 別 明 細 書 （減少資産用）",null,null,null,null,null,null,null,null,null,null,null,null,null,"所　　　有　　　者　　　氏　　　名",null,null,null,"枚のうち"]
["※","所  　有  　者　  コ　  ー　  ド"]
[]
[null,null,null,null,null,null,null,null,null,null,null,null,null,null,null,null,null,null,null,null,null,null,null,null,null,null,null,null,null,null,null,null,null,null,null,null,null,null,"枚　目"]
[]
["行番号","資産の種類","抹　消　 コ 　ー 　ド\n（品目番号）",null,null,null,null,null,null,null,null,null,null,null,"資　産　の　名　称　等",null,null,null,null,null,null,null,null,null,"数　量","取得年月",null,null,"取　得　価　額",null,null,null,"耐用年数","申告年度","減少の事由及び区分",null,"摘　　　      　要"]
[]
[null,null,null,null,null,null,null,null,null,null,null,null,null,null,null,null,null,null,null,null,null,null,null,null,null,"年号","年","月",null,null,null,null,null,null,"1 売却　2 滅　失","1 全部"]
[null,null,null,null,null,null,null,null,null,null,null,null,null,null,null,null,null,null,null,null,null,null,null,null,null,null,null,null,null,null,null,null,null,null,"3 移動　4 その他","2 一部"]
["01",null,null,null,null,null,null,null,null,null,null,null,null,null,null,null,null,null,null,null,null,null,null,null,null,null,null,null,null,null,null,null,null,null,"1 ・ 2 ・ 3 ・ 4","1 ・ 2"]
[]
["02",null,null,null,null,null,null,null,null,null,null,null,null,null,null,null,null,null,null,null,null,null,null,null,null,null,null,null,null,null,null,null,null,null,"1 ・ 2 ・ 3 ・ 4","1 ・ 2"]
[]
["03",null,null,null,null,null,null,null,null,null,null,null,null,null,null,null,null,null,null,null,null,null,null,null,null,null,null,null,null,null,null,null,null,null,"1 ・ 2 ・ 3 ・ 4","1 ・ 2"]
[]
["04",null,null,null,null,null,null,null,null,null,null,null,null,null,null,null,null,null,null,null,null,null,null,null,null,null,null,null,null,null,null,null,null,null,"1 ・ 2 ・ 3 ・ 4","1 ・ 2"]
[]
["05",null,null,null,null,null,null,null,null,null,null,null,null,null,null,null,null,null,null,null,null,null,null,null,null,null,null,null,null,null,null,null,null,null,"1 ・ 2 ・ 3 ・ 4","1 ・ 2"]
[]
["06",null,null,null,null,null,null,null,null,null,null,null,null,null,null,null,null,null,null,null,null,null,null,null,null,null,null,null,null,null,null,null,null,null,"1 ・ 2 ・ 3 ・ 4","1 ・ 2"]
[]
["07",null,null,null,null,null,null,null,null,null,null,null,null,null,null,null,null,null,null,null,null,null,null,null,null,null,null,null,null,null,null,null,null,null,"1 ・ 2 ・ 3 ・ 4","1 ・ 2"]
[]
["08",null,null,null,null,null,null,null,null,null,null,null,null,null,null,null,null,null,null,null,null,null,null,null,null,null,null,null,null,null,null,null,null,null,"1 ・ 2 ・ 3 ・ 4","1 ・ 2"]
[]
["09",null,null,null,null,null,null,null,null,null,null,null,null,null,null,null,null,null,null,null,null,null,null,null,null,null,null,null,null,null,null,null,null,null,"1 ・ 2 ・ 3 ・ 4","1 ・ 2"]
[]
["10",null,null,null,null,null,null,null,null,null,null,null,null,null,null,null,null,null,null,null,null,null,null,null,null,null,null,null,null,null,null,null,null,null,"1 ・ 2 ・ 3 ・ 4","1 ・ 2"]
[]
["11",null,null,null,null,null,null,null,null,null,null,null,null,null,null,null,null,null,null,null,null,null,null,null,null,null,null,null,null,null,null,null,null,null,"1 ・ 2 ・ 3 ・ 4","1 ・ 2"]
[]
["12",null,null,null,null,null,null,null,null,null,null,null,null,null,null,null,null,null,null,null,null,null,null,null,null,null,null,null,null,null,null,null,null,null,"1 ・ 2 ・ 3 ・ 4","1 ・ 2"]
[]
["13",null,null,null,null,null,null,null,null,null,null,null,null,null,null,null,null,null,null,null,null,null,null,null,null,null,null,null,null,null,null,null,null,null,"1 ・ 2 ・ 3 ・ 4","1 ・ 2"]
[]
["14",null,null,null,null,null,null,null,null,null,null,null,null,null,null,null,null,null,null,null,null,null,null,null,null,null,null,null,null,null,null,null,null,null,"1 ・ 2 ・ 3 ・ 4","1 ・ 2"]
[]
["15",null,null,null,null,null,null,null,null,null,null,null,null,null,null,null,null,null,null,null,null,null,null,null,null,null,null,null,null,null,null,null,null,null,"1 ・ 2 ・ 3 ・ 4","1 ・ 2"]
[]
[null,null,null,null,null,null,null,null,null,null,null,null,null,null,null,null,null,null,null,null,null,"小　　計",null,null,null,null,null,null,{"$f":"IF(AC12=\"\",\"\",SUM(AC12:AF41))","v":""}]
[]
[]
[]
[null,null,null,null,null,null,null,null,null,null,null,null,null,null,null,null,null,null,"　　　　　　　　　　　注意　１．太わくの中だけ書いてください。（用紙が不足する場合はコピーしてください。）\n　　　　　　　　　　　　　　　２．「年号」の欄は、３．昭和　４．平成　５.令和となっています。"]
[]
[]
[]
[]
[]
[]
[]
[]
[]
[]
["　※　新規に申告される方は、１～１８のすべての項目について記入してください。"]

{"sheet":"減少資産用（控用）","index":7,"n_rows":57,"n_cols":40,"rows_kept":57,"cut":false,"hidden":false,"merged":[[45,18,45,36],[41,0,43,0],[41,1,43,1],[41,21,43,23],[41,24,43,24],[41,25,43,27],[41,28,43,31],[39,28,40,31],[39,32,40,32],[39,33,40,33],[39,34,40,34],[39,35,40,35],[39,36,40,38],[37,35,38,35],[37,36,38,38],[39,0,40,0],[39,1,40,1],[39,2,40,13],[39,14,40,23],[39,24,40,24],[39,25,40,25],[39,26,40,26],[39,27,40,27],[37,26,38,26],[37,27,38,27],[37,28,38,31],[37,32,38,32],[37,33,38,33],[37,34,38,34],[37,0,38,0],[37,1,38,1],[37,2,38,13],[37,14,38,23],[37,24,38,24],[37,25,38,25],[35,28,36,31],[35,32,36,32],[35,33,36,33],[35,34,36,34],[35,35,36,35],[35,36,36,38],[33,35,34,35],[33,36,34,38],[35,0,36,0],[35,1,36,1],[35,2,36,13],[35,14,36,23],[35,24,36,24],[35,25,36,25],[35,26,36,26],[35,27,36,27],[33,26,34,26],[33,27,34,27],[33,28,34,31],[33,32,34,32],[33,33,34,33],[33,34,34,34],[33,0,34,0],[33,1,34,1],[33,2,34,13],[33,14,34,23],[33,24,34,24],[33,25,34,25],[31,28,32,31],[31,32,32,32],[31,33,32,33],[31,34,32,34],[31,35,32,35],[31,36,32,38],[29,35,30,35],[29,36,30,38],[31,0,32,0],[31,1,32,1],[31,2,32,13],[31,14,32,23],[31,24,32,24],[31,25,32,25],[31,26,32,26],[31,27,32,27],[27,36,28,38],[29,0,30,0],[29,1,30,1],[29,2,30,13],[29,14,30,23],[29,28,30,31],[29,32,30,32],[29,33,30,33],[29,34,30,34],[27,0,28,0],[27,1,28,1],[27,2,28,13],[27,14,28,23],[27,28,28,31],[27,32,28,32],[27,33,28,33],[27,34,28,34],[27,35,28,35],[23,36,24,38],[25,0,26,0],[25,1,26,1],[25,2,26,13],[25,14,26,23],[25,28,26,31],[25,32,26,32],[25,33,26,33],[25,34,26,34],[25,35,26,35],[25,36,26,38],[23,0,24,0],[23,1,24,1],[23,2,24,13],[23,14,24,23],[23,28,24,31],[23,32,24,32],[23,33,24,33],[23,34,24,34],[23,35,24,35],[19,36,20,38],[21,0,22,0],[21,1,22,1],[21,2,22,13],[21,14,22,23],[21,28,22,31],[21,32,22,32],[21,33,22,33],[21,34,22,34],[21,35,22,35],[21,36,22,38],[19,0,20,0],[19,1,20,1],[19,2,20,13],[19,14,20,23],[19,28,20,31],[19,32,20,32],[19,33,20,33],[19,34,20,34],[19,35,20,35],[15,35,16,35],[15,36,16,38],[17,0,18,0],[17,1,18,1],[17,2,18,13],[17,14,18,23],[17,28,18,31],[17,32,18,32],[17,33,18,33],[17,34,18,34],[15,26,16,26],[15,27,16,27],[15,28,16,31],[15,32,16,32],[15,33,16,33],[15,34,16,34],[15,0,16,0],[15,1,16,1],[15,2,16,13],[15,14,16,23],[15,24,16,24],[15,25,16,25],[17,35,18,35],[17,36,18,38],[13,0,14,0],[13,1,14,1],[13,2,14,13],[13,14,14,23],[13,24,14,24],[13,25,14,25],[13,26,14,26],[13,27,14,27],[11,26,12,26],[11,27,12,27],[11,0,12,0],[11,1,12,1],[7,32,10,32],[7,33,10,33],[7,34,8,35],[7,36,10,38],[9,25,10,25],[9,26,10,26],[9,27,10,27],[13,28,14,31],[13,32,14,32],[13,33,14,33],[13,34,14,34],[13,35,14,35],[13,36,14,38],[11,35,12,35],[11,36,12,38],[11,28,12,31],[11,32,12,32],[11,33,12,33],[11,34,12,34],[0,33,1,34],[0,39,30,39],[1,0,1,19],[2,20,4,33],[2,34,3,36],[2,37,4,37],[2,38,4,38],[3,0,4,0],[3,1,5,19],[4,34,6,36],[5,37,6,37],[5,38,6,38],[6,0,6,19],[7,0,10,0],[7,1,10,1],[7,2,10,13],[7,14,10,23],[7,24,10,24],[7,25,8,27],[7,28,10,31],[11,2,12,13],[11,14,12,23],[11,24,12,24],[11,25,12,25],[17,24,18,24],[19,24,20,24],[21,24,22,24],[23,24,24,24],[25,24,26,24],[27,24,28,24],[29,24,30,24],[17,25,18,25],[19,25,20,25],[21,25,22,25],[23,25,24,25],[25,25,26,25],[27,25,28,25],[29,25,30,25],[17,26,18,26],[19,26,20,26],[21,26,22,26],[23,26,24,26],[25,26,26,26],[27,26,28,26],[29,26,30,26],[17,27,18,27],[19,27,20,27],[21,27,22,27],[23,27,24,27],[25,27,26,27],[27,27,28,27],[29,27,30,27]]}
[null,null,null,null,null,null,null,null,null,null,null,null,null,null,null,null,null,null,null,null,null,null,null,null,null,null,null,null,null,null,null,null,null," 控    用",null,null,null,null,null," 第二十六号様式別表二"]
[{"$f":"償却資産入力!E1","v":45292}]
[null,null,null,null,null,null,null,null,null,null,null,null,null,null,null,null,null,null,null,null,"種 類 別 明 細 書 （減少資産用）",null,null,null,null,null,null,null,null,null,null,null,null,null,"所　　　有　　　者　　　氏　　　名",null,null,null,"枚のうち"]
["※","所  　有  　者　  コ　  ー　  ド"]
[]
[null,null,null,null,null,null,null,null,null,null,null,null,null,null,null,null,null,null,null,null,null,null,null,null,null,null,null,null,null,null,null,null,null,null,null,null,null,null,"枚　目"]
[]
["行番号","資産の種類","抹　消　 コ 　ー 　ド\n（品目番号）",null,null,null,null,null,null,null,null,null,null,null,"資　産　の　名　称　等",null,null,null,null,null,null,null,null,null,"数　量","取得年月",null,null,"取　得　価　額",null,null,null,"耐用年数","申告年度","減少の事由及び区分",null,"摘　　　      　要"]
[]
[null,null,null,null,null,null,null,null,null,null,null,null,null,null,null,null,null,null,null,null,null,null,null,null,null,"年号","年","月",null,null,null,null,null,null,"1 売却　2 滅　失","1 全部"]
[null,null,null,null,null,null,null,null,null,null,null,null,null,null,null,null,null,null,null,null,null,null,null,null,null,null,null,null,null,null,null,null,null,null,"3 移動　4 その他","2 一部"]
["01",{"$f":"IF('減少資産用（提出用）'!B12=\"\",\"\",('減少資産用（提出用）'!B12))","v":""},{"$f":"IF('減少資産用（提出用）'!C12=\"\",\"\",('減少資産用（提出用）'!C12))","v":""},null,null,null,null,null,null,null,null,null,null,null,{"$f":"IF('減少資産用（提出用）'!O12=\"\",\"\",('減少資産用（提出用）'!O12))","v":""},null,null,null,null,null,null,null,null,null,{"$f":"IF('減少資産用（提出用）'!Y12=\"\",\"\",('減少資産用（提出用）'!Y12))","v":""},{"$f":"IF('減少資産用（提出用）'!Z12=\"\",\"\",('減少資産用（提出用）'!Z12))","v":""},{"$f":"IF('減少資産用（提出用）'!AA12=\"\",\"\",('減少資産用（提出用）'!AA12))","v":""},{"$f":"IF('減少資産用（提出用）'!AB12=\"\",\"\",('減少資産用（提出用）'!AB12))","v":""},{"$f":"IF('減少資産用（提出用）'!AC12=\"\",\"\",('減少資産用（提出用）'!AC12))","v":""},null,null,null,{"$f":"IF('減少資産用（提出用）'!AG12=\"\",\"\",('減少資産用（提出用）'!AG12))","v":""},{"$f":"IF('減少資産用（提出用）'!AH12=\"\",\"\",('減少資産用（提出用）'!AH12))","v":""},"1 ・ 2 ・ 3 ・ 4","1 ・ 2"]
[]
["02",{"$f":"IF('減少資産用（提出用）'!B14=\"\",\"\",('減少資産用（提出用）'!B14))","v":""},{"$f":"IF('減少資産用（提出用）'!C14=\"\",\"\",('減少資産用（提出用）'!C14))","v":""},null,null,null,null,null,null,null,null,null,null,null,{"$f":"IF('減少資産用（提出用）'!O14=\"\",\"\",('減少資産用（提出用）'!O14))","v":""},null,null,null,null,null,null,null,null,null,{"$f":"IF('減少資産用（提出用）'!Y14=\"\",\"\",('減少資産用（提出用）'!Y14))","v":""},{"$f":"IF('減少資産用（提出用）'!Z14=\"\",\"\",('減少資産用（提出用）'!Z14))","v":""},{"$f":"IF('減少資産用（提出用）'!AA14=\"\",\"\",('減少資産用（提出用）'!AA14))","v":""},{"$f":"IF('減少資産用（提出用）'!AB14=\"\",\"\",('減少資産用（提出用）'!AB14))","v":""},{"$f":"IF('減少資産用（提出用）'!AC14=\"\",\"\",('減少資産用（提出用）'!AC14))","v":""},null,null,null,{"$f":"IF('減少資産用（提出用）'!AG14=\"\",\"\",('減少資産用（提出用）'!AG14))","v":""},{"$f":"IF('減少資産用（提出用）'!AH14=\"\",\"\",('減少資産用（提出用）'!AH14))","v":""},"1 ・ 2 ・ 3 ・ 4","1 ・ 2"]
[]
["03",{"$f":"IF('減少資産用（提出用）'!B16=\"\",\"\",('減少資産用（提出用）'!B16))","v":""},{"$f":"IF('減少資産用（提出用）'!C16=\"\",\"\",('減少資産用（提出用）'!C16))","v":""},null,null,null,null,null,null,null,null,null,null,null,{"$f":"IF('減少資産用（提出用）'!O16=\"\",\"\",('減少資産用（提出用）'!O16))","v":""},null,null,null,null,null,null,null,null,null,{"$f":"IF('減少資産用（提出用）'!Y16=\"\",\"\",('減少資産用（提出用）'!Y16))","v":""},{"$f":"IF('減少資産用（提出用）'!Z16=\"\",\"\",('減少資産用（提出用）'!Z16))","v":""},{"$f":"IF('減少資産用（提出用）'!AA16=\"\",\"\",('減少資産用（提出用）'!AA16))","v":""},{"$f":"IF('減少資産用（提出用）'!AB16=\"\",\"\",('減少資産用（提出用）'!AB16))","v":""},{"$f":"IF('減少資産用（提出用）'!AC16=\"\",\"\",('減少資産用（提出用）'!AC16))","v":""},null,null,null,{"$f":"IF('減少資産用（提出用）'!AG16=\"\",\"\",('減少資産用（提出用）'!AG16))","v":""},{"$f":"IF('減少資産用（提出用）'!AH16=\"\",\"\",('減少資産用（提出用）'!AH16))","v":""},"1 ・ 2 ・ 3 ・ 4","1 ・ 2"]
[]
["04",{"$f":"IF('減少資産用（提出用）'!B18=\"\",\"\",('減少資産用（提出用）'!B18))","v":""},{"$f":"IF('減少資産用（提出用）'!C18=\"\",\"\",('減少資産用（提出用）'!C18))","v":""},null,null,null,null,null,null,null,null,null,null,null,{"$f":"IF('減少資産用（提出用）'!O18=\"\",\"\",('減少資産用（提出用）'!O18))","v":""},null,null,null,null,null,null,null,null,null,{"$f":"IF('減少資産用（提出用）'!Y18=\"\",\"\",('減少資産用（提出用）'!Y18))","v":""},{"$f":"IF('減少資産用（提出用）'!Z18=\"\",\"\",('減少資産用（提出用）'!Z18))","v":""},{"$f":"IF('減少資産用（提出用）'!AA18=\"\",\"\",('減少資産用（提出用）'!AA18))","v":""},{"$f":"IF('減少資産用（提出用）'!AB18=\"\",\"\",('減少資産用（提出用）'!AB18))","v":""},{"$f":"IF('減少資産用（提出用）'!AC18=\"\",\"\",('減少資産用（提出用）'!AC18))","v":""},null,null,null,{"$f":"IF('減少資産用（提出用）'!AG18=\"\",\"\",('減少資産用（提出用）'!AG18))","v":""},{"$f":"IF('減少資産用（提出用）'!AH18=\"\",\"\",('減少資産用（提出用）'!AH18))","v":""},"1 ・ 2 ・ 3 ・ 4","1 ・ 2"]
[]
["05",{"$f":"IF('減少資産用（提出用）'!B20=\"\",\"\",('減少資産用（提出用）'!B20))","v":""},{"$f":"IF('減少資産用（提出用）'!C20=\"\",\"\",('減少資産用（提出用）'!C20))","v":""},null,null,null,null,null,null,null,null,null,null,null,{"$f":"IF('減少資産用（提出用）'!O20=\"\",\"\",('減少資産用（提出用）'!O20))","v":""},null,null,null,null,null,null,null,null,null,{"$f":"IF('減少資産用（提出用）'!Y20=\"\",\"\",('減少資産用（提出用）'!Y20))","v":""},{"$f":"IF('減少資産用（提出用）'!Z20=\"\",\"\",('減少資産用（提出用）'!Z20))","v":""},{"$f":"IF('減少資産用（提出用）'!AA20=\"\",\"\",('減少資産用（提出用）'!AA20))","v":""},{"$f":"IF('減少資産用（提出用）'!AB20=\"\",\"\",('減少資産用（提出用）'!AB20))","v":""},{"$f":"IF('減少資産用（提出用）'!AC20=\"\",\"\",('減少資産用（提出用）'!AC20))","v":""},null,null,null,{"$f":"IF('減少資産用（提出用）'!AG20=\"\",\"\",('減少資産用（提出用）'!AG20))","v":""},{"$f":"IF('減少資産用（提出用）'!AH20=\"\",\"\",('減少資産用（提出用）'!AH20))","v":""},"1 ・ 2 ・ 3 ・ 4","1 ・ 2"]
[]
["06",{"$f":"IF('減少資産用（提出用）'!B22=\"\",\"\",('減少資産用（提出用）'!B22))","v":""},{"$f":"IF('減少資産用（提出用）'!C22=\"\",\"\",('減少資産用（提出用）'!C22))","v":""},null,null,null,null,null,null,null,null,null,null,null,{"$f":"IF('減少資産用（提出用）'!O22=\"\",\"\",('減少資産用（提出用）'!O22))","v":""},null,null,null,null,null,null,null,null,null,{"$f":"IF('減少資産用（提出用）'!Y22=\"\",\"\",('減少資産用（提出用）'!Y22))","v":""},{"$f":"IF('減少資産用（提出用）'!Z22=\"\",\"\",('減少資産用（提出用）'!Z22))","v":""},{"$f":"IF('減少資産用（提出用）'!AA22=\"\",\"\",('減少資産用（提出用）'!AA22))","v":""},{"$f":"IF('減少資産用（提出用）'!AB22=\"\",\"\",('減少資産用（提出用）'!AB22))","v":""},{"$f":"IF('減少資産用（提出用）'!AC22=\"\",\"\",('減少資産用（提出用）'!AC22))","v":""},null,null,null,{"$f":"IF('減少資産用（提出用）'!AG22=\"\",\"\",('減少資産用（提出用）'!AG22))","v":""},{"$f":"IF('減少資産用（提出用）'!AH22=\"\",\"\",('減少資産用（提出用）'!AH22))","v":""},"1 ・ 2 ・ 3 ・ 4","1 ・ 2"]
[]
["07",{"$f":"IF('減少資産用（提出用）'!B24=\"\",\"\",('減少資産用（提出用）'!B24))","v":""},{"$f":"IF('減少資産用（提出用）'!C24=\"\",\"\",('減少資産用（提出用）'!C24))","v":""},null,null,null,null,null,null,null,null,null,null,null,{"$f":"IF('減少資産用（提出用）'!O24=\"\",\"\",('減少資産用（提出用）'!O24))","v":""},null,null,null,null,null,null,null,null,null,{"$f":"IF('減少資産用（提出用）'!Y24=\"\",\"\",('減少資産用（提出用）'!Y24))","v":""},{"$f":"IF('減少資産用（提出用）'!Z24=\"\",\"\",('減少資産用（提出用）'!Z24))","v":""},{"$f":"IF('減少資産用（提出用）'!AA24=\"\",\"\",('減少資産用（提出用）'!AA24))","v":""},{"$f":"IF('減少資産用（提出用）'!AB24=\"\",\"\",('減少資産用（提出用）'!AB24))","v":""},{"$f":"IF('減少資産用（提出用）'!AC24=\"\",\"\",('減少資産用（提出用）'!AC24))","v":""},null,null,null,{"$f":"IF('減少資産用（提出用）'!AG24=\"\",\"\",('減少資産用（提出用）'!AG24))","v":""},{"$f":"IF('減少資産用（提出用）'!AH24=\"\",\"\",('減少資産用（提出用）'!AH24))","v":""},"1 ・ 2 ・ 3 ・ 4","1 ・ 2"]
[]
["08",{"$f":"IF('減少資産用（提出用）'!B26=\"\",\"\",('減少資産用（提出用）'!B26))","v":""},{"$f":"IF('減少資産用（提出用）'!C26=\"\",\"\",('減少資産用（提出用）'!C26))","v":""},null,null,null,null,null,null,null,null,null,null,null,{"$f":"IF('減少資産用（提出用）'!O26=\"\",\"\",('減少資産用（提出用）'!O26))","v":""},null,null,null,null,null,null,null,null,null,{"$f":"IF('減少資産用（提出用）'!Y26=\"\",\"\",('減少資産用（提出用）'!Y26))","v":""},{"$f":"IF('減少資産用（提出用）'!Z26=\"\",\"\",('減少資産用（提出用）'!Z26))","v":""},{"$f":"IF('減少資産用（提出用）'!AA26=\"\",\"\",('減少資産用（提出用）'!AA26))","v":""},{"$f":"IF('減少資産用（提出用）'!AB26=\"\",\"\",('減少資産用（提出用）'!AB26))","v":""},{"$f":"IF('減少資産用（提出用）'!AC26=\"\",\"\",('減少資産用（提出用）'!AC26))","v":""},null,null,null,{"$f":"IF('減少資産用（提出用）'!AG26=\"\",\"\",('減少資産用（提出用）'!AG26))","v":""},{"$f":"IF('減少資産用（提出用）'!AH26=\"\",\"\",('減少資産用（提出用）'!AH26))","v":""},"1 ・ 2 ・ 3 ・ 4","1 ・ 2"]
[]
["09",{"$f":"IF('減少資産用（提出用）'!B28=\"\",\"\",('減少資産用（提出用）'!B28))","v":""},{"$f":"IF('減少資産用（提出用）'!C28=\"\",\"\",('減少資産用（提出用）'!C28))","v":""},null,null,null,null,null,null,null,null,null,null,null,{"$f":"IF('減少資産用（提出用）'!O28=\"\",\"\",('減少資産用（提出用）'!O28))","v":""},null,null,null,null,null,null,null,null,null,{"$f":"IF('減少資産用（提出用）'!Y28=\"\",\"\",('減少資産用（提出用）'!Y28))","v":""},{"$f":"IF('減少資産用（提出用）'!Z28=\"\",\"\",('減少資産用（提出用）'!Z28))","v":""},{"$f":"IF('減少資産用（提出用）'!AA28=\"\",\"\",('減少資産用（提出用）'!AA28))","v":""},{"$f":"IF('減少資産用（提出用）'!AB28=\"\",\"\",('減少資産用（提出用）'!AB28))","v":""},{"$f":"IF('減少資産用（提出用）'!AC28=\"\",\"\",('減少資産用（提出用）'!AC28))","v":""},null,null,null,{"$f":"IF('減少資産用（提出用）'!AG28=\"\",\"\",('減少資産用（提出用）'!AG28))","v":""},{"$f":"IF('減少資産用（提出用）'!AH28=\"\",\"\",('減少資産用（提出用）'!AH28))","v":""},"1 ・ 2 ・ 3 ・ 4","1 ・ 2"]
[]
["10",{"$f":"IF('減少資産用（提出用）'!B30=\"\",\"\",('減少資産用（提出用）'!B30))","v":""},{"$f":"IF('減少資産用（提出用）'!C30=\"\",\"\",('減少資産用（提出用）'!C30))","v":""},null,null,null,null,null,null,null,null,null,null,null,{"$f":"IF('減少資産用（提出用）'!O30=\"\",\"\",('減少資産用（提出用）'!O30))","v":""},null,null,null,null,null,null,null,null,null,{"$f":"IF('減少資産用（提出用）'!Y30=\"\",\"\",('減少資産用（提出用）'!Y30))","v":""},{"$f":"IF('減少資産用（提出用）'!Z30=\"\",\"\",('減少資産用（提出用）'!Z30))","v":""},{"$f":"IF('減少資産用（提出用）'!AA30=\"\",\"\",('減少資産用（提出用）'!AA30))","v":""},{"$f":"IF('減少資産用（提出用）'!AB30=\"\",\"\",('減少資産用（提出用）'!AB30))","v":""},{"$f":"IF('減少資産用（提出用）'!AC30=\"\",\"\",('減少資産用（提出用）'!AC30))","v":""},null,null,null,{"$f":"IF('減少資産用（提出用）'!AG30=\"\",\"\",('減少資産用（提出用）'!AG30))","v":""},{"$f":"IF('減少資産用（提出用）'!AH30=\"\",\"\",('減少資産用（提出用）'!AH30))","v":""},"1 ・ 2 ・ 3 ・ 4","1 ・ 2"]
[]
["11",{"$f":"IF('減少資産用（提出用）'!B32=\"\",\"\",('減少資産用（提出用）'!B32))","v":""},{"$f":"IF('減少資産用（提出用）'!C32=\"\",\"\",('減少資産用（提出用）'!C32))","v":""},null,null,null,null,null,null,null,null,null,null,null,{"$f":"IF('減少資産用（提出用）'!O32=\"\",\"\",('減少資産用（提出用）'!O32))","v":""},null,null,null,null,null,null,null,null,null,{"$f":"IF('減少資産用（提出用）'!Y32=\"\",\"\",('減少資産用（提出用）'!Y32))","v":""},{"$f":"IF('減少資産用（提出用）'!Z32=\"\",\"\",('減少資産用（提出用）'!Z32))","v":""},{"$f":"IF('減少資産用（提出用）'!AA32=\"\",\"\",('減少資産用（提出用）'!AA32))","v":""},{"$f":"IF('減少資産用（提出用）'!AB32=\"\",\"\",('減少資産用（提出用）'!AB32))","v":""},{"$f":"IF('減少資産用（提出用）'!AC32=\"\",\"\",('減少資産用（提出用）'!AC32))","v":""},null,null,null,{"$f":"IF('減少資産用（提出用）'!AG32=\"\",\"\",('減少資産用（提出用）'!AG32))","v":""},{"$f":"IF('減少資産用（提出用）'!AH32=\"\",\"\",('減少資産用（提出用）'!AH32))","v":""},"1 ・ 2 ・ 3 ・ 4","1 ・ 2"]
[]
["12",{"$f":"IF('減少資産用（提出用）'!B34=\"\",\"\",('減少資産用（提出用）'!B34))","v":""},{"$f":"IF('減少資産用（提出用）'!C34=\"\",\"\",('減少資産用（提出用）'!C34))","v":""},null,null,null,null,null,null,null,null,null,null,null,{"$f":"IF('減少資産用（提出用）'!O34=\"\",\"\",('減少資産用（提出用）'!O34))","v":""},null,null,null,null,null,null,null,null,null,{"$f":"IF('減少資産用（提出用）'!Y34=\"\",\"\",('減少資産用（提出用）'!Y34))","v":""},{"$f":"IF('減少資産用（提出用）'!Z34=\"\",\"\",('減少資産用（提出用）'!Z34))","v":""},{"$f":"IF('減少資産用（提出用）'!AA34=\"\",\"\",('減少資産用（提出用）'!AA34))","v":""},{"$f":"IF('減少資産用（提出用）'!AB34=\"\",\"\",('減少資産用（提出用）'!AB34))","v":""},{"$f":"IF('減少資産用（提出用）'!AC34=\"\",\"\",('減少資産用（提出用）'!AC34))","v":""},null,null,null,{"$f":"IF('減少資産用（提出用）'!AG34=\"\",\"\",('減少資産用（提出用）'!AG34))","v":""},{"$f":"IF('減少資産用（提出用）'!AH34=\"\",\"\",('減少資産用（提出用）'!AH34))","v":""},"1 ・ 2 ・ 3 ・ 4","1 ・ 2"]
[]
["13",{"$f":"IF('減少資産用（提出用）'!B36=\"\",\"\",('減少資産用（提出用）'!B36))","v":""},{"$f":"IF('減少資産用（提出用）'!C36=\"\",\"\",('減少資産用（提出用）'!C36))","v":""},null,null,null,null,null,null,null,null,null,null,null,{"$f":"IF('減少資産用（提出用）'!O36=\"\",\"\",('減少資産用（提出用）'!O36))","v":""},null,null,null,null,null,null,null,null,null,{"$f":"IF('減少資産用（提出用）'!Y36=\"\",\"\",('減少資産用（提出用）'!Y36))","v":""},{"$f":"IF('減少資産用（提出用）'!Z36=\"\",\"\",('減少資産用（提出用）'!Z36))","v":""},{"$f":"IF('減少資産用（提出用）'!AA36=\"\",\"\",('減少資産用（提出用）'!AA36))","v":""},{"$f":"IF('減少資産用（提出用）'!AB36=\"\",\"\",('減少資産用（提出用）'!AB36))","v":""},{"$f":"IF('減少資産用（提出用）'!AC36=\"\",\"\",('減少資産用（提出用）'!AC36))","v":""},null,null,null,{"$f":"IF('減少資産用（提出用）'!AG36=\"\",\"\",('減少資産用（提出用）'!AG36))","v":""},{"$f":"IF('減少資産用（提出用）'!AH36=\"\",\"\",('減少資産用（提出用）'!AH36))","v":""},"1 ・ 2 ・ 3 ・ 4","1 ・ 2"]
[]
["14",{"$f":"IF('減少資産用（提出用）'!B38=\"\",\"\",('減少資産用（提出用）'!B38))","v":""},{"$f":"IF('減少資産用（提出用）'!C38=\"\",\"\",('減少資産用（提出用）'!C38))","v":""},null,null,null,null,null,null,null,null,null,null,null,{"$f":"IF('減少資産用（提出用）'!O38=\"\",\"\",('減少資産用（提出用）'!O38))","v":""},null,null,null,null,null,null,null,null,null,{"$f":"IF('減少資産用（提出用）'!Y38=\"\",\"\",('減少資産用（提出用）'!Y38))","v":""},{"$f":"IF('減少資産用（提出用）'!Z38=\"\",\"\",('減少資産用（提出用）'!Z38))","v":""},{"$f":"IF('減少資産用（提出用）'!AA38=\"\",\"\",('減少資産用（提出用）'!AA38))","v":""},{"$f":"IF('減少資産用（提出用）'!AB38=\"\",\"\",('減少資産用（提出用）'!AB38))","v":""},{"$f":"IF('減少資産用（提出用）'!AC38=\"\",\"\",('減少資産用（提出用）'!AC38))","v":""},null,null,null,{"$f":"IF('減少資産用（提出用）'!AG38=\"\",\"\",('減少資産用（提出用）'!AG38))","v":""},{"$f":"IF('減少資産用（提出用）'!AH38=\"\",\"\",('減少資産用（提出用）'!AH38))","v":""},"1 ・ 2 ・ 3 ・ 4","1 ・ 2"]
[]
["15",{"$f":"IF('減少資産用（提出用）'!B40=\"\",\"\",('減少資産用（提出用）'!B40))","v":""},{"$f":"IF('減少資産用（提出用）'!C40=\"\",\"\",('減少資産用（提出用）'!C40))","v":""},null,null,null,null,null,null,null,null,null,null,null,{"$f":"IF('減少資産用（提出用）'!O40=\"\",\"\",('減少資産用（提出用）'!O40))","v":""},null,null,null,null,null,null,null,null,null,{"$f":"IF('減少資産用（提出用）'!Y40=\"\",\"\",('減少資産用（提出用）'!Y40))","v":""},{"$f":"IF('減少資産用（提出用）'!Z40=\"\",\"\",('減少資産用（提出用）'!Z40))","v":""},{"$f":"IF('減少資産用（提出用）'!AA40=\"\",\"\",('減少資産用（提出用）'!AA40))","v":""},{"$f":"IF('減少資産用（提出用）'!AB40=\"\",\"\",('減少資産用（提出用）'!AB40))","v":""},{"$f":"IF('減少資産用（提出用）'!AC40=\"\",\"\",('減少資産用（提出用）'!AC40))","v":""},null,null,null,{"$f":"IF('減少資産用（提出用）'!AG40=\"\",\"\",('減少資産用（提出用）'!AG40))","v":""},{"$f":"IF('減少資産用（提出用）'!AH40=\"\",\"\",('減少資産用（提出用）'!AH40))","v":""},"1 ・ 2 ・ 3 ・ 4","1 ・ 2"]
[]
[null,null,null,null,null,null,null,null,null,null,null,null,null,null,null,null,null,null,null,null,null,"小　　計",null,null,null,null,null,null,{"$f":"IF(AC12=\"\",\"\",SUM(AC12:AF41))","v":""}]
[]
[]
[]
[null,null,null,null,null,null,null,null,null,null,null,null,null,null,null,null,null,null,"　　　　　　　　　　　注意　１．太わくの中だけ書いてください。（用紙が不足する場合はコピーしてください。）\n　　　　　　　　　　　　　　　２．「年号」の欄は、３．昭和　４．平成　５.令和となっています。"]
[]
[]
[]
[]
[]
[]
[]
[]
[]
[]
["　※　新規に申告される方は、１～１８のすべての項目について記入してください。"]